BEGIN:VCALENDAR
PRODID:NingEventWidget-v1
VERSION:2.0
METHOD:PUBLISH
BEGIN:VTIMEZONE
TZID:America/New_York
X-LIC-LOCATION:America/New_York
BEGIN:DAYLIGHT
TZOFFSETFROM:-0500
TZOFFSETTO:-0400
TZNAME:EDT
DTSTART:19700308T020000
RRULE:FREQ=YEARLY;BYMONTH=3;BYDAY=2SU
END:DAYLIGHT
BEGIN:STANDARD
TZOFFSETFROM:-0400
TZOFFSETTO:-0500
TZNAME:EST
DTSTART:19701101T020000
RRULE:FREQ=YEARLY;BYMONTH=11;BYDAY=1SU
END:STANDARD
END:VTIMEZONE
BEGIN:VEVENT
UID:2938326:Event:374626
DTSTAMP:20260419T192457Z
SUMMARY:Night Out
DESCRIPTION:‘Night Out’ is a new type of Happy Hour-esqe events fo
 r our LGBT crowd. As always, expect wonderful drink specials and no co
 ver. Even though the guest-list is hidden don’t expect an empty room
  - we'll be promoting this to Members and Non-Members alike. So get re
 ady for a great time filled with laughter, clinking glasses, friendly 
 faces, and future friends. Who should attend: Members and Non-Members 
 who are 21-39 years old and lesbian, gay, bisexual, or transgender. Co
 st: NONE! To attend RSVP on our website or  What to expect: Our events
  are very casual. There are no sign-in tables, no name tags, and no ic
 e breakers. Expect people to walk up to you to introduce themselves an
 d feel free to walk up to others who you do not know. Newbies are at E
 VERY NJYP event so if this is your first, you won't be alone. Drink Sp
 ecials until 8pm: $5 Voli Lyte Vodka Drinks $4 Michelob Ultra Lite Bee
 rs Directions/Parking: http://www.glonj.com/ Street parking and deck p
 arking. http://www.njnbpa.org/parking-locator/\n\nFor more information
  visit http://njyp.org/events/night-out
DTSTART;TZID=America/New_York:20120926T190000
DTEND;TZID=America/New_York:20120926T210000
CATEGORIES:"middlesex county", social, lgbt
LOCATION:Glo Lounge
WEBSITE:http://glonj.com/
URL:http://glonj.com/
CONTACT:
ORGANIZER;CN="Brian and Mike":http://njyp.org/profile/BrianMike
ATTACH;FMTTYPE="image/jpeg":http://storage.ning.com/topology/rest/1.0/
 file/get/1088802205?profile=original
ATTENDEE;ROLE=REQ-PARTICIPANT;PARTSTAT=ACCEPTED;RSVP=TRUE;CN=Nidhi:htt
 p://njyp.org/profile/Nidhi
ATTENDEE;ROLE=REQ-PARTICIPANT;PARTSTAT=ACCEPTED;RSVP=TRUE;CN=Adraea:ht
 tp://njyp.org/profile/Adraea
ATTENDEE;ROLE=REQ-PARTICIPANT;PARTSTAT=ACCEPTED;RSVP=TRUE;CN=Trevor:ht
 tp://njyp.org/profile/Trevor
ATTENDEE;ROLE=REQ-PARTICIPANT;PARTSTAT=ACCEPTED;RSVP=TRUE;CN="Brian an
 d Mike":http://njyp.org/profile/BrianMike
ATTENDEE;ROLE=REQ-PARTICIPANT;PARTSTAT=TENTATIVE;RSVP=TRUE;CN=Kevin:ht
 tp://njyp.org/profile/Kevin84
END:VEVENT
END:VCALENDAR
