BEGIN:VCALENDAR
PRODID:NingEventWidget-v1
VERSION:2.0
METHOD:PUBLISH
BEGIN:VTIMEZONE
TZID:America/New_York
X-LIC-LOCATION:America/New_York
BEGIN:DAYLIGHT
TZOFFSETFROM:-0500
TZOFFSETTO:-0400
TZNAME:EDT
DTSTART:19700308T020000
RRULE:FREQ=YEARLY;BYMONTH=3;BYDAY=2SU
END:DAYLIGHT
BEGIN:STANDARD
TZOFFSETFROM:-0400
TZOFFSETTO:-0500
TZNAME:EST
DTSTART:19701101T020000
RRULE:FREQ=YEARLY;BYMONTH=11;BYDAY=1SU
END:STANDARD
END:VTIMEZONE
BEGIN:VEVENT
UID:2938326:Event:663045
DTSTAMP:20260420T004417Z
SUMMARY:NJ Spring Wine Festival (sponsored)
DESCRIPTION:\n\nNew York Wine Events hosts the 8th Annual New Jerse
 y Spring Wine Festival on Friday, April 24 from 7-10pm at the H
 ilton Short Hills, recipient of  TripAdvisor’s acclaimed Certifica
 te of Excellence Award. Taste 150+ wines selected by the experts of 
 the Wine Library!  \nEnjoy…\n\n150+ full-bodied reds, crisp white
 s, & specialty wines from all over the world  -- awesome picks for S
 pring & Summer!\n\n\n\n\nLight fare by the Hilton's AAA 4-Diamond awar
 d-winning chefs  & tasty bites from artisan food companies sampling t
 heir offerings (+ selling items to take home & savor later)\n\n\n\nLiv
 e contemporary jazz from award winning saxophonist Elan Trotman.\n\n\n
 \n\nA custom etched wine glass that's yours to keep after the event.\n
 \n\n\n\nThe company of other fun wine lovers as you celebrate the long
 -awaited spring!\n\n\n\n\nNEW! VIP Suite Ticket Option \n\n\nUpgrade y
 our ticket to include the VIP Suite. Sip like a celebrity, enjoying 1
 2 high-end wine selections from all over the world & exclusive passe
 d hors d’oeuvres. Limited to 50 guests so reserve now. See site for 
 complete details.\n\n\n\nStay the Night… \nThe Hilton Short Hills i
 s offering festival attendees a special discounted rate of $159/night
 . (Use code: SWF)  CALL 973-379-0100 to reserve your room now!\nYou
  must be 21 or older to attend.\n\nCost:\nTake 10% off the prices belo
 w – USE CODE: NJYP10 when purchasing your ticket!\n\n\n\nStandard:
  $79  Final Week: $89  VIP Suite: $179 (also includes main tasting)\n\
 n\n\n\n\nVisit NewYorkWineEvents.com for details & tickets!\nQuestio
 ns? Email info@newyorkwineevents.com\n\n\n\n\nFor more information vi
 sit http://njyp.org/events/nj-spring-wine-festival-sponsored
DTSTART;TZID=America/New_York:20150424T190000
DTEND;TZID=America/New_York:20150424T220000
CATEGORIES:"essex county", social, winefest
LOCATION:Hilton Short Hills
WEBSITE:http://www.newyorkwineevents.com/events/new-jersey-winter-wine
 -festival-iii/
URL:http://www.newyorkwineevents.com/events/new-jersey-winter-wine-fes
 tival-iii/
CONTACT:
ORGANIZER;CN="Brian and Mike":http://njyp.org/profile/BrianMike
ATTACH;FMTTYPE="image/jpeg":http://storage.ning.com/topology/rest/1.0/
 file/get/1089053311?profile=original
ATTENDEE;ROLE=REQ-PARTICIPANT;PARTSTAT=ACCEPTED;RSVP=TRUE;CN=Noelia:ht
 tp://njyp.org/profile/Noelia
ATTENDEE;ROLE=REQ-PARTICIPANT;PARTSTAT=ACCEPTED;RSVP=TRUE;CN=Michelle:
 http://njyp.org/profile/Michelle50
ATTENDEE;ROLE=REQ-PARTICIPANT;PARTSTAT=ACCEPTED;RSVP=TRUE;CN=Monesh:ht
 tp://njyp.org/profile/Monesh
ATTENDEE;ROLE=REQ-PARTICIPANT;PARTSTAT=ACCEPTED;RSVP=TRUE;CN="Brian an
 d Mike":http://njyp.org/profile/BrianMike
ATTENDEE;ROLE=REQ-PARTICIPANT;PARTSTAT=TENTATIVE;RSVP=TRUE;CN=Joe:http
 ://njyp.org/profile/Joe245
ATTENDEE;ROLE=REQ-PARTICIPANT;PARTSTAT=TENTATIVE;RSVP=TRUE;CN=Jennifer
 :http://njyp.org/profile/Jennifer448
ATTENDEE;ROLE=REQ-PARTICIPANT;PARTSTAT=TENTATIVE;RSVP=TRUE;CN=Kenisha:
 http://njyp.org/profile/Kenisha
END:VEVENT
END:VCALENDAR
