BEGIN:VCALENDAR
PRODID:NingEventWidget-v1
VERSION:2.0
METHOD:PUBLISH
BEGIN:VTIMEZONE
TZID:America/New_York
X-LIC-LOCATION:America/New_York
BEGIN:DAYLIGHT
TZOFFSETFROM:-0500
TZOFFSETTO:-0400
TZNAME:EDT
DTSTART:19700308T020000
RRULE:FREQ=YEARLY;BYMONTH=3;BYDAY=2SU
END:DAYLIGHT
BEGIN:STANDARD
TZOFFSETFROM:-0400
TZOFFSETTO:-0500
TZNAME:EST
DTSTART:19701101T020000
RRULE:FREQ=YEARLY;BYMONTH=11;BYDAY=1SU
END:STANDARD
END:VTIMEZONE
BEGIN:VEVENT
UID:2938326:Event:516737
DTSTAMP:20260420T004522Z
SUMMARY:NJ Winter Wine Festival (sponsored)
DESCRIPTION:New Jersey Wine Festivals is pleased to invite you to our
  2nd Annual Winter Wine Festival on Friday, February 21, 2014, a
 t the Hilton Short Hills, New Jersey’s Premier Urban Resort.\n\nRai
 se a glass and warm up with us at this special winter tasting... feat
 uring amazing wines, delicious light bites, a super crowd of wine-love
 rs, PLUS cool contemporary live jazz!\n\nEnjoy 150+ Curated Wines at o
 ur Exciting Winter Wine Event...\n• Taste a wide variety of differen
 t wines selected by the experts of the Wine Library • Cleanse your p
 alate with delicious hors d’oeuvres • Get tasting tips directly fr
 om the experts at each tasting table  • Learn about wine and food p
 airings, finding great values, and selecting the right vintage • Int
 eract with top wine connoisseurs at an optional, informative private c
 lass during the event • Enjoy LIVE contemporary jazz from guitarist 
 JJ Sansaverino and his band... adding a cool musical vibe to the festi
 ve atmosphere\n\nWINE & FOOD: Taste over 150 wines  -- something 
 for every palate’s pleasure. As an accompaniment to the wine, the Hi
 lton's AAA Four Diamondaward winning culinary experts will provide
  a first class selection of hors d'oeuvres, antipasto, pasta, cheese,
  and breads.  Plus, there will be an assortment of specialty food v
 endors sampling their products.  Recently these have included: gour
 met nuts, pate and terrines, award winning bakeries, chocolate, jams, 
 and more.\n\nWINE CLASSES: Two (2) wine classes will be held in our 
 special tasting area at 7:30PM and 8:30PM.  An expert instructor wil
 l conduct a side-by-side tasting of 5 special wines, explaining grape 
 varietal origins and providing tasting notes for each. Class cost is a
 n additional $25 per person and advance reservations must be made on
 line or by phone during ticket purchase. This is an opportunity to att
 end a 30-40 minute small group session during the event to expand you
 r knowledge of wine.  Class sizes are limited so be sure to RESERV
 E EARLY! \n\nMUSIC: Enjoy world-class contemporary jazz from guitar
 ist JJ Sansaverino and his band.\n\nDISCOUNT HOTEL ROOMS:  Enjoy a
 n overnight stay at a  rate of $159/night. Use promo code “WWF” w
 hen calling (973) 379-0100 to reserve.\n\nCHARITY: A portion of the
  proceeds from this event go to event co-host Family Promise of Bergen
  County, an outstanding organization dedicated to alleviating the plig
 ht of the homeless in Bergen County.\n\n(NOTE: You must be 21 or older
  to attend this event)\n\n ***** Cost:  Take 10% Off the prices belo
 w – USE CODE: NJYP when purchasing your ticket *****\nStandard Admis
 sion: $79 Final 2 Weeks: $89\n\nAdd a wine class - additional $25 fee 
 applies\n\nTickets: https://web.ovationtix.com/trs/pe/9833989  or c
 all 866-811-4111\n\nQuestions? Email: info@newjerseywinefestivals.c
 om \n\nFor more information visit http://njyp.org/events/nj-winter-wi
 ne-festival
DTSTART;TZID=America/New_York:20140221T190000
DTEND;TZID=America/New_York:20140221T220000
CATEGORIES:"essex county", social, "promo code"
LOCATION:Hilton Short Hills
WEBSITE:http://newjerseywinefestivals.com/events/2014_winter_wine_fest
 ival/?utm_source=NJYP&utm_medium=online%20ad&utm_campaign=NJYP
URL:http://newjerseywinefestivals.com/events/2014_winter_wine_festival
 /?utm_source=NJYP&utm_medium=online%20ad&utm_campaign=NJYP
CONTACT:866-811-4111
ORGANIZER;CN="Brian and Mike":http://njyp.org/profile/BrianMike
ATTACH;FMTTYPE="image/jpeg":http://storage.ning.com/topology/rest/1.0/
 file/get/1088931912?profile=original
ATTENDEE;ROLE=REQ-PARTICIPANT;PARTSTAT=ACCEPTED;RSVP=TRUE;CN=Kelley:ht
 tp://njyp.org/profile/KelleyBoyle
ATTENDEE;ROLE=REQ-PARTICIPANT;PARTSTAT=ACCEPTED;RSVP=TRUE;CN="Nicole F
 ulmino":http://njyp.org/profile/NicoleFulmino
ATTENDEE;ROLE=REQ-PARTICIPANT;PARTSTAT=ACCEPTED;RSVP=TRUE;CN="Brian an
 d Mike":http://njyp.org/profile/BrianMike
ATTENDEE;ROLE=REQ-PARTICIPANT;PARTSTAT=TENTATIVE;RSVP=TRUE;CN=Erik:htt
 p://njyp.org/profile/Erik516
ATTENDEE;ROLE=REQ-PARTICIPANT;PARTSTAT=TENTATIVE;RSVP=TRUE;CN="Marisa 
 Nogueira":http://njyp.org/profile/Marisa
ATTENDEE;ROLE=REQ-PARTICIPANT;PARTSTAT=TENTATIVE;RSVP=TRUE;CN="Monica 
 Johnson":http://njyp.org/profile/MonicaJohnson
ATTENDEE;ROLE=REQ-PARTICIPANT;PARTSTAT=TENTATIVE;RSVP=TRUE;CN=Caela:ht
 tp://njyp.org/profile/Caela
ATTENDEE;ROLE=REQ-PARTICIPANT;PARTSTAT=TENTATIVE;RSVP=TRUE;CN=Nat:http
 ://njyp.org/profile/NAt
ATTENDEE;ROLE=REQ-PARTICIPANT;PARTSTAT=TENTATIVE;RSVP=TRUE;CN=Chuck:ht
 tp://njyp.org/profile/Chuck948
ATTENDEE;ROLE=REQ-PARTICIPANT;PARTSTAT=TENTATIVE;RSVP=TRUE;CN=Rena:htt
 p://njyp.org/profile/Rena818
END:VEVENT
END:VCALENDAR
