BEGIN:VCALENDAR
PRODID:NingEventWidget-v1
VERSION:2.0
METHOD:PUBLISH
BEGIN:VTIMEZONE
TZID:America/New_York
X-LIC-LOCATION:America/New_York
BEGIN:DAYLIGHT
TZOFFSETFROM:-0500
TZOFFSETTO:-0400
TZNAME:EDT
DTSTART:19700308T020000
RRULE:FREQ=YEARLY;BYMONTH=3;BYDAY=2SU
END:DAYLIGHT
BEGIN:STANDARD
TZOFFSETFROM:-0400
TZOFFSETTO:-0500
TZNAME:EST
DTSTART:19701101T020000
RRULE:FREQ=YEARLY;BYMONTH=11;BYDAY=1SU
END:STANDARD
END:VTIMEZONE
BEGIN:VEVENT
UID:2938326:Event:518051
DTSTAMP:20260419T235726Z
SUMMARY:NJYGP Coffee Talk: New Brunswick
DESCRIPTION:New Jersey Young Gay Professionals is a sister organizati
 on to New Jersey Young Professionals.  Please register for this event
  onhttp://www.NJYGP.org.\n\nFor more information visit http://njyp.org
 /events/njygp-coffee-talk-new-brunswick
DTSTART;TZID=America/New_York:20140313T190000
DTEND;TZID=America/New_York:20140313T210000
CATEGORIES:"middlesex county", social, njygp
LOCATION:Hidden Grounds
WEBSITE:http://www.thehiddengrounds.com/
URL:http://www.thehiddengrounds.com/
CONTACT:
ORGANIZER;CN="Brian and Mike":http://njyp.org/profile/BrianMike
ATTACH;FMTTYPE="image/jpeg":http://storage.ning.com/topology/rest/1.0/
 file/get/1088897135?profile=original
ATTENDEE;ROLE=REQ-PARTICIPANT;PARTSTAT=ACCEPTED;RSVP=TRUE;CN="Brian an
 d Mike":http://njyp.org/profile/BrianMike
END:VEVENT
END:VCALENDAR
