BEGIN:VCALENDAR
PRODID:NingEventWidget-v1
VERSION:2.0
METHOD:PUBLISH
BEGIN:VTIMEZONE
TZID:America/New_York
X-LIC-LOCATION:America/New_York
BEGIN:DAYLIGHT
TZOFFSETFROM:-0500
TZOFFSETTO:-0400
TZNAME:EDT
DTSTART:19700308T020000
RRULE:FREQ=YEARLY;BYMONTH=3;BYDAY=2SU
END:DAYLIGHT
BEGIN:STANDARD
TZOFFSETFROM:-0400
TZOFFSETTO:-0500
TZNAME:EST
DTSTART:19701101T020000
RRULE:FREQ=YEARLY;BYMONTH=11;BYDAY=1SU
END:STANDARD
END:VTIMEZONE
BEGIN:VEVENT
UID:2938326:Event:732245
DTSTAMP:20260420T234516Z
SUMMARY:NJYP Fall Fest in New Brunswick
DESCRIPTION:\r\nMember Cost: $6 online, $10 at door\r\nNon-Member Cost
 : $10 online, $15 at the door.\r\nJoin us for our Fall Fest! Party wi
 th fellow young professionals at the sexy Glo lounge in New Brunswick.
  Enjoy drink specials and music, and see where the night takes you!\r\
 nSpecials: $5 mixed drinks, $4 domestics\r\n  \r\nThere are a limit
 ed number of Tickets for sale. Tickets are not mailed, but your name w
 ill be kept at the door. All sales are final, with no refunds or excha
 nges.\r\n What to wear: Smart casual\r\n\n\nFor more information visit
  http://njyp.org/events/njyp-fall-fest-in-new-brunswick
DTSTART;TZID=America/New_York:20171006T200000
DTEND;TZID=America/New_York:20171006T220000
CATEGORIES:"middlesex county", social, summer, fest, party, new, bruns
 wick, costume
LOCATION:Glo
WEBSITE:
URL:
CONTACT:
ORGANIZER;CN="Michael Park":http://njyp.org/profile/MichaelPark
ATTACH;FMTTYPE="image/jpeg":http://storage.ning.com/topology/rest/1.0/
 file/get/1089156765?profile=original
ATTENDEE;ROLE=REQ-PARTICIPANT;PARTSTAT=ACCEPTED;RSVP=TRUE;CN=Jerry:htt
 p://njyp.org/profile/Jerry299
ATTENDEE;ROLE=REQ-PARTICIPANT;PARTSTAT=ACCEPTED;RSVP=TRUE;CN=Joe:http:
 //njyp.org/profile/Joe245
ATTENDEE;ROLE=REQ-PARTICIPANT;PARTSTAT=ACCEPTED;RSVP=TRUE;CN="Brian Me
 lnick":http://njyp.org/profile/Brian1218
ATTENDEE;ROLE=REQ-PARTICIPANT;PARTSTAT=ACCEPTED;RSVP=TRUE;CN="Jeffrey 
 Key":http://njyp.org/profile/JeffreyKey
ATTENDEE;ROLE=REQ-PARTICIPANT;PARTSTAT=ACCEPTED;RSVP=TRUE;CN=Nafees:ht
 tp://njyp.org/profile/Nafees
ATTENDEE;ROLE=REQ-PARTICIPANT;PARTSTAT=ACCEPTED;RSVP=TRUE;CN="Michael 
 Park":http://njyp.org/profile/MichaelPark
ATTENDEE;ROLE=REQ-PARTICIPANT;PARTSTAT=TENTATIVE;RSVP=TRUE;CN=Ivan:htt
 p://njyp.org/profile/Ivan236
ATTENDEE;ROLE=REQ-PARTICIPANT;PARTSTAT=TENTATIVE;RSVP=TRUE;CN=Marie:ht
 tp://njyp.org/profile/Marie810
ATTENDEE;ROLE=REQ-PARTICIPANT;PARTSTAT=TENTATIVE;RSVP=TRUE;CN=Diana:ht
 tp://njyp.org/profile/Diana437
ATTENDEE;ROLE=REQ-PARTICIPANT;PARTSTAT=TENTATIVE;RSVP=TRUE;CN=Dan:http
 ://njyp.org/profile/Dan218
ATTENDEE;ROLE=REQ-PARTICIPANT;PARTSTAT=TENTATIVE;RSVP=TRUE;CN=Jennifer
 :http://njyp.org/profile/Jennifer311
ATTENDEE;ROLE=REQ-PARTICIPANT;PARTSTAT=TENTATIVE;RSVP=TRUE;CN=Lindsay:
 http://njyp.org/profile/Lindsay67
ATTENDEE;ROLE=REQ-PARTICIPANT;PARTSTAT=TENTATIVE;RSVP=TRUE;CN=Stacey:h
 ttp://njyp.org/profile/Stacey2620
END:VEVENT
END:VCALENDAR
