BEGIN:VCALENDAR
PRODID:NingEventWidget-v1
VERSION:2.0
METHOD:PUBLISH
BEGIN:VTIMEZONE
TZID:America/New_York
X-LIC-LOCATION:America/New_York
BEGIN:DAYLIGHT
TZOFFSETFROM:-0500
TZOFFSETTO:-0400
TZNAME:EDT
DTSTART:19700308T020000
RRULE:FREQ=YEARLY;BYMONTH=3;BYDAY=2SU
END:DAYLIGHT
BEGIN:STANDARD
TZOFFSETFROM:-0400
TZOFFSETTO:-0500
TZNAME:EST
DTSTART:19701101T020000
RRULE:FREQ=YEARLY;BYMONTH=11;BYDAY=1SU
END:STANDARD
END:VTIMEZONE
BEGIN:VEVENT
UID:2938326:Event:108763
DTSTAMP:20260421T041319Z
SUMMARY:NJYP Talent: Gerry Perlinski
DESCRIPTION:Fellow NJYP Member Gerry Perlinski will be performing in H
 oboken and we are going to support him! He is a singer, songwriter, an
 d overall local rock star who anyone can enjoy. Intrigued? Then join u
 s for an evening of good music, cold drinks, and local young professio
 nals. Gary goes on at 9:45 but we are going to meet a little early to 
 get settled and listen to others perform.\n\nCost:\nNo cover! Just RSV
 P so we know you are coming. Select tables will be saved for NJYPers.\
 n\nAdditional Information:\nhttp://www.njyp.org/profile/GPDezine29\nht
 tp://gerryperlinski.com/\n\nNJYP Host:\nThanks to Erica for hosting. h
 ttp://www.njyp.org/xn/detail/u_1no0efnxavpa8\n\nHow to Find Us:\nLook 
 for a sign. We will have 1-2 tables, depending on how many sign up.\n\
 nDirections:\nhttp://www.northernsoulbar.com/\n\nFor more information 
 visit http://njyp.org/events/njyp-talent-gerry-perlinski
DTSTART;TZID=America/New_York:20101104T210000
DTEND;TZID=America/New_York:20101104T230000
CATEGORIES:"hudson county", social, arts
LOCATION:Northern Soul
WEBSITE:http://www.northernsoulbar.com/
URL:http://www.northernsoulbar.com/
CONTACT:
ORGANIZER;CN="Brian and Mike":http://njyp.org/profile/BrianMike
ATTACH;FMTTYPE="image/jpeg":http://storage.ning.com/topology/rest/1.0/
 file/get/1088650056?profile=original
ATTENDEE;ROLE=REQ-PARTICIPANT;PARTSTAT=ACCEPTED;RSVP=TRUE;CN=Tamara:ht
 tp://njyp.org/profile/Tamara227
ATTENDEE;ROLE=REQ-PARTICIPANT;PARTSTAT=ACCEPTED;RSVP=TRUE;CN=Eric:http
 ://njyp.org/profile/Eric884
ATTENDEE;ROLE=REQ-PARTICIPANT;PARTSTAT=ACCEPTED;RSVP=TRUE;CN=Gerry:htt
 p://njyp.org/profile/GPDezine29
ATTENDEE;ROLE=REQ-PARTICIPANT;PARTSTAT=ACCEPTED;RSVP=TRUE;CN=Erica:htt
 p://njyp.org/profile/Erica
ATTENDEE;ROLE=REQ-PARTICIPANT;PARTSTAT=TENTATIVE;RSVP=TRUE;CN=Luke:htt
 p://njyp.org/profile/Luke
ATTENDEE;ROLE=REQ-PARTICIPANT;PARTSTAT=TENTATIVE;RSVP=TRUE;CN="Jennife
 r Redmond":http://njyp.org/profile/JenniferRedmond
ATTENDEE;ROLE=REQ-PARTICIPANT;PARTSTAT=TENTATIVE;RSVP=TRUE;CN=Jeff:htt
 p://njyp.org/profile/Jeff203
ATTENDEE;ROLE=REQ-PARTICIPANT;PARTSTAT=TENTATIVE;RSVP=TRUE;CN="james m
 ikusi":http://njyp.org/profile/jimbox
END:VEVENT
END:VCALENDAR
