BEGIN:VCALENDAR
PRODID:NingEventWidget-v1
VERSION:2.0
METHOD:PUBLISH
BEGIN:VTIMEZONE
TZID:America/New_York
X-LIC-LOCATION:America/New_York
BEGIN:DAYLIGHT
TZOFFSETFROM:-0500
TZOFFSETTO:-0400
TZNAME:EDT
DTSTART:19700308T020000
RRULE:FREQ=YEARLY;BYMONTH=3;BYDAY=2SU
END:DAYLIGHT
BEGIN:STANDARD
TZOFFSETFROM:-0400
TZOFFSETTO:-0500
TZNAME:EST
DTSTART:19701101T020000
RRULE:FREQ=YEARLY;BYMONTH=11;BYDAY=1SU
END:STANDARD
END:VTIMEZONE
BEGIN:VEVENT
UID:2938326:Event:105763
DTSTAMP:20260420T092247Z
SUMMARY:NYC Happy Hour
DESCRIPTION:Meet. Greet. Mix. Mingle. We are hitting up Katwalk for ou
 r NYC Happy Hour. Amongst the drink specials you will find others who 
 live in New Jersey but work in New York. Share stories about your comm
 ute, find a lunch buddy, or just make new after-work friends.\n\nWho s
 hould attend:\nAnyone who is a Member of NJYP. There is no cover charg
 e.\nPlease just RSVP (to the right) so we have a headcount.\n\nWhat to
  expect:\nOur Happy Hours are very casual. There are no sign-in tables
 , no name tags, and no ice breakers. Expect people to walk up to you t
 o introduce themselves and feel free to walk up to others who you do n
 ot know. Newbies are at EVERY NJYP event so if this is your first, you
  won't be alone.\n\nDress Code:\nNone\n\nHost:\nDr.Kevin is hosting.\n
 \nHow to Find the Group:\nWe are going to take over the cluster of hig
 h-top tables that are by the front windows.\n\nDirections:\nhttp://www
 .katwalknyc.com/directions.htm\n\nFor more information visit http://nj
 yp.org/events/nyc-happy-hour-1
DTSTART;TZID=America/New_York:20101020T183000
DTEND;TZID=America/New_York:20101020T203000
CATEGORIES:"hudson county", social
LOCATION:Katwalk
WEBSITE:http://www.katwalknyc.com/directions.htm
URL:http://www.katwalknyc.com/directions.htm
CONTACT:
ORGANIZER;CN="Brian and Mike":http://njyp.org/profile/BrianMike
ATTACH;FMTTYPE="image/jpeg":http://storage.ning.com/topology/rest/1.0/
 file/get/1088648081?profile=original
ATTENDEE;ROLE=REQ-PARTICIPANT;PARTSTAT=ACCEPTED;RSVP=TRUE;CN="Shahrooz
  Bhopti":http://njyp.org/profile/speedlike
ATTENDEE;ROLE=REQ-PARTICIPANT;PARTSTAT=ACCEPTED;RSVP=TRUE;CN=Abby:http
 ://njyp.org/profile/Abby
ATTENDEE;ROLE=REQ-PARTICIPANT;PARTSTAT=ACCEPTED;RSVP=TRUE;CN=Jeremy:ht
 tp://njyp.org/profile/Jeremy729
ATTENDEE;ROLE=REQ-PARTICIPANT;PARTSTAT=ACCEPTED;RSVP=TRUE;CN="Zia A.":
 http://njyp.org/profile/ZiaAlKhalil
ATTENDEE;ROLE=REQ-PARTICIPANT;PARTSTAT=ACCEPTED;RSVP=TRUE;CN="james mi
 kusi":http://njyp.org/profile/jimbox
ATTENDEE;ROLE=REQ-PARTICIPANT;PARTSTAT=ACCEPTED;RSVP=TRUE;CN=Sara:http
 ://njyp.org/profile/SaraLevenstein
ATTENDEE;ROLE=REQ-PARTICIPANT;PARTSTAT=ACCEPTED;RSVP=TRUE;CN=Maris:htt
 p://njyp.org/profile/Maris
ATTENDEE;ROLE=REQ-PARTICIPANT;PARTSTAT=ACCEPTED;RSVP=TRUE;CN=Hayley:ht
 tp://njyp.org/profile/Hayley
ATTENDEE;ROLE=REQ-PARTICIPANT;PARTSTAT=ACCEPTED;RSVP=TRUE;CN=Jeff:http
 ://njyp.org/profile/Jeff203
ATTENDEE;ROLE=REQ-PARTICIPANT;PARTSTAT=ACCEPTED;RSVP=TRUE;CN="Hank McA
 larney":http://njyp.org/profile/HankMcAlarney
ATTENDEE;ROLE=REQ-PARTICIPANT;PARTSTAT=ACCEPTED;RSVP=TRUE;CN=Rob:http:
 //njyp.org/profile/RobertSens
ATTENDEE;ROLE=REQ-PARTICIPANT;PARTSTAT=ACCEPTED;RSVP=TRUE;CN=Shyam:htt
 p://njyp.org/profile/Shyam
ATTENDEE;ROLE=REQ-PARTICIPANT;PARTSTAT=ACCEPTED;RSVP=TRUE;CN=Andrea:ht
 tp://njyp.org/profile/DrayaLisa
ATTENDEE;ROLE=REQ-PARTICIPANT;PARTSTAT=ACCEPTED;RSVP=TRUE;CN="Dr. Kevi
 n":http://njyp.org/profile/KevinBrennan
ATTENDEE;ROLE=REQ-PARTICIPANT;PARTSTAT=ACCEPTED;RSVP=TRUE;CN="Brian an
 d Mike":http://njyp.org/profile/BrianMike
ATTENDEE;ROLE=REQ-PARTICIPANT;PARTSTAT=TENTATIVE;RSVP=TRUE;CN=Greg:htt
 p://njyp.org/profile/Greg432
ATTENDEE;ROLE=REQ-PARTICIPANT;PARTSTAT=TENTATIVE;RSVP=TRUE;CN="Jamie K
 ":http://njyp.org/profile/JamieK
ATTENDEE;ROLE=REQ-PARTICIPANT;PARTSTAT=TENTATIVE;RSVP=TRUE;CN="Amanda 
 Tarrant":http://njyp.org/profile/AmandaTarrant
ATTENDEE;ROLE=REQ-PARTICIPANT;PARTSTAT=TENTATIVE;RSVP=TRUE;CN=Remi:htt
 p://njyp.org/profile/Remi
ATTENDEE;ROLE=REQ-PARTICIPANT;PARTSTAT=TENTATIVE;RSVP=TRUE;CN="Monica 
 Johnson":http://njyp.org/profile/MonicaJohnson
ATTENDEE;ROLE=REQ-PARTICIPANT;PARTSTAT=TENTATIVE;RSVP=TRUE;CN=Carolyn:
 http://njyp.org/profile/Carolyn182
ATTENDEE;ROLE=REQ-PARTICIPANT;PARTSTAT=TENTATIVE;RSVP=TRUE;CN=Meredith
 :http://njyp.org/profile/Meredith812
ATTENDEE;ROLE=REQ-PARTICIPANT;PARTSTAT=TENTATIVE;RSVP=TRUE;CN="Abayomi
  Soyeju":http://njyp.org/profile/AbayomiSoyeju
ATTENDEE;ROLE=REQ-PARTICIPANT;PARTSTAT=TENTATIVE;RSVP=TRUE;CN=Antoinet
 te:http://njyp.org/profile/Antoinette
ATTENDEE;ROLE=REQ-PARTICIPANT;PARTSTAT=TENTATIVE;RSVP=TRUE;CN="Serena 
 Arrabito":http://njyp.org/profile/SerenaArrabito
ATTENDEE;ROLE=REQ-PARTICIPANT;PARTSTAT=TENTATIVE;RSVP=TRUE;CN=Kimberly
 :http://njyp.org/profile/Kimberly
ATTENDEE;ROLE=REQ-PARTICIPANT;PARTSTAT=TENTATIVE;RSVP=TRUE;CN=Nathan:h
 ttp://njyp.org/profile/NathanMcMillan
ATTENDEE;ROLE=REQ-PARTICIPANT;PARTSTAT=TENTATIVE;RSVP=TRUE;CN="Laura L
 abriola":http://njyp.org/profile/LauraLabriola
ATTENDEE;ROLE=REQ-PARTICIPANT;PARTSTAT=TENTATIVE;RSVP=TRUE;CN=Eileen:h
 ttp://njyp.org/profile/Eileen589
ATTENDEE;ROLE=REQ-PARTICIPANT;PARTSTAT=TENTATIVE;RSVP=TRUE;CN=Lizzie:h
 ttp://njyp.org/profile/ElizabethKuhns
ATTENDEE;ROLE=REQ-PARTICIPANT;PARTSTAT=TENTATIVE;RSVP=TRUE;CN="Kevin H
 aughwout":http://njyp.org/profile/KevinHaughwout
ATTENDEE;ROLE=REQ-PARTICIPANT;PARTSTAT=TENTATIVE;RSVP=TRUE;CN=Jennifer
 :http://njyp.org/profile/Jennifer524
ATTENDEE;ROLE=REQ-PARTICIPANT;PARTSTAT=TENTATIVE;RSVP=TRUE;CN=Dar:http
 ://njyp.org/profile/Darlene
ATTENDEE;ROLE=REQ-PARTICIPANT;PARTSTAT=TENTATIVE;RSVP=TRUE;CN=Will:htt
 p://njyp.org/profile/William
ATTENDEE;ROLE=REQ-PARTICIPANT;PARTSTAT=TENTATIVE;RSVP=TRUE;CN="Ed H":h
 ttp://njyp.org/profile/EdH
ATTENDEE;ROLE=REQ-PARTICIPANT;PARTSTAT=TENTATIVE;RSVP=TRUE;CN=Jen:http
 ://njyp.org/profile/JenS
END:VEVENT
END:VCALENDAR
