BEGIN:VCALENDAR
PRODID:NingEventWidget-v1
VERSION:2.0
METHOD:PUBLISH
BEGIN:VTIMEZONE
TZID:America/New_York
X-LIC-LOCATION:America/New_York
BEGIN:DAYLIGHT
TZOFFSETFROM:-0500
TZOFFSETTO:-0400
TZNAME:EDT
DTSTART:19700308T020000
RRULE:FREQ=YEARLY;BYMONTH=3;BYDAY=2SU
END:DAYLIGHT
BEGIN:STANDARD
TZOFFSETFROM:-0400
TZOFFSETTO:-0500
TZNAME:EST
DTSTART:19701101T020000
RRULE:FREQ=YEARLY;BYMONTH=11;BYDAY=1SU
END:STANDARD
END:VTIMEZONE
BEGIN:VEVENT
UID:2938326:Event:2105
DTSTAMP:20260420T042648Z
SUMMARY:One, Two, Three, FOUR More Years
DESCRIPTION:An evening in support of Governor Jon Corzine\n\nACOUSTIC 
 PERFORMANCE BY JON BON JOVI\n\nTickets are distributed on a first-come
 , first-serve basis by ticket level (not by seat section).\n\n$3,400 T
 icket (Host-Committee Member): First Four Rows, Center Seats, Pre-Show
  Reception\n$1,000 Ticket (Host-Committee Member): Premium Orchestra S
 eats, Pre-Show Reception\n$500 Ticket: Orchestra Seats\n$300 Ticket: S
 ide Orchestra, Grand Tier, 1st Tier Seats\n$150 Ticket: First Tier Sea
 ts\n$75 Ticket: Second Tier Seats\n$50 Ticket: Third & Fourth Tier Sea
 ts\n\nThere is a Host Committee Open Bar Reception starting at 6:00 PM
 .\nPerformance begins at 7:30pm.\nComplimentary cocktail for each tick
 et.\n\nwww.JonCorzine09.com/events/60409JonBonJovi\n\nFor more informa
 tion visit http://njyp.org/events/one-two-three-four-more-years
DTSTART;TZID=America/New_York:20090604T180000
DTEND;TZID=America/New_York:20090604T210000
CATEGORIES:"essex county", arts, social
LOCATION:New Jersey Performing Arts Center (NJPAC)
WEBSITE:http://www.JonCorzine09.com/events/60409JonBonJovi
URL:http://www.JonCorzine09.com/events/60409JonBonJovi
CONTACT:
ORGANIZER;CN="Brian and Mike":http://njyp.org/profile/BrianMike
ATTACH;FMTTYPE="image/jpeg":http://storage.ning.com/topology/rest/1.0/
 file/get/1088525736?profile=original
ATTENDEE;ROLE=REQ-PARTICIPANT;PARTSTAT=ACCEPTED;RSVP=TRUE;CN="Kathy Sc
 hwartz":http://njyp.org/profile/KathySchwartz
ATTENDEE;ROLE=REQ-PARTICIPANT;PARTSTAT=ACCEPTED;RSVP=TRUE;CN="Brian an
 d Mike":http://njyp.org/profile/BrianMike
ATTENDEE;ROLE=REQ-PARTICIPANT;PARTSTAT=TENTATIVE;RSVP=TRUE;CN="ndidi o
 bi":http://njyp.org/profile/ndidiobi
END:VEVENT
END:VCALENDAR
