BEGIN:VCALENDAR
PRODID:NingEventWidget-v1
VERSION:2.0
METHOD:PUBLISH
BEGIN:VTIMEZONE
TZID:America/New_York
X-LIC-LOCATION:America/New_York
BEGIN:DAYLIGHT
TZOFFSETFROM:-0500
TZOFFSETTO:-0400
TZNAME:EDT
DTSTART:19700308T020000
RRULE:FREQ=YEARLY;BYMONTH=3;BYDAY=2SU
END:DAYLIGHT
BEGIN:STANDARD
TZOFFSETFROM:-0400
TZOFFSETTO:-0500
TZNAME:EST
DTSTART:19701101T020000
RRULE:FREQ=YEARLY;BYMONTH=11;BYDAY=1SU
END:STANDARD
END:VTIMEZONE
BEGIN:VEVENT
UID:2938326:Event:96905
DTSTAMP:20260420T140542Z
SUMMARY:Online Chat: Career Questions
DESCRIPTION:Have you sent out tons of resumes with no response? Are yo
 u unemployed and wondering the best strategy to use to get in front of
  employers? Do you have career questions that are controversial? Do yo
 u want to know how to make more money in your career? Chat with Renee 
 and learn all the tips to take your career to the next level!\n\nHow t
 o Chat:\nAt 8pm go here, http://www.njyp.org/chat\nMake sure you are l
 ogged in.\nThere is only ONE chat room.\n\nQuestions:\nSend questions 
 (including controversial ones) directly to Renee via her NJYP profile,
  http://www.njyp.org/profile/Renee164 She will do her best to anonymou
 sly answer all question during the chat.\n\nWho is Renee Brown:\nSavvy
 , intuitive, and undeniably focused, Renee Brown knows exactly what it
  takes to completely upgrade anyone’s career. With her company, Your
  Career My Advice LLC, the Career Transformation Strategist and human 
 resources expert is changing her clients’ lives by recession-proofin
 g their careers and helping them land the job of their dreams. Renee h
 as held various consultant, recruiter and HR positions at companies su
 ch as Citigroup, AXA Equitable, and the New York City Department of Ed
 ucation. From revamping a resume, to preparing someone for an intervie
 w or providing tips on salary negotiating, Renee sits down with client
 s to give them valuable job search strategies that will put them on th
 e path to employment. She works with clients to ensure they make the m
 oney they deserve.\n\nFor more information visit http://njyp.org/event
 s/online-chat-career-questions
DTSTART;TZID=America/New_York:20100920T200000
DTEND;TZID=America/New_York:20100920T210000
CATEGORIES:"online chat"
LOCATION:Online Chat
WEBSITE:http://www.linkedin.com/in/reneebrown
URL:http://www.linkedin.com/in/reneebrown
CONTACT:
ORGANIZER;CN="Brian and Mike":http://njyp.org/profile/BrianMike
ATTACH;FMTTYPE="image/jpeg":http://storage.ning.com/topology/rest/1.0/
 file/get/1088644214?profile=original
ATTENDEE;ROLE=REQ-PARTICIPANT;PARTSTAT=ACCEPTED;RSVP=TRUE;CN="Jahnavi 
 Utukuri":http://njyp.org/profile/JahnaviUtukuri
ATTENDEE;ROLE=REQ-PARTICIPANT;PARTSTAT=ACCEPTED;RSVP=TRUE;CN=Steve:htt
 p://njyp.org/profile/Steve674
ATTENDEE;ROLE=REQ-PARTICIPANT;PARTSTAT=ACCEPTED;RSVP=TRUE;CN=Kimberly:
 http://njyp.org/profile/Kim862
ATTENDEE;ROLE=REQ-PARTICIPANT;PARTSTAT=ACCEPTED;RSVP=TRUE;CN="Christin
 a Leamer":http://njyp.org/profile/ChristinaLeamer552
ATTENDEE;ROLE=REQ-PARTICIPANT;PARTSTAT=ACCEPTED;RSVP=TRUE;CN=Ty:http:/
 /njyp.org/profile/JohnPettinato
ATTENDEE;ROLE=REQ-PARTICIPANT;PARTSTAT=ACCEPTED;RSVP=TRUE;CN=Tamara:ht
 tp://njyp.org/profile/Tamara227
ATTENDEE;ROLE=REQ-PARTICIPANT;PARTSTAT=ACCEPTED;RSVP=TRUE;CN=Megan:htt
 p://njyp.org/profile/Margaret107
ATTENDEE;ROLE=REQ-PARTICIPANT;PARTSTAT=ACCEPTED;RSVP=TRUE;CN=Renee:htt
 p://njyp.org/profile/Renee164
ATTENDEE;ROLE=REQ-PARTICIPANT;PARTSTAT=ACCEPTED;RSVP=TRUE;CN="Neel Aro
 on":http://njyp.org/profile/NeelAroon
ATTENDEE;ROLE=REQ-PARTICIPANT;PARTSTAT=TENTATIVE;RSVP=TRUE;CN="Brian a
 nd Mike":http://njyp.org/profile/BrianMike
ATTENDEE;ROLE=REQ-PARTICIPANT;PARTSTAT=TENTATIVE;RSVP=TRUE;CN=Jacquely
 n:http://njyp.org/profile/Jacquelyn
ATTENDEE;ROLE=REQ-PARTICIPANT;PARTSTAT=TENTATIVE;RSVP=TRUE;CN=Diana:ht
 tp://njyp.org/profile/Diana
ATTENDEE;ROLE=REQ-PARTICIPANT;PARTSTAT=TENTATIVE;RSVP=TRUE;CN="NIcole 
 Vinnal":http://njyp.org/profile/NIcoleVinnal
ATTENDEE;ROLE=REQ-PARTICIPANT;PARTSTAT=TENTATIVE;RSVP=TRUE;CN="Gina Ca
 ngialosi":http://njyp.org/profile/GinaCangialosi
ATTENDEE;ROLE=REQ-PARTICIPANT;PARTSTAT=TENTATIVE;RSVP=TRUE;CN=Regina:h
 ttp://njyp.org/profile/Regina
ATTENDEE;ROLE=REQ-PARTICIPANT;PARTSTAT=TENTATIVE;RSVP=TRUE;CN=Ahsan:ht
 tp://njyp.org/profile/Ahsan
ATTENDEE;ROLE=REQ-PARTICIPANT;PARTSTAT=TENTATIVE;RSVP=TRUE;CN="Doug Be
 man":http://njyp.org/profile/DougBeman
ATTENDEE;ROLE=REQ-PARTICIPANT;PARTSTAT=TENTATIVE;RSVP=TRUE;CN="Rachel 
 S":http://njyp.org/profile/Rs
ATTENDEE;ROLE=REQ-PARTICIPANT;PARTSTAT=TENTATIVE;RSVP=TRUE;CN="Ken S."
 :http://njyp.org/profile/KennethSirower
ATTENDEE;ROLE=REQ-PARTICIPANT;PARTSTAT=TENTATIVE;RSVP=TRUE;CN=Tracie:h
 ttp://njyp.org/profile/Tracie423
ATTENDEE;ROLE=REQ-PARTICIPANT;PARTSTAT=TENTATIVE;RSVP=TRUE;CN=Lizzie:h
 ttp://njyp.org/profile/ElizabethKuhns
ATTENDEE;ROLE=REQ-PARTICIPANT;PARTSTAT=TENTATIVE;RSVP=TRUE;CN="Kevin H
 aughwout":http://njyp.org/profile/KevinHaughwout
ATTENDEE;ROLE=REQ-PARTICIPANT;PARTSTAT=TENTATIVE;RSVP=TRUE;CN=Jennifer
 :http://njyp.org/profile/Jennifer524
END:VEVENT
END:VCALENDAR
