BEGIN:VCALENDAR
PRODID:NingEventWidget-v1
VERSION:2.0
METHOD:PUBLISH
BEGIN:VTIMEZONE
TZID:America/New_York
X-LIC-LOCATION:America/New_York
BEGIN:DAYLIGHT
TZOFFSETFROM:-0500
TZOFFSETTO:-0400
TZNAME:EDT
DTSTART:19700308T020000
RRULE:FREQ=YEARLY;BYMONTH=3;BYDAY=2SU
END:DAYLIGHT
BEGIN:STANDARD
TZOFFSETFROM:-0400
TZOFFSETTO:-0500
TZNAME:EST
DTSTART:19701101T020000
RRULE:FREQ=YEARLY;BYMONTH=11;BYDAY=1SU
END:STANDARD
END:VTIMEZONE
BEGIN:VEVENT
UID:2938326:Event:5029
DTSTAMP:20260422T181312Z
SUMMARY:Out for Blood
DESCRIPTION:New Jersey Young Professionals and Team Charity have joine
 d up with the American Red Cross to bring you the BIGGEST “Young Pro
 fessionals” Blood Drive in the state’s history (we may even be bre
 aking some country records as well). Come “Out for Blood” but also
  join us for swag, jazz, prizes, mocktails, appetizers, networking and
  so much more!\n\nSwag:\nThis is NOT your grandmother’s blood drive!
  The first 50 scheduled donors will receive a swag bag full of goodies
  including a coupon for a pint of beer at Tierney’s Tavern. Plus all
  will be receive complimentary raffle tickets.\n\nRaffle:\nAnyone can 
 buy raffle tickets until 8:30pm and all blood donors will receive raff
 le tickets for FREE. Sample prizes include:\n• Book club night with 
 the author including snacks.\n• Yogi Berra autographed ball and 4 ti
 x to the Yogi museum.\n• Nets tickets with a one night stay at the R
 enaissance Hotel which includes breakfast in the AM, located right nex
 t to the meadowlands.\n• Le Scandal tickets for 2 and a sexy goodie 
 basket.\n• $100 off dinner at Becco with 2 bottles of Lidia’s wine
  and her autographed cookbook.\n\nEntertainment:\nThere will be live j
 azz/funk music.\n\nConsume:\nExpect yummy appetizers and a Mocktail Ba
 r sponsored by Vitamin Water!\n\nRelax:\nComplimentary chair massages 
 on-site.\n\nSign-Up:\nAppointments will run from 5pm to 10pm but there
  will always be a cluster of Young Professionals present at this event
 . You must register via the American Red Cross to give blood at this e
 vent. http://www.pleasegiveblood.org/donate and enter code 14334\n\nQu
 estions:\nNot sure if you can donate due to tattoos, a broken toe, you
 r travels to Peru? You might be surprised. Please call 1-800-GIVE LIFE
  (800-448-3543) option 4 BEFORE you decide to rule yourself out. Phone
  lines are open 24/7.\n\nFor more information visit http://njyp.org/ev
 ents/out-for-blood
DTSTART;TZID=America/New_York:20090917T170000
DTEND;TZID=America/New_York:20090917T220000
CATEGORIES:"essex county", community
LOCATION:The Loft / Bobbie Brown Studio
WEBSITE:http://njyperks.com/OutforBlood800.jpg
URL:http://njyperks.com/OutforBlood800.jpg
CONTACT:
ORGANIZER;CN="Brian and Mike":http://njyp.org/profile/BrianMike
ATTACH;FMTTYPE="image/jpeg":http://storage.ning.com/topology/rest/1.0/
 file/get/1088534610?profile=original
ATTENDEE;ROLE=REQ-PARTICIPANT;PARTSTAT=ACCEPTED;RSVP=TRUE;CN="Melissa 
 McDowell":http://njyp.org/profile/MelissaMcDowell
ATTENDEE;ROLE=REQ-PARTICIPANT;PARTSTAT=ACCEPTED;RSVP=TRUE;CN="Dr. Kevi
 n":http://njyp.org/profile/KevinBrennan
ATTENDEE;ROLE=REQ-PARTICIPANT;PARTSTAT=ACCEPTED;RSVP=TRUE;CN=Elizabeth
 :http://njyp.org/profile/Quirky3
ATTENDEE;ROLE=REQ-PARTICIPANT;PARTSTAT=ACCEPTED;RSVP=TRUE;CN="tim vinn
 al":http://njyp.org/profile/timvinnal631
ATTENDEE;ROLE=REQ-PARTICIPANT;PARTSTAT=ACCEPTED;RSVP=TRUE;CN="Isaac Be
 arg":http://njyp.org/profile/IsaacBearg
ATTENDEE;ROLE=REQ-PARTICIPANT;PARTSTAT=ACCEPTED;RSVP=TRUE;CN="Anthony 
 Sciortino":http://njyp.org/profile/AnthonySciortino
ATTENDEE;ROLE=REQ-PARTICIPANT;PARTSTAT=ACCEPTED;RSVP=TRUE;CN=Antonella
 :http://njyp.org/profile/Antonella
ATTENDEE;ROLE=REQ-PARTICIPANT;PARTSTAT=ACCEPTED;RSVP=TRUE;CN="Justin L
 ejava":http://njyp.org/profile/JustinLejava
ATTENDEE;ROLE=REQ-PARTICIPANT;PARTSTAT=ACCEPTED;RSVP=TRUE;CN="Tracey L
 ynne Haskell":http://njyp.org/profile/TraceyLynneHaskell
ATTENDEE;ROLE=REQ-PARTICIPANT;PARTSTAT=ACCEPTED;RSVP=TRUE;CN=Jessica:h
 ttp://njyp.org/profile/JessicaNatalizio
ATTENDEE;ROLE=REQ-PARTICIPANT;PARTSTAT=ACCEPTED;RSVP=TRUE;CN="Rick Man
 n":http://njyp.org/profile/RickMann
ATTENDEE;ROLE=REQ-PARTICIPANT;PARTSTAT=ACCEPTED;RSVP=TRUE;CN="Carol Pe
 terson":http://njyp.org/profile/CarolPeterson
ATTENDEE;ROLE=REQ-PARTICIPANT;PARTSTAT=ACCEPTED;RSVP=TRUE;CN="Sarah K.
  Ober":http://njyp.org/profile/SarahKOber
ATTENDEE;ROLE=REQ-PARTICIPANT;PARTSTAT=ACCEPTED;RSVP=TRUE;CN="rachel i
 rene":http://njyp.org/profile/rachel_irene
ATTENDEE;ROLE=REQ-PARTICIPANT;PARTSTAT=ACCEPTED;RSVP=TRUE;CN="Jason W.
  Fuchs":http://njyp.org/profile/JasonWFuchs
ATTENDEE;ROLE=REQ-PARTICIPANT;PARTSTAT=ACCEPTED;RSVP=TRUE;CN="Nicole F
 ulmino":http://njyp.org/profile/NicoleFulmino
ATTENDEE;ROLE=REQ-PARTICIPANT;PARTSTAT=ACCEPTED;RSVP=TRUE;CN="Maria T.
  Cruz":http://njyp.org/profile/MariaTCruz
ATTENDEE;ROLE=REQ-PARTICIPANT;PARTSTAT=ACCEPTED;RSVP=TRUE;CN=Meredith:
 http://njyp.org/profile/MeredithC
ATTENDEE;ROLE=REQ-PARTICIPANT;PARTSTAT=ACCEPTED;RSVP=TRUE;CN="Melanie 
 Hazim":http://njyp.org/profile/MelanieHazim
ATTENDEE;ROLE=REQ-PARTICIPANT;PARTSTAT=ACCEPTED;RSVP=TRUE;CN=tesh:http
 ://njyp.org/profile/t
ATTENDEE;ROLE=REQ-PARTICIPANT;PARTSTAT=ACCEPTED;RSVP=TRUE;CN="Steve Br
 own":http://njyp.org/profile/SteveBrown
ATTENDEE;ROLE=REQ-PARTICIPANT;PARTSTAT=ACCEPTED;RSVP=TRUE;CN="Alix Fos
 ter":http://njyp.org/profile/AlixFoster
ATTENDEE;ROLE=REQ-PARTICIPANT;PARTSTAT=ACCEPTED;RSVP=TRUE;CN="Christin
 a Seigel":http://njyp.org/profile/ChristinaSeigel
ATTENDEE;ROLE=REQ-PARTICIPANT;PARTSTAT=ACCEPTED;RSVP=TRUE;CN="Niraj Ch
 habra":http://njyp.org/profile/nirajchhabra
ATTENDEE;ROLE=REQ-PARTICIPANT;PARTSTAT=ACCEPTED;RSVP=TRUE;CN="Christin
 e Rydzik":http://njyp.org/profile/CupcakingChristine
ATTENDEE;ROLE=REQ-PARTICIPANT;PARTSTAT=ACCEPTED;RSVP=TRUE;CN="NIcole V
 innal":http://njyp.org/profile/NIcoleVinnal
ATTENDEE;ROLE=REQ-PARTICIPANT;PARTSTAT=ACCEPTED;RSVP=TRUE;CN="Brian an
 d Mike":http://njyp.org/profile/BrianMike
ATTENDEE;ROLE=REQ-PARTICIPANT;PARTSTAT=TENTATIVE;RSVP=TRUE;CN="Meeta P
 atel":http://njyp.org/profile/MeetaPatel
ATTENDEE;ROLE=REQ-PARTICIPANT;PARTSTAT=TENTATIVE;RSVP=TRUE;CN="Carolin
 e De Simone":http://njyp.org/profile/CarolineDeSimone
ATTENDEE;ROLE=REQ-PARTICIPANT;PARTSTAT=TENTATIVE;RSVP=TRUE;CN="Heather
  C":http://njyp.org/profile/HeatherComero
ATTENDEE;ROLE=REQ-PARTICIPANT;PARTSTAT=TENTATIVE;RSVP=TRUE;CN=TJ:http:
 //njyp.org/profile/TJ
ATTENDEE;ROLE=REQ-PARTICIPANT;PARTSTAT=TENTATIVE;RSVP=TRUE;CN="Leigh D
 arden":http://njyp.org/profile/LeighDarden
ATTENDEE;ROLE=REQ-PARTICIPANT;PARTSTAT=TENTATIVE;RSVP=TRUE;CN="Doug Be
 man":http://njyp.org/profile/DougBeman
ATTENDEE;ROLE=REQ-PARTICIPANT;PARTSTAT=TENTATIVE;RSVP=TRUE;CN="Chris L
 ydon":http://njyp.org/profile/ChristopherLydon
ATTENDEE;ROLE=REQ-PARTICIPANT;PARTSTAT=TENTATIVE;RSVP=TRUE;CN="Leslie 
 Young":http://njyp.org/profile/wLeslieYoung
ATTENDEE;ROLE=REQ-PARTICIPANT;PARTSTAT=TENTATIVE;RSVP=TRUE;CN="Lisa F"
 :http://njyp.org/profile/LisaF
ATTENDEE;ROLE=REQ-PARTICIPANT;PARTSTAT=TENTATIVE;RSVP=TRUE;CN="Marie T
 izon":http://njyp.org/profile/MarieTizon
END:VEVENT
END:VCALENDAR
