BEGIN:VCALENDAR
PRODID:NingEventWidget-v1
VERSION:2.0
METHOD:PUBLISH
BEGIN:VTIMEZONE
TZID:America/New_York
X-LIC-LOCATION:America/New_York
BEGIN:DAYLIGHT
TZOFFSETFROM:-0500
TZOFFSETTO:-0400
TZNAME:EDT
DTSTART:19700308T020000
RRULE:FREQ=YEARLY;BYMONTH=3;BYDAY=2SU
END:DAYLIGHT
BEGIN:STANDARD
TZOFFSETFROM:-0400
TZOFFSETTO:-0500
TZNAME:EST
DTSTART:19701101T020000
RRULE:FREQ=YEARLY;BYMONTH=11;BYDAY=1SU
END:STANDARD
END:VTIMEZONE
BEGIN:VEVENT
UID:2938326:Event:710358
DTSTAMP:20260420T032332Z
SUMMARY:Paint Night in Montclair
DESCRIPTION:\nMember Cost: $34.99 Early Bird online until 12/9 $37.99 
 online 12/10-12/16,Â $39.99 at the door\nNon-Member Cost:Â $41.99 onli
 ne,Â $44.99 at the door\nCome and join us for a night full of artistic
  fun!Â  PAINT NIGHT will allow you to network with young professionals
  while creating your very own winter-themed painting (instructor-led) 
 to take home with you!Â  Food and drink specials will be available as 
 well for those who would like to enjoy while painting.\nNo need to wor
 ry about bringing anything! Event fee provides all paint supplies need
 ed, professional instructor, and a guaranteed seat.Â Â \nSign up FAST 
 as limited seats are available!\n NJYP-only Drink and Food Specials:Â 
 \nDrinks: Â Cosmo Â Â Â Â Â Â Â Â Â Â Â Â Â Â Â Â Â Â Â $ 6.00 Â Â Â Â
  Â Â Â Â Â Â Â Â Â Well drinks Â Â Â Â Â Â Â Â Â Â Â Â Â $ 5.00 Â Â Â 
 Â Â Â Â Â Â Â Â Â Â Â Bud or Coors lite Â Â $ Â 3.00  Food: Hummus Pla
 tter Â $10.00 Empanada of the day Â Â $7.00 Â (2) Thin Crust Pizza...S
 liders....Chicken Skewers Â Â Â $6.00\n Who can attend: Young professi
 onals, single or married, who are 21-39 years of age.Â   Tickets: All 
 sales are final. A limited number of tickets will be sold.Â  This even
 t is rain or shine.  How to get there:\nJust Jakes is in Montclair. Th
 e venue is <10 min walking from the train, and parking at meters is fr
 ee starting at 7:00PM.Â See directions here:Â DIRECTIONS\n How to find
  the group: We will meet in a private area--there will be signs.\n\n\n
 For more information visit http://njyp.org/events/paint-night-in-montc
 lair
DTSTART;TZID=America/New_York:20151216T190000
DTEND;TZID=America/New_York:20151216T213000
CATEGORIES:"essex county", social, wednesday, party, paint, painting, 
 private, specials
LOCATION:Just Jakes
WEBSITE:http://www.justjakes.com/
URL:http://www.justjakes.com/
CONTACT:Gina Poletti
ORGANIZER;CN="Michael Park":http://njyp.org/profile/MichaelPark
ATTACH;FMTTYPE="image/jpeg":http://storage.ning.com/topology/rest/1.0/
 file/get/1089090802?profile=original
ATTENDEE;ROLE=REQ-PARTICIPANT;PARTSTAT=ACCEPTED;RSVP=TRUE;CN="Kerry Su
 llivan":http://njyp.org/profile/KerrySullivan
ATTENDEE;ROLE=REQ-PARTICIPANT;PARTSTAT=ACCEPTED;RSVP=TRUE;CN="Brian Me
 lnick":http://njyp.org/profile/Brian1218
ATTENDEE;ROLE=REQ-PARTICIPANT;PARTSTAT=ACCEPTED;RSVP=TRUE;CN="NIcole V
 innal":http://njyp.org/profile/NIcoleVinnal
ATTENDEE;ROLE=REQ-PARTICIPANT;PARTSTAT=ACCEPTED;RSVP=TRUE;CN=Mike:http
 ://njyp.org/profile/Mike663
ATTENDEE;ROLE=REQ-PARTICIPANT;PARTSTAT=ACCEPTED;RSVP=TRUE;CN=Sara:http
 ://njyp.org/profile/Sara670
ATTENDEE;ROLE=REQ-PARTICIPANT;PARTSTAT=ACCEPTED;RSVP=TRUE;CN="Anne Mar
 ie":http://njyp.org/profile/AnneMarie376
ATTENDEE;ROLE=REQ-PARTICIPANT;PARTSTAT=ACCEPTED;RSVP=TRUE;CN=Annie:htt
 p://njyp.org/profile/Annie58
ATTENDEE;ROLE=REQ-PARTICIPANT;PARTSTAT=ACCEPTED;RSVP=TRUE;CN=Gina:http
 ://njyp.org/profile/Gina655
ATTENDEE;ROLE=REQ-PARTICIPANT;PARTSTAT=ACCEPTED;RSVP=TRUE;CN=Deep:http
 ://njyp.org/profile/Deep
ATTENDEE;ROLE=REQ-PARTICIPANT;PARTSTAT=ACCEPTED;RSVP=TRUE;CN=Melissa:h
 ttp://njyp.org/profile/Melissa901
ATTENDEE;ROLE=REQ-PARTICIPANT;PARTSTAT=ACCEPTED;RSVP=TRUE;CN="Michael 
 Park":http://njyp.org/profile/MichaelPark
ATTENDEE;ROLE=REQ-PARTICIPANT;PARTSTAT=TENTATIVE;RSVP=TRUE;CN=Julie:ht
 tp://njyp.org/profile/Julie942
ATTENDEE;ROLE=REQ-PARTICIPANT;PARTSTAT=TENTATIVE;RSVP=TRUE;CN="Jeffrey
  Key":http://njyp.org/profile/JeffreyKey
ATTENDEE;ROLE=REQ-PARTICIPANT;PARTSTAT=TENTATIVE;RSVP=TRUE;CN=Kevin:ht
 tp://njyp.org/profile/Kevin164
END:VEVENT
END:VCALENDAR
