BEGIN:VCALENDAR
PRODID:NingEventWidget-v1
VERSION:2.0
METHOD:PUBLISH
BEGIN:VTIMEZONE
TZID:America/New_York
X-LIC-LOCATION:America/New_York
BEGIN:DAYLIGHT
TZOFFSETFROM:-0500
TZOFFSETTO:-0400
TZNAME:EDT
DTSTART:19700308T020000
RRULE:FREQ=YEARLY;BYMONTH=3;BYDAY=2SU
END:DAYLIGHT
BEGIN:STANDARD
TZOFFSETFROM:-0400
TZOFFSETTO:-0500
TZNAME:EST
DTSTART:19701101T020000
RRULE:FREQ=YEARLY;BYMONTH=11;BYDAY=1SU
END:STANDARD
END:VTIMEZONE
BEGIN:VEVENT
UID:2938326:Event:24875
DTSTAMP:20260422T081030Z
SUMMARY:Paramus Business Lunch
DESCRIPTION:YES- We are meeting up today! It is not too late to RSVP o
 r to just show up. Ask for the NJYP table.\n\nDo you work in the Param
 us area? Then let’s meet up for an informal “Business Lunch”. Th
 is lunch is less about networking and more about bringing people toget
 her who work in the area. How great would it be to make some new lunch
  buddies who are also Young Professionals?\n\nWho Can Attend:\nThis wi
 ll be a Members only event, aka you paid your Membership Dues.\n\nCost
 :\nI’m trying to work out a lunch special so that everyone will pay 
 $10 for lunch, tax, and tip!\n\nRSVPing:\nThe restaurant will want RSV
 Ps so please let us know if you are coming or thinking of coming. Remi
 nders will be sent out the day before so that you can update your stat
 us.\n\nFinding the Group:\nAsk for the NJYP party once you arrive.\n\n
 Directions:\nBensi is in the Paramus Park Mall but as you can see from
  this picture you can see the Bensi sign from the parking lot. Drive a
 round the mall until you see this sign.\n\n\n\nFor more information vi
 sit http://njyp.org/events/paramus-business-lunch
DTSTART;TZID=America/New_York:20091201T130000
DTEND;TZID=America/New_York:20091201T143000
CATEGORIES:"bergen county", social, networking
LOCATION:Bensi at Paramus Park
WEBSITE:http://www.bensirestaurants.com/locations.html
URL:http://www.bensirestaurants.com/locations.html
CONTACT:
ORGANIZER;CN="Brian and Mike":http://njyp.org/profile/BrianMike
ATTACH;FMTTYPE="image/jpeg":http://storage.ning.com/topology/rest/1.0/
 file/get/1088566142?profile=original
ATTENDEE;ROLE=REQ-PARTICIPANT;PARTSTAT=ACCEPTED;RSVP=TRUE;CN="Nikki Ha
 rt":http://njyp.org/profile/DomenicaHart
ATTENDEE;ROLE=REQ-PARTICIPANT;PARTSTAT=ACCEPTED;RSVP=TRUE;CN="Kevin Ha
 ughwout":http://njyp.org/profile/KevinHaughwout
ATTENDEE;ROLE=REQ-PARTICIPANT;PARTSTAT=ACCEPTED;RSVP=TRUE;CN="Matthew 
 Clement":http://njyp.org/profile/MatthewSClement
ATTENDEE;ROLE=REQ-PARTICIPANT;PARTSTAT=ACCEPTED;RSVP=TRUE;CN="Gael Bur
 man":http://njyp.org/profile/GaelBurman
ATTENDEE;ROLE=REQ-PARTICIPANT;PARTSTAT=ACCEPTED;RSVP=TRUE;CN="rachel i
 rene":http://njyp.org/profile/rachel_irene
ATTENDEE;ROLE=REQ-PARTICIPANT;PARTSTAT=ACCEPTED;RSVP=TRUE;CN="Ken S.":
 http://njyp.org/profile/KennethSirower
ATTENDEE;ROLE=REQ-PARTICIPANT;PARTSTAT=ACCEPTED;RSVP=TRUE;CN="Dennis L
 ee":http://njyp.org/profile/leeden
ATTENDEE;ROLE=REQ-PARTICIPANT;PARTSTAT=ACCEPTED;RSVP=TRUE;CN="Niraj Ch
 habra":http://njyp.org/profile/nirajchhabra
ATTENDEE;ROLE=REQ-PARTICIPANT;PARTSTAT=ACCEPTED;RSVP=TRUE;CN="Carol Pe
 terson":http://njyp.org/profile/CarolPeterson
ATTENDEE;ROLE=REQ-PARTICIPANT;PARTSTAT=ACCEPTED;RSVP=TRUE;CN="Brian an
 d Mike":http://njyp.org/profile/BrianMike
ATTENDEE;ROLE=REQ-PARTICIPANT;PARTSTAT=TENTATIVE;RSVP=TRUE;CN=Rochelle
 :http://njyp.org/profile/Rochelle
END:VEVENT
END:VCALENDAR
