BEGIN:VCALENDAR
PRODID:NingEventWidget-v1
VERSION:2.0
METHOD:PUBLISH
BEGIN:VTIMEZONE
TZID:America/New_York
X-LIC-LOCATION:America/New_York
BEGIN:DAYLIGHT
TZOFFSETFROM:-0500
TZOFFSETTO:-0400
TZNAME:EDT
DTSTART:19700308T020000
RRULE:FREQ=YEARLY;BYMONTH=3;BYDAY=2SU
END:DAYLIGHT
BEGIN:STANDARD
TZOFFSETFROM:-0400
TZOFFSETTO:-0500
TZNAME:EST
DTSTART:19701101T020000
RRULE:FREQ=YEARLY;BYMONTH=11;BYDAY=1SU
END:STANDARD
END:VTIMEZONE
BEGIN:VEVENT
UID:2938326:Event:412052
DTSTAMP:20260422T095123Z
SUMMARY:Paramus Happy Hour
DESCRIPTION:Your local Happy Hour is back on the calendar! Join other 
 NJYPers at this member’s only mix & mingle event. As always, there i
 s no cover, plus there will be great specials to keep the drinks and t
 he laughter flowing. Whether this is your first event or your fiftieth
 , you will find yourself surrounded by friendly faces and future frien
 ds.   Who should attend:  Members who are 21-39 years old. There i
 s no cover but please RSVP so we know you are coming. 1 item minimum p
 er person.   What to expect: Our Happy Hours are very casual. There 
 are no sign-in tables, no name tags, and no ice breakers. Expect peopl
 e to walk up to you to introduce themselves and feel free to walk up t
 o others who you do not know. Newbies are at EVERY NJYP event so if th
 is is your first, you won't be alone.   Specials Until 8PM: Half Off
  Smirnoff Martini's $7 for Glass of Wine $5 Beers    How to find t
 he group: Meet us at the bar of course. We are going to take over the 
 entire bar/lounge.   Directions/Parking: Use this address when mappi
 ng on Google Maps: “275 New Jersey 4, Paramus, NJ‎” Mantra is on
  Westbound Route 4. Look for Macy’s Furniture and the Jewelry Exchan
 ge while you are driving along the highway, Mantra is in the same stri
 p mall.  http://www.mantranj.com/ Tons of FREE parking.\n\nFor more 
 information visit http://njyp.org/events/paramus-happy-hour-13
DTSTART;TZID=America/New_York:20130207T180000
DTEND;TZID=America/New_York:20130207T200000
CATEGORIES:"bergen county", social, members
LOCATION:Mantra
WEBSITE:http://www.mantranj.com/
URL:http://www.mantranj.com/
CONTACT:
ORGANIZER;CN="Brian and Mike":http://njyp.org/profile/BrianMike
ATTACH;FMTTYPE="image/jpeg":http://storage.ning.com/topology/rest/1.0/
 file/get/1088686004?profile=original
ATTENDEE;ROLE=REQ-PARTICIPANT;PARTSTAT=ACCEPTED;RSVP=TRUE;CN="Andrea K
 ron":http://njyp.org/profile/AndreaKron
ATTENDEE;ROLE=REQ-PARTICIPANT;PARTSTAT=ACCEPTED;RSVP=TRUE;CN=Brian:htt
 p://njyp.org/profile/Brian776
ATTENDEE;ROLE=REQ-PARTICIPANT;PARTSTAT=ACCEPTED;RSVP=TRUE;CN=Glenn:htt
 p://njyp.org/profile/Glenn201
ATTENDEE;ROLE=REQ-PARTICIPANT;PARTSTAT=ACCEPTED;RSVP=TRUE;CN=Dan:http:
 //njyp.org/profile/Dan505
ATTENDEE;ROLE=REQ-PARTICIPANT;PARTSTAT=ACCEPTED;RSVP=TRUE;CN=Shashi:ht
 tp://njyp.org/profile/Shashi
ATTENDEE;ROLE=REQ-PARTICIPANT;PARTSTAT=ACCEPTED;RSVP=TRUE;CN=Michael:h
 ttp://njyp.org/profile/mkon86
ATTENDEE;ROLE=REQ-PARTICIPANT;PARTSTAT=ACCEPTED;RSVP=TRUE;CN=Steve:htt
 p://njyp.org/profile/Steve355
ATTENDEE;ROLE=REQ-PARTICIPANT;PARTSTAT=ACCEPTED;RSVP=TRUE;CN=Chanthy:h
 ttp://njyp.org/profile/Chanthy
ATTENDEE;ROLE=REQ-PARTICIPANT;PARTSTAT=ACCEPTED;RSVP=TRUE;CN=Janette:h
 ttp://njyp.org/profile/Janette
ATTENDEE;ROLE=REQ-PARTICIPANT;PARTSTAT=ACCEPTED;RSVP=TRUE;CN="Raj Wate
 rs":http://njyp.org/profile/AnujKumar
ATTENDEE;ROLE=REQ-PARTICIPANT;PARTSTAT=ACCEPTED;RSVP=TRUE;CN=Alyssa:ht
 tp://njyp.org/profile/Alyssa392
ATTENDEE;ROLE=REQ-PARTICIPANT;PARTSTAT=ACCEPTED;RSVP=TRUE;CN=Jay:http:
 //njyp.org/profile/JamesLee
ATTENDEE;ROLE=REQ-PARTICIPANT;PARTSTAT=ACCEPTED;RSVP=TRUE;CN="Marina S
 vorinic":http://njyp.org/profile/MarinaSvorinic
ATTENDEE;ROLE=REQ-PARTICIPANT;PARTSTAT=ACCEPTED;RSVP=TRUE;CN=John:http
 ://njyp.org/profile/John607
ATTENDEE;ROLE=REQ-PARTICIPANT;PARTSTAT=ACCEPTED;RSVP=TRUE;CN=Kathryn:h
 ttp://njyp.org/profile/Kathryn825
ATTENDEE;ROLE=REQ-PARTICIPANT;PARTSTAT=ACCEPTED;RSVP=TRUE;CN=Lizzie:ht
 tp://njyp.org/profile/ElizabethKuhns
ATTENDEE;ROLE=REQ-PARTICIPANT;PARTSTAT=ACCEPTED;RSVP=TRUE;CN=Ayanni:ht
 tp://njyp.org/profile/Ayanni
ATTENDEE;ROLE=REQ-PARTICIPANT;PARTSTAT=ACCEPTED;RSVP=TRUE;CN=Tara:http
 ://njyp.org/profile/Tara491
ATTENDEE;ROLE=REQ-PARTICIPANT;PARTSTAT=ACCEPTED;RSVP=TRUE;CN="Brian an
 d Mike":http://njyp.org/profile/BrianMike
ATTENDEE;ROLE=REQ-PARTICIPANT;PARTSTAT=TENTATIVE;RSVP=TRUE;CN=Gerard:h
 ttp://njyp.org/profile/Gerard
ATTENDEE;ROLE=REQ-PARTICIPANT;PARTSTAT=TENTATIVE;RSVP=TRUE;CN=Julie:ht
 tp://njyp.org/profile/Julie942
ATTENDEE;ROLE=REQ-PARTICIPANT;PARTSTAT=TENTATIVE;RSVP=TRUE;CN=Zakkiyya
 :http://njyp.org/profile/ZakkiyyaTaylor
ATTENDEE;ROLE=REQ-PARTICIPANT;PARTSTAT=TENTATIVE;RSVP=TRUE;CN="Rebecca
  S. Auerbach":http://njyp.org/profile/RebeccaSAuerbach
ATTENDEE;ROLE=REQ-PARTICIPANT;PARTSTAT=TENTATIVE;RSVP=TRUE;CN=Matt:htt
 p://njyp.org/profile/Matt994
ATTENDEE;ROLE=REQ-PARTICIPANT;PARTSTAT=TENTATIVE;RSVP=TRUE;CN=Rodrigo:
 http://njyp.org/profile/Rodrigo
ATTENDEE;ROLE=REQ-PARTICIPANT;PARTSTAT=TENTATIVE;RSVP=TRUE;CN=Navin:ht
 tp://njyp.org/profile/Navin
ATTENDEE;ROLE=REQ-PARTICIPANT;PARTSTAT=TENTATIVE;RSVP=TRUE;CN=Michael:
 http://njyp.org/profile/Michael857
ATTENDEE;ROLE=REQ-PARTICIPANT;PARTSTAT=TENTATIVE;RSVP=TRUE;CN=Vadim:ht
 tp://njyp.org/profile/Vadim
END:VEVENT
END:VCALENDAR
