BEGIN:VCALENDAR
PRODID:NingEventWidget-v1
VERSION:2.0
METHOD:PUBLISH
BEGIN:VTIMEZONE
TZID:America/New_York
X-LIC-LOCATION:America/New_York
BEGIN:DAYLIGHT
TZOFFSETFROM:-0500
TZOFFSETTO:-0400
TZNAME:EDT
DTSTART:19700308T020000
RRULE:FREQ=YEARLY;BYMONTH=3;BYDAY=2SU
END:DAYLIGHT
BEGIN:STANDARD
TZOFFSETFROM:-0400
TZOFFSETTO:-0500
TZNAME:EST
DTSTART:19701101T020000
RRULE:FREQ=YEARLY;BYMONTH=11;BYDAY=1SU
END:STANDARD
END:VTIMEZONE
BEGIN:VEVENT
UID:2938326:Event:547210
DTSTAMP:20260420T091009Z
SUMMARY:Paramus Happy Hour
DESCRIPTION:Your local Happy Hour is back on the calendar and this tim
 e we are at Boom Burger in Paramus. Join other Young Professionals at 
 this mix & mingle event. As always, there is no cover, plus there will
  be great specials to keep the drinks and the laughter flowing. Whethe
 r this is your first event or your fiftieth, you will find yourself su
 rrounded by friendly faces and future friends.  Who can attend: This H
 appy Hour is for dues paying Members only, http://www.njyp.org/page/pa
 y-dues If you wish to bring a guest please have them join NJYP first.
   Cost: No cost to attend but you MUST RSVP. 1 item minimum per person
  so we support the bar and all the space we are taking up.\n Specials 
 Until 7pm: $5 mixed drinks $2 off draft beers Discounts are not availa
 ble for Boomerang Drinks or beer & sangria towers\n What to expect: Ou
 r Happy Hours are very casual. There are no sign-in tables, no name ta
 gs, and no ice breakers. Expect people to walk up to you to introduce 
 themselves and feel free to walk up to others who you do not know. New
 bies are at EVERY NJYP event so if this is your first, you won't be al
 one.  Finding the Group: We are going to be in the bar area. Please lo
 ok for signs or ask staff where the group is.  Directions: Boom Burger
  is located right behind the Garden State Plaza - http://www.yelp.com
 /map/boom-burger-rochelle-park Plenty of parking.\n\nFor more informat
 ion visit http://njyp.org/events/paramus-happy-hour-17
DTSTART;TZID=America/New_York:20140522T180000
DTEND;TZID=America/New_York:20140522T200000
CATEGORIES:"bergen county", social, members
LOCATION:Rochelle Park Boom Burger
WEBSITE:http://www.yelp.com/biz/boom-burger-rochelle-park
URL:http://www.yelp.com/biz/boom-burger-rochelle-park
CONTACT:
ORGANIZER;CN="Brian and Mike":http://njyp.org/profile/BrianMike
ATTACH;FMTTYPE="image/jpeg":http://storage.ning.com/topology/rest/1.0/
 file/get/1088687153?profile=original
ATTENDEE;ROLE=REQ-PARTICIPANT;PARTSTAT=ACCEPTED;RSVP=TRUE;CN=Keith:htt
 p://njyp.org/profile/Keith613
ATTENDEE;ROLE=REQ-PARTICIPANT;PARTSTAT=ACCEPTED;RSVP=TRUE;CN=Richie:ht
 tp://njyp.org/profile/Richie
ATTENDEE;ROLE=REQ-PARTICIPANT;PARTSTAT=ACCEPTED;RSVP=TRUE;CN=Michael:h
 ttp://njyp.org/profile/Michael190
ATTENDEE;ROLE=REQ-PARTICIPANT;PARTSTAT=ACCEPTED;RSVP=TRUE;CN=Mike:http
 ://njyp.org/profile/Mike663
ATTENDEE;ROLE=REQ-PARTICIPANT;PARTSTAT=ACCEPTED;RSVP=TRUE;CN=John:http
 ://njyp.org/profile/John607
ATTENDEE;ROLE=REQ-PARTICIPANT;PARTSTAT=ACCEPTED;RSVP=TRUE;CN=David:htt
 p://njyp.org/profile/David305
ATTENDEE;ROLE=REQ-PARTICIPANT;PARTSTAT=ACCEPTED;RSVP=TRUE;CN="Stephani
 e Paris":http://njyp.org/profile/StephanieParis
ATTENDEE;ROLE=REQ-PARTICIPANT;PARTSTAT=ACCEPTED;RSVP=TRUE;CN=Tom:http:
 //njyp.org/profile/GraphicDesignerIllustrator
ATTENDEE;ROLE=REQ-PARTICIPANT;PARTSTAT=ACCEPTED;RSVP=TRUE;CN=Ara:http:
 //njyp.org/profile/Ara
ATTENDEE;ROLE=REQ-PARTICIPANT;PARTSTAT=ACCEPTED;RSVP=TRUE;CN=KARIN:htt
 p://njyp.org/profile/KARIN
ATTENDEE;ROLE=REQ-PARTICIPANT;PARTSTAT=ACCEPTED;RSVP=TRUE;CN=Vishal:ht
 tp://njyp.org/profile/Vishal
ATTENDEE;ROLE=REQ-PARTICIPANT;PARTSTAT=ACCEPTED;RSVP=TRUE;CN=Rebecca:h
 ttp://njyp.org/profile/Rebecca
ATTENDEE;ROLE=REQ-PARTICIPANT;PARTSTAT=ACCEPTED;RSVP=TRUE;CN=James:htt
 p://njyp.org/profile/James439
ATTENDEE;ROLE=REQ-PARTICIPANT;PARTSTAT=ACCEPTED;RSVP=TRUE;CN=Dejan:htt
 p://njyp.org/profile/Dejan
ATTENDEE;ROLE=REQ-PARTICIPANT;PARTSTAT=ACCEPTED;RSVP=TRUE;CN="Kelly An
 ne":http://njyp.org/profile/KellyGoodwin
ATTENDEE;ROLE=REQ-PARTICIPANT;PARTSTAT=ACCEPTED;RSVP=TRUE;CN=Julie:htt
 p://njyp.org/profile/Julie942
ATTENDEE;ROLE=REQ-PARTICIPANT;PARTSTAT=ACCEPTED;RSVP=TRUE;CN=Natasha:h
 ttp://njyp.org/profile/Natasha817
ATTENDEE;ROLE=REQ-PARTICIPANT;PARTSTAT=ACCEPTED;RSVP=TRUE;CN=Peter:htt
 p://njyp.org/profile/PeterMcDonnell
ATTENDEE;ROLE=REQ-PARTICIPANT;PARTSTAT=ACCEPTED;RSVP=TRUE;CN="Brian an
 d Mike":http://njyp.org/profile/BrianMike
ATTENDEE;ROLE=REQ-PARTICIPANT;PARTSTAT=TENTATIVE;RSVP=TRUE;CN=David:ht
 tp://njyp.org/profile/David447
ATTENDEE;ROLE=REQ-PARTICIPANT;PARTSTAT=TENTATIVE;RSVP=TRUE;CN=Lauren:h
 ttp://njyp.org/profile/LaurenMachovic
ATTENDEE;ROLE=REQ-PARTICIPANT;PARTSTAT=TENTATIVE;RSVP=TRUE;CN=Michael:
 http://njyp.org/profile/3l0c0xtbau2ry
ATTENDEE;ROLE=REQ-PARTICIPANT;PARTSTAT=TENTATIVE;RSVP=TRUE;CN=abhilash
 :http://njyp.org/profile/abhilash
ATTENDEE;ROLE=REQ-PARTICIPANT;PARTSTAT=TENTATIVE;RSVP=TRUE;CN=Vadim:ht
 tp://njyp.org/profile/Vadim
ATTENDEE;ROLE=REQ-PARTICIPANT;PARTSTAT=TENTATIVE;RSVP=TRUE;CN=Richard:
 http://njyp.org/profile/RichardSeifert
ATTENDEE;ROLE=REQ-PARTICIPANT;PARTSTAT=TENTATIVE;RSVP=TRUE;CN=Ted:http
 ://njyp.org/profile/Ted855
ATTENDEE;ROLE=REQ-PARTICIPANT;PARTSTAT=TENTATIVE;RSVP=TRUE;CN=David:ht
 tp://njyp.org/profile/DavidKasten
ATTENDEE;ROLE=REQ-PARTICIPANT;PARTSTAT=TENTATIVE;RSVP=TRUE;CN=Ogechi:h
 ttp://njyp.org/profile/Ogechi
ATTENDEE;ROLE=REQ-PARTICIPANT;PARTSTAT=TENTATIVE;RSVP=TRUE;CN=Shauna:h
 ttp://njyp.org/profile/Shauna174
ATTENDEE;ROLE=REQ-PARTICIPANT;PARTSTAT=TENTATIVE;RSVP=TRUE;CN=Nelson:h
 ttp://njyp.org/profile/Nelson
ATTENDEE;ROLE=REQ-PARTICIPANT;PARTSTAT=TENTATIVE;RSVP=TRUE;CN=Marwah:h
 ttp://njyp.org/profile/155sdzomhusc5
END:VEVENT
END:VCALENDAR
