BEGIN:VCALENDAR
PRODID:NingEventWidget-v1
VERSION:2.0
METHOD:PUBLISH
BEGIN:VTIMEZONE
TZID:America/New_York
X-LIC-LOCATION:America/New_York
BEGIN:DAYLIGHT
TZOFFSETFROM:-0500
TZOFFSETTO:-0400
TZNAME:EDT
DTSTART:19700308T020000
RRULE:FREQ=YEARLY;BYMONTH=3;BYDAY=2SU
END:DAYLIGHT
BEGIN:STANDARD
TZOFFSETFROM:-0400
TZOFFSETTO:-0500
TZNAME:EST
DTSTART:19701101T020000
RRULE:FREQ=YEARLY;BYMONTH=11;BYDAY=1SU
END:STANDARD
END:VTIMEZONE
BEGIN:VEVENT
UID:2938326:Event:32036
DTSTAMP:20260421T035410Z
SUMMARY:Paramus Happy Hour
DESCRIPTION:Do you live or work in Bergen County? Then join us for ano
 ther Paramus Happy Hour that is easy to get to! The Bonefish Grill is 
 right between the Parkway and the Paramus Park Mall. There will be dri
 nk specials, free parking, and maybe even free food.\n\nFYI, The Octob
 er Happy Hour was the BEST ever in Paramus! Check out the pictures, ht
 tp://www.njyp.org/photo/albums/paramus-happy-hour-oct-09\n\nWho should
  attend:\nAnyone who is 21-39 years old. There is no cover and ALL are
  welcome!\nPlease just RSVP (to the right) so we have a headcount.\n\n
 What to expect:\nOur Happy Hours are very casual. There are no sign-in
  tables, no name tags, and no ice breakers. Expect people to walk up t
 o you to introduce themselves and feel free to walk up to others who y
 ou do not know. Newbies are at EVERY NJYP event so if this is your fir
 st, you won't be alone.\n\nHost:\nRachel C is hosting.\n\nHow to find 
 the group:\nMeet us at the bar of course. We will have the center row 
 of high top tables saved for us.\n\nDirections:\nThe Bonefish Grill is
  connected to the Crowne Plaza Hotel. You can see the restaurant from 
 the Parkway. You can also see the restaurant from the Paramus Park Mal
 l if you are on the Macy’s side.\n\nFor more information visit http:
 //njyp.org/events/paramus-happy-hour-2
DTSTART;TZID=America/New_York:20100120T180000
DTEND;TZID=America/New_York:20100120T200000
CATEGORIES:"bergen county", social
LOCATION:Bonefish Grill
WEBSITE:http://maps.google.com/maps?hl=en&ie=UTF8&q=bonefish+grill+par
 amus,+nj&fb=1&split=1&gl=us&ei=HvSLSsbaGeSStgeq9KjkBg&cid=526910694398
 1907511&li=lmd&ll=40.957377,-74.063129&spn=0.016885,0.034161&z=15
URL:http://maps.google.com/maps?hl=en&ie=UTF8&q=bonefish+grill+paramus
 ,+nj&fb=1&split=1&gl=us&ei=HvSLSsbaGeSStgeq9KjkBg&cid=5269106943981907
 511&li=lmd&ll=40.957377,-74.063129&spn=0.016885,0.034161&z=15
CONTACT:
ORGANIZER;CN="Brian and Mike":http://njyp.org/profile/BrianMike
ATTACH;FMTTYPE="image/jpeg":http://storage.ning.com/topology/rest/1.0/
 file/get/1088577773?profile=original
ATTENDEE;ROLE=REQ-PARTICIPANT;PARTSTAT=ACCEPTED;RSVP=TRUE;CN="paul sza
 bo":http://njyp.org/profile/paulszabo
ATTENDEE;ROLE=REQ-PARTICIPANT;PARTSTAT=ACCEPTED;RSVP=TRUE;CN=Kimberly:
 http://njyp.org/profile/Kimberly652
ATTENDEE;ROLE=REQ-PARTICIPANT;PARTSTAT=ACCEPTED;RSVP=TRUE;CN=TJ:http:/
 /njyp.org/profile/TJ
ATTENDEE;ROLE=REQ-PARTICIPANT;PARTSTAT=ACCEPTED;RSVP=TRUE;CN=Perry:htt
 p://njyp.org/profile/Perry
ATTENDEE;ROLE=REQ-PARTICIPANT;PARTSTAT=ACCEPTED;RSVP=TRUE;CN="ndidi ob
 i":http://njyp.org/profile/ndidiobi
ATTENDEE;ROLE=REQ-PARTICIPANT;PARTSTAT=ACCEPTED;RSVP=TRUE;CN=Omar:http
 ://njyp.org/profile/OmarKozarsky
ATTENDEE;ROLE=REQ-PARTICIPANT;PARTSTAT=ACCEPTED;RSVP=TRUE;CN=Courtney:
 http://njyp.org/profile/CourtneyCardozo
ATTENDEE;ROLE=REQ-PARTICIPANT;PARTSTAT=ACCEPTED;RSVP=TRUE;CN=Michele:h
 ttp://njyp.org/profile/Michele360
ATTENDEE;ROLE=REQ-PARTICIPANT;PARTSTAT=ACCEPTED;RSVP=TRUE;CN="Michelle
  Ricciardi":http://njyp.org/profile/MichelleRicciardi
ATTENDEE;ROLE=REQ-PARTICIPANT;PARTSTAT=ACCEPTED;RSVP=TRUE;CN="Jonathan
  Hakakian":http://njyp.org/profile/JonathanHakakian
ATTENDEE;ROLE=REQ-PARTICIPANT;PARTSTAT=ACCEPTED;RSVP=TRUE;CN=Ilana:htt
 p://njyp.org/profile/IlanaWeinstein
ATTENDEE;ROLE=REQ-PARTICIPANT;PARTSTAT=ACCEPTED;RSVP=TRUE;CN=Daniela:h
 ttp://njyp.org/profile/Daniela
ATTENDEE;ROLE=REQ-PARTICIPANT;PARTSTAT=ACCEPTED;RSVP=TRUE;CN=Raul:http
 ://njyp.org/profile/Raul
ATTENDEE;ROLE=REQ-PARTICIPANT;PARTSTAT=ACCEPTED;RSVP=TRUE;CN="Jhovanny
  Rodriguez":http://njyp.org/profile/JhovannyRodriguez
ATTENDEE;ROLE=REQ-PARTICIPANT;PARTSTAT=ACCEPTED;RSVP=TRUE;CN="Stacey D
 ecembrele":http://njyp.org/profile/StaceyDecembrele
ATTENDEE;ROLE=REQ-PARTICIPANT;PARTSTAT=ACCEPTED;RSVP=TRUE;CN="Christin
 e Rydzik":http://njyp.org/profile/CupcakingChristine
ATTENDEE;ROLE=REQ-PARTICIPANT;PARTSTAT=ACCEPTED;RSVP=TRUE;CN=Ash:http:
 //njyp.org/profile/AshwiniReddy
ATTENDEE;ROLE=REQ-PARTICIPANT;PARTSTAT=ACCEPTED;RSVP=TRUE;CN="Marina S
 vorinic":http://njyp.org/profile/MarinaSvorinic
ATTENDEE;ROLE=REQ-PARTICIPANT;PARTSTAT=ACCEPTED;RSVP=TRUE;CN=Franco:ht
 tp://njyp.org/profile/Franco
ATTENDEE;ROLE=REQ-PARTICIPANT;PARTSTAT=ACCEPTED;RSVP=TRUE;CN="David Av
 ery":http://njyp.org/profile/DavidAvery
ATTENDEE;ROLE=REQ-PARTICIPANT;PARTSTAT=ACCEPTED;RSVP=TRUE;CN="Orville 
 Morales":http://njyp.org/profile/OrvilleMorales
ATTENDEE;ROLE=REQ-PARTICIPANT;PARTSTAT=ACCEPTED;RSVP=TRUE;CN="Corinne 
 Mitchell":http://njyp.org/profile/CorinneMitchell
ATTENDEE;ROLE=REQ-PARTICIPANT;PARTSTAT=ACCEPTED;RSVP=TRUE;CN=Rebecca:h
 ttp://njyp.org/profile/Rebecca
ATTENDEE;ROLE=REQ-PARTICIPANT;PARTSTAT=ACCEPTED;RSVP=TRUE;CN="Michael 
 Maloof":http://njyp.org/profile/MichaelMaloof
ATTENDEE;ROLE=REQ-PARTICIPANT;PARTSTAT=ACCEPTED;RSVP=TRUE;CN="rachel i
 rene":http://njyp.org/profile/rachel_irene
ATTENDEE;ROLE=REQ-PARTICIPANT;PARTSTAT=ACCEPTED;RSVP=TRUE;CN="Brittany
  Burke":http://njyp.org/profile/BrittanyBurke
ATTENDEE;ROLE=REQ-PARTICIPANT;PARTSTAT=ACCEPTED;RSVP=TRUE;CN="John B":
 http://njyp.org/profile/johnb
ATTENDEE;ROLE=REQ-PARTICIPANT;PARTSTAT=ACCEPTED;RSVP=TRUE;CN="Rachel W
 eiss":http://njyp.org/profile/RachelWeiss
ATTENDEE;ROLE=REQ-PARTICIPANT;PARTSTAT=ACCEPTED;RSVP=TRUE;CN=John:http
 ://njyp.org/profile/JohnCastro
ATTENDEE;ROLE=REQ-PARTICIPANT;PARTSTAT=ACCEPTED;RSVP=TRUE;CN="Christyn
  Gorga":http://njyp.org/profile/ChristynGorga
ATTENDEE;ROLE=REQ-PARTICIPANT;PARTSTAT=ACCEPTED;RSVP=TRUE;CN=Seema:htt
 p://njyp.org/profile/SeemaRaykar
ATTENDEE;ROLE=REQ-PARTICIPANT;PARTSTAT=ACCEPTED;RSVP=TRUE;CN="Tom Mill
 er":http://njyp.org/profile/TomMiller
ATTENDEE;ROLE=REQ-PARTICIPANT;PARTSTAT=ACCEPTED;RSVP=TRUE;CN=Jenine:ht
 tp://njyp.org/profile/jrose1528
ATTENDEE;ROLE=REQ-PARTICIPANT;PARTSTAT=ACCEPTED;RSVP=TRUE;CN="Wendy Re
 yes":http://njyp.org/profile/WendyReyes
ATTENDEE;ROLE=REQ-PARTICIPANT;PARTSTAT=ACCEPTED;RSVP=TRUE;CN="Michael 
 Keating":http://njyp.org/profile/MichaelKeating
ATTENDEE;ROLE=REQ-PARTICIPANT;PARTSTAT=ACCEPTED;RSVP=TRUE;CN="Kristin 
 Kopec":http://njyp.org/profile/KristinKopec
ATTENDEE;ROLE=REQ-PARTICIPANT;PARTSTAT=ACCEPTED;RSVP=TRUE;CN=Lizzie:ht
 tp://njyp.org/profile/ElizabethKuhns
ATTENDEE;ROLE=REQ-PARTICIPANT;PARTSTAT=ACCEPTED;RSVP=TRUE;CN="Joanna V
 ogel":http://njyp.org/profile/JoannaVogel
ATTENDEE;ROLE=REQ-PARTICIPANT;PARTSTAT=ACCEPTED;RSVP=TRUE;CN="Dennis L
 ee":http://njyp.org/profile/leeden
ATTENDEE;ROLE=REQ-PARTICIPANT;PARTSTAT=ACCEPTED;RSVP=TRUE;CN="Kevin Ha
 ughwout":http://njyp.org/profile/KevinHaughwout
ATTENDEE;ROLE=REQ-PARTICIPANT;PARTSTAT=ACCEPTED;RSVP=TRUE;CN=Jessica:h
 ttp://njyp.org/profile/JF
ATTENDEE;ROLE=REQ-PARTICIPANT;PARTSTAT=ACCEPTED;RSVP=TRUE;CN="Brian an
 d Mike":http://njyp.org/profile/BrianMike
ATTENDEE;ROLE=REQ-PARTICIPANT;PARTSTAT=TENTATIVE;RSVP=TRUE;CN="Lynn Ad
 amo":http://njyp.org/profile/LynnAdamo
ATTENDEE;ROLE=REQ-PARTICIPANT;PARTSTAT=TENTATIVE;RSVP=TRUE;CN="Alexis 
 Capik":http://njyp.org/profile/AlexisCapik
ATTENDEE;ROLE=REQ-PARTICIPANT;PARTSTAT=TENTATIVE;RSVP=TRUE;CN="Gina La
 vagna":http://njyp.org/profile/GinaLavagna
ATTENDEE;ROLE=REQ-PARTICIPANT;PARTSTAT=TENTATIVE;RSVP=TRUE;CN=Tom:http
 ://njyp.org/profile/GraphicDesignerIllustrator
ATTENDEE;ROLE=REQ-PARTICIPANT;PARTSTAT=TENTATIVE;RSVP=TRUE;CN=LSM:http
 ://njyp.org/profile/NYCLS
ATTENDEE;ROLE=REQ-PARTICIPANT;PARTSTAT=TENTATIVE;RSVP=TRUE;CN=Linda:ht
 tp://njyp.org/profile/LindaAssante
ATTENDEE;ROLE=REQ-PARTICIPANT;PARTSTAT=TENTATIVE;RSVP=TRUE;CN="Chris L
 ombardi":http://njyp.org/profile/ChrisLombardi
ATTENDEE;ROLE=REQ-PARTICIPANT;PARTSTAT=TENTATIVE;RSVP=TRUE;CN="Stephan
 ie Scheeler":http://njyp.org/profile/StephanieScheeler
ATTENDEE;ROLE=REQ-PARTICIPANT;PARTSTAT=TENTATIVE;RSVP=TRUE;CN="Yaaki K
 oesterich":http://njyp.org/profile/YaakiKoesterich
ATTENDEE;ROLE=REQ-PARTICIPANT;PARTSTAT=TENTATIVE;RSVP=TRUE;CN="Niraj C
 hhabra":http://njyp.org/profile/nirajchhabra
ATTENDEE;ROLE=REQ-PARTICIPANT;PARTSTAT=TENTATIVE;RSVP=TRUE;CN="Sarah M
 iddleton":http://njyp.org/profile/SarahM
ATTENDEE;ROLE=REQ-PARTICIPANT;PARTSTAT=TENTATIVE;RSVP=TRUE;CN=Pam:http
 ://njyp.org/profile/PamStomel
ATTENDEE;ROLE=REQ-PARTICIPANT;PARTSTAT=TENTATIVE;RSVP=TRUE;CN="Wendy J
  Polanco":http://njyp.org/profile/WendyJPolanco
ATTENDEE;ROLE=REQ-PARTICIPANT;PARTSTAT=TENTATIVE;RSVP=TRUE;CN=Meredith
 :http://njyp.org/profile/MeredithC
ATTENDEE;ROLE=REQ-PARTICIPANT;PARTSTAT=TENTATIVE;RSVP=TRUE;CN="Ken S."
 :http://njyp.org/profile/KennethSirower
ATTENDEE;ROLE=REQ-PARTICIPANT;PARTSTAT=TENTATIVE;RSVP=TRUE;CN=Vincent:
 http://njyp.org/profile/Vincent
ATTENDEE;ROLE=REQ-PARTICIPANT;PARTSTAT=TENTATIVE;RSVP=TRUE;CN="Marie T
 izon":http://njyp.org/profile/MarieTizon
ATTENDEE;ROLE=REQ-PARTICIPANT;PARTSTAT=TENTATIVE;RSVP=TRUE;CN=David:ht
 tp://njyp.org/profile/DavidKuhn
ATTENDEE;ROLE=REQ-PARTICIPANT;PARTSTAT=TENTATIVE;RSVP=TRUE;CN="Dana Ge
 orge":http://njyp.org/profile/DanaGeorge
ATTENDEE;ROLE=REQ-PARTICIPANT;PARTSTAT=TENTATIVE;RSVP=TRUE;CN="Lisa F"
 :http://njyp.org/profile/LisaF
ATTENDEE;ROLE=REQ-PARTICIPANT;PARTSTAT=TENTATIVE;RSVP=TRUE;CN=Brianne:
 http://njyp.org/profile/BrianneSherwood
ATTENDEE;ROLE=REQ-PARTICIPANT;PARTSTAT=TENTATIVE;RSVP=TRUE;CN="Wendy P
 arker":http://njyp.org/profile/WendyParker
ATTENDEE;ROLE=REQ-PARTICIPANT;PARTSTAT=TENTATIVE;RSVP=TRUE;CN=Tara:htt
 p://njyp.org/profile/TaraMorey
ATTENDEE;ROLE=REQ-PARTICIPANT;PARTSTAT=TENTATIVE;RSVP=TRUE;CN="Devika 
 Bakhshi":http://njyp.org/profile/Devika
END:VEVENT
END:VCALENDAR
