BEGIN:VCALENDAR
PRODID:NingEventWidget-v1
VERSION:2.0
METHOD:PUBLISH
BEGIN:VTIMEZONE
TZID:America/New_York
X-LIC-LOCATION:America/New_York
BEGIN:DAYLIGHT
TZOFFSETFROM:-0500
TZOFFSETTO:-0400
TZNAME:EDT
DTSTART:19700308T020000
RRULE:FREQ=YEARLY;BYMONTH=3;BYDAY=2SU
END:DAYLIGHT
BEGIN:STANDARD
TZOFFSETFROM:-0400
TZOFFSETTO:-0500
TZNAME:EST
DTSTART:19701101T020000
RRULE:FREQ=YEARLY;BYMONTH=11;BYDAY=1SU
END:STANDARD
END:VTIMEZONE
BEGIN:VEVENT
UID:2938326:Event:131302
DTSTAMP:20260420T125218Z
SUMMARY:Paramus Happy Hour
DESCRIPTION:Meet. Greet. Mix. Mingle. This month the Members of NJYP a
 re going back to the sexy and sleek lounge at Mantra. There will be dr
 ink specials and New Jersey’s finest Young Professionals. See you th
 ere as we take over the bar :)Who should attend:Members who are 21-39 
 years old. There is no cover but please RSVP so we know you are coming
 .1 item minimum per person.What to expect:Our Happy Hours are very cas
 ual. There are no sign-in tables, no name tags, and no ice breakers. E
 xpect people to walk up to you to introduce themselves and feel free t
 o walk up to others who you do not know. Newbies are at EVERY NJYP eve
 nt so if this is your first, you won't be alone.Host:TBD will be hosti
 ng this event.How to find the group:Meet us at the bar of course. We a
 re going to take over the entire bar/lounge.Directions/Parking:Use thi
 s address when mapping on Google Maps: “275 New Jersey 4, Paramus, N
 J‎”Mantra is on Westbound Route 4. Look for Macy’s Furniture and
  the Jewelry Exchange while you are driving along the highway, Mantra 
 is in the same strip mall.http://www.mantranj.com/ Tons of FREE parkin
 g.\n\nFor more information visit http://njyp.org/events/paramus-happy-
 hour-8
DTSTART;TZID=America/New_York:20110209T180000
DTEND;TZID=America/New_York:20110209T200000
CATEGORIES:"bergen county", social
LOCATION:Mantra
WEBSITE:http://www.mantranj.com/
URL:http://www.mantranj.com/
CONTACT:
ORGANIZER;CN="Brian and Mike":http://njyp.org/profile/BrianMike
ATTACH;FMTTYPE="image/jpeg":http://storage.ning.com/topology/rest/1.0/
 file/get/1088671140?profile=original
ATTENDEE;ROLE=REQ-PARTICIPANT;PARTSTAT=ACCEPTED;RSVP=TRUE;CN=Caitlin:h
 ttp://njyp.org/profile/Caitlin310
ATTENDEE;ROLE=REQ-PARTICIPANT;PARTSTAT=ACCEPTED;RSVP=TRUE;CN=Jun:http:
 //njyp.org/profile/Jun
ATTENDEE;ROLE=REQ-PARTICIPANT;PARTSTAT=ACCEPTED;RSVP=TRUE;CN=Sri:http:
 //njyp.org/profile/Sri
ATTENDEE;ROLE=REQ-PARTICIPANT;PARTSTAT=ACCEPTED;RSVP=TRUE;CN=Nicole:ht
 tp://njyp.org/profile/Nicole674
ATTENDEE;ROLE=REQ-PARTICIPANT;PARTSTAT=ACCEPTED;RSVP=TRUE;CN="Lisa F":
 http://njyp.org/profile/LisaF
ATTENDEE;ROLE=REQ-PARTICIPANT;PARTSTAT=ACCEPTED;RSVP=TRUE;CN=Jenny:htt
 p://njyp.org/profile/Jennifer694
ATTENDEE;ROLE=REQ-PARTICIPANT;PARTSTAT=ACCEPTED;RSVP=TRUE;CN=Zakkiyya:
 http://njyp.org/profile/ZakkiyyaTaylor
ATTENDEE;ROLE=REQ-PARTICIPANT;PARTSTAT=ACCEPTED;RSVP=TRUE;CN=Tim:http:
 //njyp.org/profile/TimothyH
ATTENDEE;ROLE=REQ-PARTICIPANT;PARTSTAT=ACCEPTED;RSVP=TRUE;CN="Angela M
 ungioli":http://njyp.org/profile/AngelaMungioli
ATTENDEE;ROLE=REQ-PARTICIPANT;PARTSTAT=ACCEPTED;RSVP=TRUE;CN=Helen:htt
 p://njyp.org/profile/Helen108
ATTENDEE;ROLE=REQ-PARTICIPANT;PARTSTAT=ACCEPTED;RSVP=TRUE;CN=Alaina:ht
 tp://njyp.org/profile/Alaina
ATTENDEE;ROLE=REQ-PARTICIPANT;PARTSTAT=ACCEPTED;RSVP=TRUE;CN=Jason:htt
 p://njyp.org/profile/Jason163
ATTENDEE;ROLE=REQ-PARTICIPANT;PARTSTAT=ACCEPTED;RSVP=TRUE;CN=Justin:ht
 tp://njyp.org/profile/JustinDiMinni
ATTENDEE;ROLE=REQ-PARTICIPANT;PARTSTAT=ACCEPTED;RSVP=TRUE;CN=Faith:htt
 p://njyp.org/profile/Faith
ATTENDEE;ROLE=REQ-PARTICIPANT;PARTSTAT=ACCEPTED;RSVP=TRUE;CN=Scott:htt
 p://njyp.org/profile/Scott575
ATTENDEE;ROLE=REQ-PARTICIPANT;PARTSTAT=ACCEPTED;RSVP=TRUE;CN=Despina:h
 ttp://njyp.org/profile/Despina
ATTENDEE;ROLE=REQ-PARTICIPANT;PARTSTAT=ACCEPTED;RSVP=TRUE;CN=Drew:http
 ://njyp.org/profile/AndrewCoughlan
ATTENDEE;ROLE=REQ-PARTICIPANT;PARTSTAT=ACCEPTED;RSVP=TRUE;CN=Julie:htt
 p://njyp.org/profile/Julie942
ATTENDEE;ROLE=REQ-PARTICIPANT;PARTSTAT=ACCEPTED;RSVP=TRUE;CN=Jim:http:
 //njyp.org/profile/Jim
ATTENDEE;ROLE=REQ-PARTICIPANT;PARTSTAT=ACCEPTED;RSVP=TRUE;CN=Bailey:ht
 tp://njyp.org/profile/KBM
ATTENDEE;ROLE=REQ-PARTICIPANT;PARTSTAT=ACCEPTED;RSVP=TRUE;CN="Elizabet
 h Gonzalez":http://njyp.org/profile/ElizabethGonzalez992
ATTENDEE;ROLE=REQ-PARTICIPANT;PARTSTAT=ACCEPTED;RSVP=TRUE;CN=Jessica:h
 ttp://njyp.org/profile/JessB
ATTENDEE;ROLE=REQ-PARTICIPANT;PARTSTAT=ACCEPTED;RSVP=TRUE;CN=Rosalyn:h
 ttp://njyp.org/profile/Rosalyn
ATTENDEE;ROLE=REQ-PARTICIPANT;PARTSTAT=ACCEPTED;RSVP=TRUE;CN=Marcelo:h
 ttp://njyp.org/profile/EzraS
ATTENDEE;ROLE=REQ-PARTICIPANT;PARTSTAT=ACCEPTED;RSVP=TRUE;CN=Omar:http
 ://njyp.org/profile/OmarKozarsky
ATTENDEE;ROLE=REQ-PARTICIPANT;PARTSTAT=ACCEPTED;RSVP=TRUE;CN=Laura:htt
 p://njyp.org/profile/Laura663
ATTENDEE;ROLE=REQ-PARTICIPANT;PARTSTAT=ACCEPTED;RSVP=TRUE;CN="Dr. Kevi
 n":http://njyp.org/profile/KevinBrennan
ATTENDEE;ROLE=REQ-PARTICIPANT;PARTSTAT=ACCEPTED;RSVP=TRUE;CN=Fran:http
 ://njyp.org/profile/Fran
ATTENDEE;ROLE=REQ-PARTICIPANT;PARTSTAT=ACCEPTED;RSVP=TRUE;CN=Christoph
 er:http://njyp.org/profile/Christopher855
ATTENDEE;ROLE=REQ-PARTICIPANT;PARTSTAT=ACCEPTED;RSVP=TRUE;CN=Kendra:ht
 tp://njyp.org/profile/Kendra
ATTENDEE;ROLE=REQ-PARTICIPANT;PARTSTAT=ACCEPTED;RSVP=TRUE;CN=Lena:http
 ://njyp.org/profile/Lena493
ATTENDEE;ROLE=REQ-PARTICIPANT;PARTSTAT=ACCEPTED;RSVP=TRUE;CN="Rachel W
 eiss":http://njyp.org/profile/RachelWeiss
ATTENDEE;ROLE=REQ-PARTICIPANT;PARTSTAT=ACCEPTED;RSVP=TRUE;CN=Darius:ht
 tp://njyp.org/profile/Darius
ATTENDEE;ROLE=REQ-PARTICIPANT;PARTSTAT=ACCEPTED;RSVP=TRUE;CN="Brian an
 d Mike":http://njyp.org/profile/BrianMike
ATTENDEE;ROLE=REQ-PARTICIPANT;PARTSTAT=TENTATIVE;RSVP=TRUE;CN=Anthony:
 http://njyp.org/profile/Anthony491
ATTENDEE;ROLE=REQ-PARTICIPANT;PARTSTAT=TENTATIVE;RSVP=TRUE;CN=Digant:h
 ttp://njyp.org/profile/Digant
ATTENDEE;ROLE=REQ-PARTICIPANT;PARTSTAT=TENTATIVE;RSVP=TRUE;CN=Rob:http
 ://njyp.org/profile/Rob289
ATTENDEE;ROLE=REQ-PARTICIPANT;PARTSTAT=TENTATIVE;RSVP=TRUE;CN=James:ht
 tp://njyp.org/profile/James681
ATTENDEE;ROLE=REQ-PARTICIPANT;PARTSTAT=TENTATIVE;RSVP=TRUE;CN=Cindy:ht
 tp://njyp.org/profile/Cindy
ATTENDEE;ROLE=REQ-PARTICIPANT;PARTSTAT=TENTATIVE;RSVP=TRUE;CN=Rebecca:
 http://njyp.org/profile/Rebecca
ATTENDEE;ROLE=REQ-PARTICIPANT;PARTSTAT=TENTATIVE;RSVP=TRUE;CN="Joe Han
 zel Troy":http://njyp.org/profile/JosephHanzelDagdagan
ATTENDEE;ROLE=REQ-PARTICIPANT;PARTSTAT=TENTATIVE;RSVP=TRUE;CN=Brianne:
 http://njyp.org/profile/BrianneSherwood
ATTENDEE;ROLE=REQ-PARTICIPANT;PARTSTAT=TENTATIVE;RSVP=TRUE;CN=Lizzie:h
 ttp://njyp.org/profile/ElizabethKuhns
ATTENDEE;ROLE=REQ-PARTICIPANT;PARTSTAT=TENTATIVE;RSVP=TRUE;CN=Maxine:h
 ttp://njyp.org/profile/Maxine
ATTENDEE;ROLE=REQ-PARTICIPANT;PARTSTAT=TENTATIVE;RSVP=TRUE;CN="Kristin
  Kopec":http://njyp.org/profile/KristinKopec
ATTENDEE;ROLE=REQ-PARTICIPANT;PARTSTAT=TENTATIVE;RSVP=TRUE;CN=Sara:htt
 p://njyp.org/profile/Sara670
ATTENDEE;ROLE=REQ-PARTICIPANT;PARTSTAT=TENTATIVE;RSVP=TRUE;CN="David A
 very":http://njyp.org/profile/DavidAvery
ATTENDEE;ROLE=REQ-PARTICIPANT;PARTSTAT=TENTATIVE;RSVP=TRUE;CN=Katie:ht
 tp://njyp.org/profile/Katie684
ATTENDEE;ROLE=REQ-PARTICIPANT;PARTSTAT=TENTATIVE;RSVP=TRUE;CN=John:htt
 p://njyp.org/profile/JohnCastro
ATTENDEE;ROLE=REQ-PARTICIPANT;PARTSTAT=TENTATIVE;RSVP=TRUE;CN="Joanna 
 Vogel":http://njyp.org/profile/JoannaVogel
ATTENDEE;ROLE=REQ-PARTICIPANT;PARTSTAT=TENTATIVE;RSVP=TRUE;CN=Hui-Lian
 :http://njyp.org/profile/HuiLian
ATTENDEE;ROLE=REQ-PARTICIPANT;PARTSTAT=TENTATIVE;RSVP=TRUE;CN="Brittan
 y Burke":http://njyp.org/profile/BrittanyBurke
ATTENDEE;ROLE=REQ-PARTICIPANT;PARTSTAT=TENTATIVE;RSVP=TRUE;CN="Jennife
 r Mesce":http://njyp.org/profile/JenniferMesce
ATTENDEE;ROLE=REQ-PARTICIPANT;PARTSTAT=TENTATIVE;RSVP=TRUE;CN="Kevin H
 aughwout":http://njyp.org/profile/KevinHaughwout
END:VEVENT
END:VCALENDAR
