BEGIN:VCALENDAR
PRODID:NingEventWidget-v1
VERSION:2.0
METHOD:PUBLISH
BEGIN:VTIMEZONE
TZID:America/New_York
X-LIC-LOCATION:America/New_York
BEGIN:DAYLIGHT
TZOFFSETFROM:-0500
TZOFFSETTO:-0400
TZNAME:EDT
DTSTART:19700308T020000
RRULE:FREQ=YEARLY;BYMONTH=3;BYDAY=2SU
END:DAYLIGHT
BEGIN:STANDARD
TZOFFSETFROM:-0400
TZOFFSETTO:-0500
TZNAME:EST
DTSTART:19701101T020000
RRULE:FREQ=YEARLY;BYMONTH=11;BYDAY=1SU
END:STANDARD
END:VTIMEZONE
BEGIN:VEVENT
UID:2938326:Event:14601
DTSTAMP:20260423T213459Z
SUMMARY:Paramus Happy Hour
DESCRIPTION:Do you live or work in Bergen County? Then join us for thi
 s Paramus Happy Hour that is easy to get to! The Bonefish Grill is rig
 ht between the Parkway and the Paramus Park Mall. There will be drink 
 specials, free parking, and maybe even free food (still TBD).\n\nPleas
 e note: If you want to see more Bergen County events, support this Hap
 py Hour! Unlike with other counties, BC Young Professionals seem to be
  very spread out so you may need to drive 15 minutes to get here. The 
 extra effort will be worth it.\n\nWho should attend:\nAnyone who is 21
 -39 years old. There is no cover and ALL are welcome!\nPlease just RSV
 P (to the right) so we have a headcount.\n\nWhat to expect:\nOur Happy
  Hours are very casual. There are no sign-in tables, no name tags, and
  no ice breakers. Expect people to walk up to you to introduce themsel
 ves and feel free to walk up to others who you do not know. Newbies ar
 e at EVERY NJYP event so if this is your first, you won't be alone.\n\
 nHost:\nGet paid to host this event, http://www.njyp.org/forum/topics/
 njyp-is-looking-for-paid-event\n\nHow to find the group:\nMeet us at t
 he bar of course. We will have 1-2 of the center, high top tables save
 d for us.\n\nDirections:\nThe Bonefish Grill is connected to the Crown
 e Plaza Hotel. You can see the restaurant from the Parkway. You can al
 so see the restaurant from the Paramus Park Mall if you are on the Mac
 y’s side. Use this map to get you there.\n\nFor more information vis
 it http://njyp.org/events/paramus-happy-hour
DTSTART;TZID=America/New_York:20091008T180000
DTEND;TZID=America/New_York:20091008T200000
CATEGORIES:"bergen county", social
LOCATION:Bonefish Grill
WEBSITE:http://maps.google.com/maps?hl=en&ie=UTF8&q=bonefish+grill+par
 amus,+nj&fb=1&split=1&gl=us&ei=HvSLSsbaGeSStgeq9KjkBg&cid=526910694398
 1907511&li=lmd&ll=40.957377,-74.063129&spn=0.016885,0.034161&z=15
URL:http://maps.google.com/maps?hl=en&ie=UTF8&q=bonefish+grill+paramus
 ,+nj&fb=1&split=1&gl=us&ei=HvSLSsbaGeSStgeq9KjkBg&cid=5269106943981907
 511&li=lmd&ll=40.957377,-74.063129&spn=0.016885,0.034161&z=15
CONTACT:
ORGANIZER;CN="Brian and Mike":http://njyp.org/profile/BrianMike
ATTACH;FMTTYPE="image/jpeg":http://storage.ning.com/topology/rest/1.0/
 file/get/1088549461?profile=original
ATTENDEE;ROLE=REQ-PARTICIPANT;PARTSTAT=ACCEPTED;RSVP=TRUE;CN=Jessica:h
 ttp://njyp.org/profile/JF
ATTENDEE;ROLE=REQ-PARTICIPANT;PARTSTAT=ACCEPTED;RSVP=TRUE;CN="rachel i
 rene":http://njyp.org/profile/rachel_irene
ATTENDEE;ROLE=REQ-PARTICIPANT;PARTSTAT=ACCEPTED;RSVP=TRUE;CN="Brenda E
 unice":http://njyp.org/profile/BrendaEunice
ATTENDEE;ROLE=REQ-PARTICIPANT;PARTSTAT=ACCEPTED;RSVP=TRUE;CN=Jennifer:
 http://njyp.org/profile/JenniferEphraim
ATTENDEE;ROLE=REQ-PARTICIPANT;PARTSTAT=ACCEPTED;RSVP=TRUE;CN="Erica Di
  Bianco":http://njyp.org/profile/EricaDiBianco
ATTENDEE;ROLE=REQ-PARTICIPANT;PARTSTAT=ACCEPTED;RSVP=TRUE;CN="Chris Lo
 mbardi":http://njyp.org/profile/ChrisLombardi
ATTENDEE;ROLE=REQ-PARTICIPANT;PARTSTAT=ACCEPTED;RSVP=TRUE;CN=David:htt
 p://njyp.org/profile/DavidAAdams
ATTENDEE;ROLE=REQ-PARTICIPANT;PARTSTAT=ACCEPTED;RSVP=TRUE;CN="Tara Bur
 ns":http://njyp.org/profile/TaraBurns
ATTENDEE;ROLE=REQ-PARTICIPANT;PARTSTAT=ACCEPTED;RSVP=TRUE;CN="Shannon 
 C":http://njyp.org/profile/ShannonC
ATTENDEE;ROLE=REQ-PARTICIPANT;PARTSTAT=ACCEPTED;RSVP=TRUE;CN=Jessica:h
 ttp://njyp.org/profile/JessicaNatalizio
ATTENDEE;ROLE=REQ-PARTICIPANT;PARTSTAT=ACCEPTED;RSVP=TRUE;CN="Maria Az
 zarelli":http://njyp.org/profile/MariaAzzarelli
ATTENDEE;ROLE=REQ-PARTICIPANT;PARTSTAT=ACCEPTED;RSVP=TRUE;CN=Rcamacho:
 http://njyp.org/profile/Rcamacho
ATTENDEE;ROLE=REQ-PARTICIPANT;PARTSTAT=ACCEPTED;RSVP=TRUE;CN=Tom:http:
 //njyp.org/profile/Tom
ATTENDEE;ROLE=REQ-PARTICIPANT;PARTSTAT=ACCEPTED;RSVP=TRUE;CN=Rebecca:h
 ttp://njyp.org/profile/Rebecca
ATTENDEE;ROLE=REQ-PARTICIPANT;PARTSTAT=ACCEPTED;RSVP=TRUE;CN="Carol Pe
 terson":http://njyp.org/profile/CarolPeterson
ATTENDEE;ROLE=REQ-PARTICIPANT;PARTSTAT=ACCEPTED;RSVP=TRUE;CN=Brianne:h
 ttp://njyp.org/profile/BrianneSherwood
ATTENDEE;ROLE=REQ-PARTICIPANT;PARTSTAT=ACCEPTED;RSVP=TRUE;CN="Melissa 
 Dubay":http://njyp.org/profile/MelissaDubay
ATTENDEE;ROLE=REQ-PARTICIPANT;PARTSTAT=ACCEPTED;RSVP=TRUE;CN="John B":
 http://njyp.org/profile/johnb
ATTENDEE;ROLE=REQ-PARTICIPANT;PARTSTAT=ACCEPTED;RSVP=TRUE;CN="Ken S.":
 http://njyp.org/profile/KennethSirower
ATTENDEE;ROLE=REQ-PARTICIPANT;PARTSTAT=ACCEPTED;RSVP=TRUE;CN=Drew:http
 ://njyp.org/profile/AndrewCoughlan
ATTENDEE;ROLE=REQ-PARTICIPANT;PARTSTAT=ACCEPTED;RSVP=TRUE;CN="Chance P
 arker":http://njyp.org/profile/ChanceParker
ATTENDEE;ROLE=REQ-PARTICIPANT;PARTSTAT=ACCEPTED;RSVP=TRUE;CN="Mark Kin
 gsley":http://njyp.org/profile/MarkKingsley
ATTENDEE;ROLE=REQ-PARTICIPANT;PARTSTAT=ACCEPTED;RSVP=TRUE;CN=Raul:http
 ://njyp.org/profile/Raul
ATTENDEE;ROLE=REQ-PARTICIPANT;PARTSTAT=ACCEPTED;RSVP=TRUE;CN="Tom Mill
 er":http://njyp.org/profile/TomMiller
ATTENDEE;ROLE=REQ-PARTICIPANT;PARTSTAT=ACCEPTED;RSVP=TRUE;CN="Kristin 
 Kopec":http://njyp.org/profile/KristinKopec
ATTENDEE;ROLE=REQ-PARTICIPANT;PARTSTAT=ACCEPTED;RSVP=TRUE;CN=John:http
 ://njyp.org/profile/JohnCastro
ATTENDEE;ROLE=REQ-PARTICIPANT;PARTSTAT=ACCEPTED;RSVP=TRUE;CN="Nikki Ha
 rt":http://njyp.org/profile/DomenicaHart
ATTENDEE;ROLE=REQ-PARTICIPANT;PARTSTAT=ACCEPTED;RSVP=TRUE;CN="Alix Fos
 ter":http://njyp.org/profile/AlixFoster
ATTENDEE;ROLE=REQ-PARTICIPANT;PARTSTAT=ACCEPTED;RSVP=TRUE;CN="Melissa 
 Hartshorn":http://njyp.org/profile/MelissaHartshorn
ATTENDEE;ROLE=REQ-PARTICIPANT;PARTSTAT=ACCEPTED;RSVP=TRUE;CN="Wendy J 
 Polanco":http://njyp.org/profile/WendyJPolanco
ATTENDEE;ROLE=REQ-PARTICIPANT;PARTSTAT=ACCEPTED;RSVP=TRUE;CN="Joanna V
 ogel":http://njyp.org/profile/JoannaVogel
ATTENDEE;ROLE=REQ-PARTICIPANT;PARTSTAT=ACCEPTED;RSVP=TRUE;CN="Kevin Ha
 ughwout":http://njyp.org/profile/KevinHaughwout
ATTENDEE;ROLE=REQ-PARTICIPANT;PARTSTAT=ACCEPTED;RSVP=TRUE;CN=Lizzie:ht
 tp://njyp.org/profile/ElizabethKuhns
ATTENDEE;ROLE=REQ-PARTICIPANT;PARTSTAT=ACCEPTED;RSVP=TRUE;CN="Dennis L
 ee":http://njyp.org/profile/leeden
ATTENDEE;ROLE=REQ-PARTICIPANT;PARTSTAT=ACCEPTED;RSVP=TRUE;CN=Tara:http
 ://njyp.org/profile/TaraMorey
ATTENDEE;ROLE=REQ-PARTICIPANT;PARTSTAT=ACCEPTED;RSVP=TRUE;CN="Wendy Pa
 rker":http://njyp.org/profile/WendyParker
ATTENDEE;ROLE=REQ-PARTICIPANT;PARTSTAT=ACCEPTED;RSVP=TRUE;CN="Brian an
 d Mike":http://njyp.org/profile/BrianMike
ATTENDEE;ROLE=REQ-PARTICIPANT;PARTSTAT=TENTATIVE;RSVP=TRUE;CN=Yoshi:ht
 tp://njyp.org/profile/Yoshi
ATTENDEE;ROLE=REQ-PARTICIPANT;PARTSTAT=TENTATIVE;RSVP=TRUE;CN=Rochelle
 :http://njyp.org/profile/Rochelle
ATTENDEE;ROLE=REQ-PARTICIPANT;PARTSTAT=TENTATIVE;RSVP=TRUE;CN=Vincent:
 http://njyp.org/profile/Vincent
ATTENDEE;ROLE=REQ-PARTICIPANT;PARTSTAT=TENTATIVE;RSVP=TRUE;CN=Ofelia:h
 ttp://njyp.org/profile/Ofelia
ATTENDEE;ROLE=REQ-PARTICIPANT;PARTSTAT=TENTATIVE;RSVP=TRUE;CN="Lisa F"
 :http://njyp.org/profile/LisaF
ATTENDEE;ROLE=REQ-PARTICIPANT;PARTSTAT=TENTATIVE;RSVP=TRUE;CN=Christin
 e:http://njyp.org/profile/Christine248
ATTENDEE;ROLE=REQ-PARTICIPANT;PARTSTAT=TENTATIVE;RSVP=TRUE;CN=Brian:ht
 tp://njyp.org/profile/Buffburgo
ATTENDEE;ROLE=REQ-PARTICIPANT;PARTSTAT=TENTATIVE;RSVP=TRUE;CN="Ayana C
 .":http://njyp.org/profile/AyanaCJoseph
ATTENDEE;ROLE=REQ-PARTICIPANT;PARTSTAT=TENTATIVE;RSVP=TRUE;CN=carlo:ht
 tp://njyp.org/profile/carlooliva
ATTENDEE;ROLE=REQ-PARTICIPANT;PARTSTAT=TENTATIVE;RSVP=TRUE;CN=Shirley:
 http://njyp.org/profile/shirleyzuniga
ATTENDEE;ROLE=REQ-PARTICIPANT;PARTSTAT=TENTATIVE;RSVP=TRUE;CN="Meeta P
 atel":http://njyp.org/profile/MeetaPatel
ATTENDEE;ROLE=REQ-PARTICIPANT;PARTSTAT=TENTATIVE;RSVP=TRUE;CN="Andrew 
 Vasta":http://njyp.org/profile/AndrewVasta
ATTENDEE;ROLE=REQ-PARTICIPANT;PARTSTAT=TENTATIVE;RSVP=TRUE;CN="Stacey 
 A Sotomayor":http://njyp.org/profile/StaceyASotomayor
ATTENDEE;ROLE=REQ-PARTICIPANT;PARTSTAT=TENTATIVE;RSVP=TRUE;CN=Jennifer
 :http://njyp.org/profile/JenniferC
END:VEVENT
END:VCALENDAR
