BEGIN:VCALENDAR
PRODID:NingEventWidget-v1
VERSION:2.0
METHOD:PUBLISH
BEGIN:VTIMEZONE
TZID:America/New_York
X-LIC-LOCATION:America/New_York
BEGIN:DAYLIGHT
TZOFFSETFROM:-0500
TZOFFSETTO:-0400
TZNAME:EDT
DTSTART:19700308T020000
RRULE:FREQ=YEARLY;BYMONTH=3;BYDAY=2SU
END:DAYLIGHT
BEGIN:STANDARD
TZOFFSETFROM:-0400
TZOFFSETTO:-0500
TZNAME:EST
DTSTART:19701101T020000
RRULE:FREQ=YEARLY;BYMONTH=11;BYDAY=1SU
END:STANDARD
END:VTIMEZONE
BEGIN:VEVENT
UID:2938326:Event:527919
DTSTAMP:20260420T104329Z
SUMMARY:Parsippany Happy Hour
DESCRIPTION:Your local Happy Hour is back on the calendar and this tim
 e we are at Pure Parsippany. Join other Young Professionals at this mi
 x & mingle event. As always, there is no cover, plus there will be gre
 at specials to keep the drinks and the laughter flowing. Whether this 
 is your first event or your fiftieth, you will find yourself surrounde
 d by friendly faces and future friends.\n Who can attend: This is a Me
 mbers ONLY happy hour. Please RSVP if you can attend. If you wish to b
 ring a guest please make sure they join NJYP first, http://www.njyp.o
 rg/page/pay-dues  Cost: No cost to attend but you MUST RSVP. 1 item mi
 nimum per person so we support the bar and all the space we are taking
  up.  Specials Until 7pm: 50% off all drinks  What to expect: Our Happ
 y Hours are very casual. There are no sign-in tables, no name tags, an
 d no ice breakers. Expect people to walk up to you to introduce themse
 lves and feel free to walk up to others who you do not know. Newbies a
 re at EVERY NJYP event so if this is your first, you won't be alone.  
 Finding the Group: We are going to be in the bar area. Please look for
  signs or ask staff where the group is.  Directions: Parking lot. htt
 p://www.pureparsippany.com/ Next to the Holiday Inn.\n\nFor more info
 rmation visit http://njyp.org/events/parsippany-happy-hour
DTSTART;TZID=America/New_York:20140403T180000
DTEND;TZID=America/New_York:20140403T200000
CATEGORIES:"morris county", social, members
LOCATION:Pure Parsippany
WEBSITE:http://www.pureparsippany.com/
URL:http://www.pureparsippany.com/
CONTACT:
ORGANIZER;CN="Brian and Mike":http://njyp.org/profile/BrianMike
ATTACH;FMTTYPE="image/jpeg":http://storage.ning.com/topology/rest/1.0/
 file/get/1088851457?profile=original
ATTENDEE;ROLE=REQ-PARTICIPANT;PARTSTAT=ACCEPTED;RSVP=TRUE;CN=Will:http
 ://njyp.org/profile/William
ATTENDEE;ROLE=REQ-PARTICIPANT;PARTSTAT=ACCEPTED;RSVP=TRUE;CN=Bill:http
 ://njyp.org/profile/Bill391
ATTENDEE;ROLE=REQ-PARTICIPANT;PARTSTAT=ACCEPTED;RSVP=TRUE;CN=Jackie:ht
 tp://njyp.org/profile/Jackie134
ATTENDEE;ROLE=REQ-PARTICIPANT;PARTSTAT=ACCEPTED;RSVP=TRUE;CN=Stephanie
 :http://njyp.org/profile/Stephanie364
ATTENDEE;ROLE=REQ-PARTICIPANT;PARTSTAT=ACCEPTED;RSVP=TRUE;CN="David Ei
 senberg":http://njyp.org/profile/DavidEisenberg
ATTENDEE;ROLE=REQ-PARTICIPANT;PARTSTAT=ACCEPTED;RSVP=TRUE;CN=Devashis:
 http://njyp.org/profile/Devashis
ATTENDEE;ROLE=REQ-PARTICIPANT;PARTSTAT=ACCEPTED;RSVP=TRUE;CN=Luigi:htt
 p://njyp.org/profile/Luigi
ATTENDEE;ROLE=REQ-PARTICIPANT;PARTSTAT=ACCEPTED;RSVP=TRUE;CN=Thomas:ht
 tp://njyp.org/profile/Thomas511
ATTENDEE;ROLE=REQ-PARTICIPANT;PARTSTAT=ACCEPTED;RSVP=TRUE;CN=James:htt
 p://njyp.org/profile/James439
ATTENDEE;ROLE=REQ-PARTICIPANT;PARTSTAT=ACCEPTED;RSVP=TRUE;CN="Valentin
 e Simon":http://njyp.org/profile/ValentineSimon
ATTENDEE;ROLE=REQ-PARTICIPANT;PARTSTAT=ACCEPTED;RSVP=TRUE;CN=Chelsea:h
 ttp://njyp.org/profile/Chelsea293
ATTENDEE;ROLE=REQ-PARTICIPANT;PARTSTAT=ACCEPTED;RSVP=TRUE;CN=Diana:htt
 p://njyp.org/profile/Diana2
ATTENDEE;ROLE=REQ-PARTICIPANT;PARTSTAT=ACCEPTED;RSVP=TRUE;CN=Rochelle:
 http://njyp.org/profile/Rochelle
ATTENDEE;ROLE=REQ-PARTICIPANT;PARTSTAT=ACCEPTED;RSVP=TRUE;CN=Kathleen:
 http://njyp.org/profile/Kathleen943
ATTENDEE;ROLE=REQ-PARTICIPANT;PARTSTAT=ACCEPTED;RSVP=TRUE;CN="Michael 
 Roselle":http://njyp.org/profile/MichaelRoselle
ATTENDEE;ROLE=REQ-PARTICIPANT;PARTSTAT=ACCEPTED;RSVP=TRUE;CN=Dave:http
 ://njyp.org/profile/Dave791
ATTENDEE;ROLE=REQ-PARTICIPANT;PARTSTAT=ACCEPTED;RSVP=TRUE;CN=Caela:htt
 p://njyp.org/profile/Caela
ATTENDEE;ROLE=REQ-PARTICIPANT;PARTSTAT=ACCEPTED;RSVP=TRUE;CN=Joe:http:
 //njyp.org/profile/Joe245
ATTENDEE;ROLE=REQ-PARTICIPANT;PARTSTAT=ACCEPTED;RSVP=TRUE;CN="Kiera Ha
 rtnett":http://njyp.org/profile/KieraHartnett
ATTENDEE;ROLE=REQ-PARTICIPANT;PARTSTAT=ACCEPTED;RSVP=TRUE;CN=John:http
 ://njyp.org/profile/John839
ATTENDEE;ROLE=REQ-PARTICIPANT;PARTSTAT=ACCEPTED;RSVP=TRUE;CN=Dwayne:ht
 tp://njyp.org/profile/Dwayne
ATTENDEE;ROLE=REQ-PARTICIPANT;PARTSTAT=ACCEPTED;RSVP=TRUE;CN=Judith:ht
 tp://njyp.org/profile/Judith
ATTENDEE;ROLE=REQ-PARTICIPANT;PARTSTAT=ACCEPTED;RSVP=TRUE;CN=Matt:http
 ://njyp.org/profile/Matt841
ATTENDEE;ROLE=REQ-PARTICIPANT;PARTSTAT=ACCEPTED;RSVP=TRUE;CN="T.J.":ht
 tp://njyp.org/profile/TJEsposito
ATTENDEE;ROLE=REQ-PARTICIPANT;PARTSTAT=ACCEPTED;RSVP=TRUE;CN="Jeffrey 
 Gates":http://njyp.org/profile/JeffreyGates
ATTENDEE;ROLE=REQ-PARTICIPANT;PARTSTAT=ACCEPTED;RSVP=TRUE;CN="Tom Cife
 lli":http://njyp.org/profile/TomCifelli
ATTENDEE;ROLE=REQ-PARTICIPANT;PARTSTAT=ACCEPTED;RSVP=TRUE;CN=Evelyn:ht
 tp://njyp.org/profile/Evelyn110
ATTENDEE;ROLE=REQ-PARTICIPANT;PARTSTAT=ACCEPTED;RSVP=TRUE;CN="alyssa R
 ego":http://njyp.org/profile/Alyssa177
ATTENDEE;ROLE=REQ-PARTICIPANT;PARTSTAT=ACCEPTED;RSVP=TRUE;CN=Diego:htt
 p://njyp.org/profile/Diego649
ATTENDEE;ROLE=REQ-PARTICIPANT;PARTSTAT=ACCEPTED;RSVP=TRUE;CN=Frankie:h
 ttp://njyp.org/profile/FRANKIE232
ATTENDEE;ROLE=REQ-PARTICIPANT;PARTSTAT=ACCEPTED;RSVP=TRUE;CN=Lynn:http
 ://njyp.org/profile/Lynn399
ATTENDEE;ROLE=REQ-PARTICIPANT;PARTSTAT=ACCEPTED;RSVP=TRUE;CN="Jennifer
  Mesce":http://njyp.org/profile/JenniferMesce
ATTENDEE;ROLE=REQ-PARTICIPANT;PARTSTAT=ACCEPTED;RSVP=TRUE;CN=Dejan:htt
 p://njyp.org/profile/Dejan
ATTENDEE;ROLE=REQ-PARTICIPANT;PARTSTAT=ACCEPTED;RSVP=TRUE;CN=Jamie:htt
 p://njyp.org/profile/Jamie127
ATTENDEE;ROLE=REQ-PARTICIPANT;PARTSTAT=ACCEPTED;RSVP=TRUE;CN=Kevin:htt
 p://njyp.org/profile/Kevin292
ATTENDEE;ROLE=REQ-PARTICIPANT;PARTSTAT=ACCEPTED;RSVP=TRUE;CN=Steven:ht
 tp://njyp.org/profile/Steven66
ATTENDEE;ROLE=REQ-PARTICIPANT;PARTSTAT=ACCEPTED;RSVP=TRUE;CN=Edna:http
 ://njyp.org/profile/Edna
ATTENDEE;ROLE=REQ-PARTICIPANT;PARTSTAT=ACCEPTED;RSVP=TRUE;CN=Jessica:h
 ttp://njyp.org/profile/Jessica543
ATTENDEE;ROLE=REQ-PARTICIPANT;PARTSTAT=ACCEPTED;RSVP=TRUE;CN="Brian an
 d Mike":http://njyp.org/profile/BrianMike
ATTENDEE;ROLE=REQ-PARTICIPANT;PARTSTAT=TENTATIVE;RSVP=TRUE;CN=Sharon:h
 ttp://njyp.org/profile/Sharon730
ATTENDEE;ROLE=REQ-PARTICIPANT;PARTSTAT=TENTATIVE;RSVP=TRUE;CN=Erica:ht
 tp://njyp.org/profile/EricaK
ATTENDEE;ROLE=REQ-PARTICIPANT;PARTSTAT=TENTATIVE;RSVP=TRUE;CN=Johanna:
 http://njyp.org/profile/Johanna509
ATTENDEE;ROLE=REQ-PARTICIPANT;PARTSTAT=TENTATIVE;RSVP=TRUE;CN=Elias:ht
 tp://njyp.org/profile/Elias
ATTENDEE;ROLE=REQ-PARTICIPANT;PARTSTAT=TENTATIVE;RSVP=TRUE;CN=Scott:ht
 tp://njyp.org/profile/Scott575
ATTENDEE;ROLE=REQ-PARTICIPANT;PARTSTAT=TENTATIVE;RSVP=TRUE;CN="Jorge D
 ":http://njyp.org/profile/JorgeD
ATTENDEE;ROLE=REQ-PARTICIPANT;PARTSTAT=TENTATIVE;RSVP=TRUE;CN=Megan:ht
 tp://njyp.org/profile/Megan82
ATTENDEE;ROLE=REQ-PARTICIPANT;PARTSTAT=TENTATIVE;RSVP=TRUE;CN=NorthNJD
 avid:http://njyp.org/profile/NorthNJDavid
ATTENDEE;ROLE=REQ-PARTICIPANT;PARTSTAT=TENTATIVE;RSVP=TRUE;CN=Katrina:
 http://njyp.org/profile/Katrina
ATTENDEE;ROLE=REQ-PARTICIPANT;PARTSTAT=TENTATIVE;RSVP=TRUE;CN=Rena:htt
 p://njyp.org/profile/Rena818
ATTENDEE;ROLE=REQ-PARTICIPANT;PARTSTAT=TENTATIVE;RSVP=TRUE;CN=John:htt
 p://njyp.org/profile/JohnE
ATTENDEE;ROLE=REQ-PARTICIPANT;PARTSTAT=TENTATIVE;RSVP=TRUE;CN=Peter:ht
 tp://njyp.org/profile/PeterMcDonnell
ATTENDEE;ROLE=REQ-PARTICIPANT;PARTSTAT=TENTATIVE;RSVP=TRUE;CN=Susan:ht
 tp://njyp.org/profile/SusanChrusciel
ATTENDEE;ROLE=REQ-PARTICIPANT;PARTSTAT=TENTATIVE;RSVP=TRUE;CN=Larry:ht
 tp://njyp.org/profile/LarryYang
END:VEVENT
END:VCALENDAR
