BEGIN:VCALENDAR
PRODID:NingEventWidget-v1
VERSION:2.0
METHOD:PUBLISH
BEGIN:VTIMEZONE
TZID:America/New_York
X-LIC-LOCATION:America/New_York
BEGIN:DAYLIGHT
TZOFFSETFROM:-0500
TZOFFSETTO:-0400
TZNAME:EDT
DTSTART:19700308T020000
RRULE:FREQ=YEARLY;BYMONTH=3;BYDAY=2SU
END:DAYLIGHT
BEGIN:STANDARD
TZOFFSETFROM:-0400
TZOFFSETTO:-0500
TZNAME:EST
DTSTART:19701101T020000
RRULE:FREQ=YEARLY;BYMONTH=11;BYDAY=1SU
END:STANDARD
END:VTIMEZONE
BEGIN:VEVENT
UID:2938326:Event:288816
DTSTAMP:20260420T001942Z
SUMMARY:Penn & Teller
DESCRIPTION:Get ready to have your mind boggled. Penn & Teller defy la
 bels, expectations, and at times, good taste. They’ve performed toge
 ther for 30 years, skewering the genre of magic (and sometimes themsel
 ves) to sold-out audiences on Broadway, in Vegas, on their Emmy-nomina
 ted Showtime series and on their new Penn & Teller Tell a Lie, debutin
 g this October on Discovery Channel — and they’ve done it all on t
 heir own decidedly offbeat terms. Don't miss this family-friendly even
 ing of comedy and illusion with one of the entertainment world's most 
 outrageous duos.\n\nTickets:\nhttp://njpac.org/show_events_list.asp?sh
 Code=15758\n\nDirections:\nhttp://www.njpac.org/joomla/index.php?optio
 n=com_content&view=article&id=46&Itemid=57\n\n\n\nFor more information
  visit http://njyp.org/events/penn-teller
DTSTART;TZID=America/New_York:20111106T160000
DTEND;TZID=America/New_York:20111106T190000
CATEGORIES:"essex county", social, arts
LOCATION:NJPAC
WEBSITE:http://njpac.org/show_events_list.asp?shCode=15758
URL:http://njpac.org/show_events_list.asp?shCode=15758
CONTACT:
ORGANIZER;CN="Brian and Mike":http://njyp.org/profile/BrianMike
ATTACH;FMTTYPE="image/jpeg":http://storage.ning.com/topology/rest/1.0/
 file/get/1088722778?profile=original
ATTENDEE;ROLE=REQ-PARTICIPANT;PARTSTAT=ACCEPTED;RSVP=TRUE;CN=Lynn:http
 ://njyp.org/profile/Lynn798
ATTENDEE;ROLE=REQ-PARTICIPANT;PARTSTAT=ACCEPTED;RSVP=TRUE;CN="Brian an
 d Mike":http://njyp.org/profile/BrianMike
ATTENDEE;ROLE=REQ-PARTICIPANT;PARTSTAT=TENTATIVE;RSVP=TRUE;CN=Kristy:h
 ttp://njyp.org/profile/KristyBuchalla
ATTENDEE;ROLE=REQ-PARTICIPANT;PARTSTAT=TENTATIVE;RSVP=TRUE;CN=Vadim:ht
 tp://njyp.org/profile/Vadim
ATTENDEE;ROLE=REQ-PARTICIPANT;PARTSTAT=TENTATIVE;RSVP=TRUE;CN="enrico 
 ventola":http://njyp.org/profile/enricoventola
ATTENDEE;ROLE=REQ-PARTICIPANT;PARTSTAT=TENTATIVE;RSVP=TRUE;CN=James:ht
 tp://njyp.org/profile/JamesShow
END:VEVENT
END:VCALENDAR
