BEGIN:VCALENDAR
PRODID:NingEventWidget-v1
VERSION:2.0
METHOD:PUBLISH
BEGIN:VTIMEZONE
TZID:America/New_York
X-LIC-LOCATION:America/New_York
BEGIN:DAYLIGHT
TZOFFSETFROM:-0500
TZOFFSETTO:-0400
TZNAME:EDT
DTSTART:19700308T020000
RRULE:FREQ=YEARLY;BYMONTH=3;BYDAY=2SU
END:DAYLIGHT
BEGIN:STANDARD
TZOFFSETFROM:-0400
TZOFFSETTO:-0500
TZNAME:EST
DTSTART:19701101T020000
RRULE:FREQ=YEARLY;BYMONTH=11;BYDAY=1SU
END:STANDARD
END:VTIMEZONE
BEGIN:VEVENT
UID:2938326:Event:341292
DTSTAMP:20260422T064919Z
SUMMARY:Play Ball for Miracles
DESCRIPTION:For the 2nd year in a row NJYP is going to join Team Chari
 ty for the annual \"Play Ball for Miracles\" softball tournament to be
 nefit Children's Miracle Network Hospitals. Our co-ed team is sure to 
 kick-a$$ in this slow, one pitch tourney that has ASA rules and will u
 se a men's standard size softball.  ALL playing levels are encouraged
  to join-in as our only goal is to raise cash and make friends.  Play
  Ball!  Cost: Just $15 per person!  How:\nGo here to register (require
 d) http://www.eventbrite.com/event/3297501917\n \nMore: Ritesh is t
 he team captain who will contact you about optional practices.\nExact 
 starting time will be decided the week before so stay tuned.\nBring a 
 glove and a bat if you have one. For questions contact Nicole@TeamChar
 ity.org\n \nDirections:\nhttp://www.ucba-nj.org/ucba08/directions.htm
 \n\nFor more information visit http://njyp.org/events/play-ball-for-mi
 racles-1
DTSTART;TZID=America/New_York:20120825T080000
DTEND;TZID=America/New_York:20120825T180000
CATEGORIES:"union county", community, athletic
LOCATION:Warinanco Park
WEBSITE:http://www.ucba-nj.org/ucba08/directions.htm
URL:http://www.ucba-nj.org/ucba08/directions.htm
CONTACT:
ORGANIZER;CN="Brian and Mike":http://njyp.org/profile/BrianMike
ATTACH;FMTTYPE="image/jpeg":http://storage.ning.com/topology/rest/1.0/
 file/get/1088684993?profile=original
ATTENDEE;ROLE=REQ-PARTICIPANT;PARTSTAT=ACCEPTED;RSVP=TRUE;CN=Tiffany:h
 ttp://njyp.org/profile/TLM
ATTENDEE;ROLE=REQ-PARTICIPANT;PARTSTAT=ACCEPTED;RSVP=TRUE;CN=Ashley:ht
 tp://njyp.org/profile/1bkyevfyqid3t
ATTENDEE;ROLE=REQ-PARTICIPANT;PARTSTAT=ACCEPTED;RSVP=TRUE;CN="Lisa E":
 http://njyp.org/profile/Lisa816
ATTENDEE;ROLE=REQ-PARTICIPANT;PARTSTAT=ACCEPTED;RSVP=TRUE;CN=Timo:http
 ://njyp.org/profile/Timo
ATTENDEE;ROLE=REQ-PARTICIPANT;PARTSTAT=ACCEPTED;RSVP=TRUE;CN="Dennis L
 ee":http://njyp.org/profile/leeden
ATTENDEE;ROLE=REQ-PARTICIPANT;PARTSTAT=ACCEPTED;RSVP=TRUE;CN=Jennifer:
 http://njyp.org/profile/Jennifer969
ATTENDEE;ROLE=REQ-PARTICIPANT;PARTSTAT=ACCEPTED;RSVP=TRUE;CN="Jeffrey 
 Gates":http://njyp.org/profile/JeffreyGates
ATTENDEE;ROLE=REQ-PARTICIPANT;PARTSTAT=ACCEPTED;RSVP=TRUE;CN=tesh:http
 ://njyp.org/profile/t
ATTENDEE;ROLE=REQ-PARTICIPANT;PARTSTAT=ACCEPTED;RSVP=TRUE;CN=Sheila:ht
 tp://njyp.org/profile/Sheila
ATTENDEE;ROLE=REQ-PARTICIPANT;PARTSTAT=ACCEPTED;RSVP=TRUE;CN=d:http://
 njyp.org/profile/d
ATTENDEE;ROLE=REQ-PARTICIPANT;PARTSTAT=ACCEPTED;RSVP=TRUE;CN="Nicole F
 ulmino":http://njyp.org/profile/NicoleFulmino
ATTENDEE;ROLE=REQ-PARTICIPANT;PARTSTAT=ACCEPTED;RSVP=TRUE;CN="Brian an
 d Mike":http://njyp.org/profile/BrianMike
ATTENDEE;ROLE=REQ-PARTICIPANT;PARTSTAT=TENTATIVE;RSVP=TRUE;CN=Troy:htt
 p://njyp.org/profile/Troy
ATTENDEE;ROLE=REQ-PARTICIPANT;PARTSTAT=TENTATIVE;RSVP=TRUE;CN=Aaron:ht
 tp://njyp.org/profile/Aaron001
ATTENDEE;ROLE=REQ-PARTICIPANT;PARTSTAT=TENTATIVE;RSVP=TRUE;CN=Julie:ht
 tp://njyp.org/profile/Julie942
ATTENDEE;ROLE=REQ-PARTICIPANT;PARTSTAT=TENTATIVE;RSVP=TRUE;CN="Pamela 
 Burger":http://njyp.org/profile/PamelaBurger
ATTENDEE;ROLE=REQ-PARTICIPANT;PARTSTAT=TENTATIVE;RSVP=TRUE;CN="Amanda 
 Forsburg":http://njyp.org/profile/AmandaF
ATTENDEE;ROLE=REQ-PARTICIPANT;PARTSTAT=TENTATIVE;RSVP=TRUE;CN="Ines Lo
 pes":http://njyp.org/profile/Inesl
ATTENDEE;ROLE=REQ-PARTICIPANT;PARTSTAT=TENTATIVE;RSVP=TRUE;CN="james m
 ikusi":http://njyp.org/profile/jimbox
ATTENDEE;ROLE=REQ-PARTICIPANT;PARTSTAT=TENTATIVE;RSVP=TRUE;CN=NorthNJD
 avid:http://njyp.org/profile/NorthNJDavid
ATTENDEE;ROLE=REQ-PARTICIPANT;PARTSTAT=TENTATIVE;RSVP=TRUE;CN="Lisa Ve
 lasquez":http://njyp.org/profile/LisaVelasquez
ATTENDEE;ROLE=REQ-PARTICIPANT;PARTSTAT=TENTATIVE;RSVP=TRUE;CN=Dennis:h
 ttp://njyp.org/profile/Dennis711
ATTENDEE;ROLE=REQ-PARTICIPANT;PARTSTAT=TENTATIVE;RSVP=TRUE;CN=Amanda:h
 ttp://njyp.org/profile/Amanda710
ATTENDEE;ROLE=REQ-PARTICIPANT;PARTSTAT=TENTATIVE;RSVP=TRUE;CN=Ahsan:ht
 tp://njyp.org/profile/Ahsan
ATTENDEE;ROLE=REQ-PARTICIPANT;PARTSTAT=TENTATIVE;RSVP=TRUE;CN=Bill:htt
 p://njyp.org/profile/BillVivino
ATTENDEE;ROLE=REQ-PARTICIPANT;PARTSTAT=TENTATIVE;RSVP=TRUE;CN=Tim:http
 ://njyp.org/profile/TimothyH
END:VEVENT
END:VCALENDAR
