BEGIN:VCALENDAR
PRODID:NingEventWidget-v1
VERSION:2.0
METHOD:PUBLISH
BEGIN:VTIMEZONE
TZID:America/New_York
X-LIC-LOCATION:America/New_York
BEGIN:DAYLIGHT
TZOFFSETFROM:-0500
TZOFFSETTO:-0400
TZNAME:EDT
DTSTART:19700308T020000
RRULE:FREQ=YEARLY;BYMONTH=3;BYDAY=2SU
END:DAYLIGHT
BEGIN:STANDARD
TZOFFSETFROM:-0400
TZOFFSETTO:-0500
TZNAME:EST
DTSTART:19701101T020000
RRULE:FREQ=YEARLY;BYMONTH=11;BYDAY=1SU
END:STANDARD
END:VTIMEZONE
BEGIN:VEVENT
UID:2938326:Event:136754
DTSTAMP:20260420T023600Z
SUMMARY:POPS! Hollywood in Love
DESCRIPTION:Presenting a wonderful collection of Broadway hits that we
 re memorialized on the silver screen featuring songs by Rodgers and Ha
 mmerstein, Cole Porter, and Andrew Lloyd Webber, among others.  Rosse
 n Milanov will conduct a star cast including Brent Barrett of Chicago 
 and Kiss Me, Kate fame, and acclaimed concert and cabaret songstress A
 nna Bergman.  This is a not-to-be-missed Saturday night out in Prince
 ton!Cost: $64, 50, 38, 20.  Includes reception immediately following 
 the concert.  Please note that Richardson Auditorium is an historic b
 uilding and does not have an elevator.  How to order tickets:Call (60
 9) 497-0020 for availability and best seating options; http://www.prin
 cetonsymphony.org/tickets.htmlWho can attend:Anyone!  This is not jus
 t for Young Professionals so if you do not want to sit alone, grab a f
 riend to bring along!Schedule:8:00 Performance10:00 ReceptionDirection
 s: http://www.princetonsymphony.org/directions.html\n\nFor more inform
 ation visit http://njyp.org/events/pops-hollywood-in-love
DTSTART;TZID=America/New_York:20110212T200000
DTEND;TZID=America/New_York:20110212T220000
CATEGORIES:"mercer county", arts
LOCATION:Richardson Auditorium in Alexander Hall
WEBSITE:http://www.princetonsymphony.org
URL:http://www.princetonsymphony.org
CONTACT:(609) 497-0020 
ORGANIZER;CN="Brian and Mike":http://njyp.org/profile/BrianMike
ATTACH;FMTTYPE="image/jpeg":http://storage.ning.com/topology/rest/1.0/
 file/get/1088673461?profile=original
ATTENDEE;ROLE=REQ-PARTICIPANT;PARTSTAT=ACCEPTED;RSVP=TRUE;CN="Sara T. 
 Rothman":http://njyp.org/profile/SaraTRothman
ATTENDEE;ROLE=REQ-PARTICIPANT;PARTSTAT=ACCEPTED;RSVP=TRUE;CN=Melissa:h
 ttp://njyp.org/profile/IEatWellwithMel
ATTENDEE;ROLE=REQ-PARTICIPANT;PARTSTAT=TENTATIVE;RSVP=TRUE;CN="Brian a
 nd Mike":http://njyp.org/profile/BrianMike
ATTENDEE;ROLE=REQ-PARTICIPANT;PARTSTAT=TENTATIVE;RSVP=TRUE;CN="Jennife
 r Wittmann":http://njyp.org/profile/JenniferWittmann
ATTENDEE;ROLE=REQ-PARTICIPANT;PARTSTAT=TENTATIVE;RSVP=TRUE;CN=Hemanth:
 http://njyp.org/profile/Hemanth
ATTENDEE;ROLE=REQ-PARTICIPANT;PARTSTAT=TENTATIVE;RSVP=TRUE;CN=Stacey:h
 ttp://njyp.org/profile/Stacey63
ATTENDEE;ROLE=REQ-PARTICIPANT;PARTSTAT=TENTATIVE;RSVP=TRUE;CN=Nola:htt
 p://njyp.org/profile/NolaOcchipinti
ATTENDEE;ROLE=REQ-PARTICIPANT;PARTSTAT=TENTATIVE;RSVP=TRUE;CN="Jennife
 r L. Campbell":http://njyp.org/profile/JenniferLCampbell
END:VEVENT
END:VCALENDAR
