BEGIN:VCALENDAR
PRODID:NingEventWidget-v1
VERSION:2.0
METHOD:PUBLISH
BEGIN:VTIMEZONE
TZID:America/New_York
X-LIC-LOCATION:America/New_York
BEGIN:DAYLIGHT
TZOFFSETFROM:-0500
TZOFFSETTO:-0400
TZNAME:EDT
DTSTART:19700308T020000
RRULE:FREQ=YEARLY;BYMONTH=3;BYDAY=2SU
END:DAYLIGHT
BEGIN:STANDARD
TZOFFSETFROM:-0400
TZOFFSETTO:-0500
TZNAME:EST
DTSTART:19701101T020000
RRULE:FREQ=YEARLY;BYMONTH=11;BYDAY=1SU
END:STANDARD
END:VTIMEZONE
BEGIN:VEVENT
UID:2938326:Event:547625
DTSTAMP:20260422T070157Z
SUMMARY:Princeton Happy Hour CANCELED
DESCRIPTION:Sorry all, this has been canceled due to lack of interest.
  We needed at least 20 RSVPs.\n\nYour local Happy Hour is back on the 
 calendar and this time we are at Cafe Nicole in the Holiday Inn Prince
 ton. Join other Young Professionals at this mix & mingle event. As alw
 ays, there is no cover, plus there will be great specials to keep the 
 drinks and the laughter flowing. Whether this is your first event or y
 our fiftieth, you will find yourself surrounded by friendly faces and 
 future friends.\n\nWho can attend: This happy hour is for dues paying 
 Members, http://www.njyp.org/page/pay-dues If you wish to bring a fri
 end please have them join NJYP first.\n\nCost: No cost to attend but y
 ou MUST RSVP. 1 item minimum per person so we support the bar and all 
 the space we are taking up.\n Specials:\nJello Shot $3\nMargarita $6\n
 Mojito $6\nCape Cod $4\nHouse Wine $5\nDomestic Beer $4\nImported Beer
  $5\nDraft Beer (Stella and Goose Island) $4\nDraft Beer (Bud Light) $
 2\n50% off appetizers\n\nWhat to expect: Our Happy Hours are very casu
 al. There are no sign-in tables, no name tags, and no ice breakers. Ex
 pect people to walk up to you to introduce themselves and feel free to
  walk up to others who you do not know. Newbies are at EVERY NJYP even
 t so if this is your first, you won't be alone.\n\nFinding the Group: 
 We are going to be in the bar area, head to the Cafe Nicole Bar. Pleas
 e look for signs or ask staff where the group is.\n\nDirections: http:
 //www.holidayinn.com/hotels/us/en/princeton/prnnj/hoteldetail/directio
 ns\n\n\n\nFor more information visit http://njyp.org/events/princeton-
 happy-hour-12
DTSTART;TZID=America/New_York:20140515T180000
DTEND;TZID=America/New_York:20140515T200000
CATEGORIES:"mercer county", social, members
LOCATION:Cafe Nicole in the Princeton Holiday Inn
WEBSITE:http://www.holidayinn.com/hotels/us/en/princeton/prnnj/hotelde
 tail/directions
URL:http://www.holidayinn.com/hotels/us/en/princeton/prnnj/hoteldetail
 /directions
CONTACT:
ORGANIZER;CN="Brian and Mike":http://njyp.org/profile/BrianMike
ATTACH;FMTTYPE="image/jpeg":http://storage.ning.com/topology/rest/1.0/
 file/get/1088687153?profile=original
ATTENDEE;ROLE=REQ-PARTICIPANT;PARTSTAT=ACCEPTED;RSVP=TRUE;CN="Anthony 
 Gatto":http://njyp.org/profile/AnthonyGatto
ATTENDEE;ROLE=REQ-PARTICIPANT;PARTSTAT=ACCEPTED;RSVP=TRUE;CN=Joe:http:
 //njyp.org/profile/Joe245
ATTENDEE;ROLE=REQ-PARTICIPANT;PARTSTAT=ACCEPTED;RSVP=TRUE;CN=Brian:htt
 p://njyp.org/profile/Brian246
ATTENDEE;ROLE=REQ-PARTICIPANT;PARTSTAT=ACCEPTED;RSVP=TRUE;CN=Chris:htt
 p://njyp.org/profile/Chris394
ATTENDEE;ROLE=REQ-PARTICIPANT;PARTSTAT=ACCEPTED;RSVP=TRUE;CN=Diana:htt
 p://njyp.org/profile/Diana298
ATTENDEE;ROLE=REQ-PARTICIPANT;PARTSTAT=ACCEPTED;RSVP=TRUE;CN=Seyi:http
 ://njyp.org/profile/Seyi
ATTENDEE;ROLE=REQ-PARTICIPANT;PARTSTAT=ACCEPTED;RSVP=TRUE;CN=Yariela:h
 ttp://njyp.org/profile/Yariela
ATTENDEE;ROLE=REQ-PARTICIPANT;PARTSTAT=ACCEPTED;RSVP=TRUE;CN=Elizabeth
 :http://njyp.org/profile/ElizabethWilliams
ATTENDEE;ROLE=REQ-PARTICIPANT;PARTSTAT=ACCEPTED;RSVP=TRUE;CN=Brandi:ht
 tp://njyp.org/profile/Brandi
ATTENDEE;ROLE=REQ-PARTICIPANT;PARTSTAT=ACCEPTED;RSVP=TRUE;CN=Mutlu:htt
 p://njyp.org/profile/Mutlu
ATTENDEE;ROLE=REQ-PARTICIPANT;PARTSTAT=ACCEPTED;RSVP=TRUE;CN=James:htt
 p://njyp.org/profile/JamesShow
ATTENDEE;ROLE=REQ-PARTICIPANT;PARTSTAT=ACCEPTED;RSVP=TRUE;CN="Lorraine
  Weitz":http://njyp.org/profile/LorraineWeitz
ATTENDEE;ROLE=REQ-PARTICIPANT;PARTSTAT=TENTATIVE;RSVP=TRUE;CN=Meredith
 :http://njyp.org/profile/Meredith944
ATTENDEE;ROLE=REQ-PARTICIPANT;PARTSTAT=TENTATIVE;RSVP=TRUE;CN=Manish:h
 ttp://njyp.org/profile/Manish
ATTENDEE;ROLE=REQ-PARTICIPANT;PARTSTAT=TENTATIVE;RSVP=TRUE;CN="Oenihss
  Diaz":http://njyp.org/profile/Oenihss
ATTENDEE;ROLE=REQ-PARTICIPANT;PARTSTAT=TENTATIVE;RSVP=TRUE;CN=Samantha
 :http://njyp.org/profile/Samantha280
ATTENDEE;ROLE=REQ-PARTICIPANT;PARTSTAT=TENTATIVE;RSVP=TRUE;CN=Robert:h
 ttp://njyp.org/profile/Robert882
ATTENDEE;ROLE=REQ-PARTICIPANT;PARTSTAT=TENTATIVE;RSVP=TRUE;CN=Russell:
 http://njyp.org/profile/Russell978
ATTENDEE;ROLE=REQ-PARTICIPANT;PARTSTAT=TENTATIVE;RSVP=TRUE;CN="Ann Vos
 s":http://njyp.org/profile/AnnVoss
ATTENDEE;ROLE=REQ-PARTICIPANT;PARTSTAT=TENTATIVE;RSVP=TRUE;CN="Frank C
 aruso":http://njyp.org/profile/FrankCaruso
ATTENDEE;ROLE=REQ-PARTICIPANT;PARTSTAT=TENTATIVE;RSVP=TRUE;CN="Ahmed U
 ddin":http://njyp.org/profile/AhmedUddin
ATTENDEE;ROLE=REQ-PARTICIPANT;PARTSTAT=TENTATIVE;RSVP=TRUE;CN=Jennifer
 :http://njyp.org/profile/Jennifer551
END:VEVENT
END:VCALENDAR
