BEGIN:VCALENDAR
PRODID:NingEventWidget-v1
VERSION:2.0
METHOD:PUBLISH
BEGIN:VTIMEZONE
TZID:America/New_York
X-LIC-LOCATION:America/New_York
BEGIN:DAYLIGHT
TZOFFSETFROM:-0500
TZOFFSETTO:-0400
TZNAME:EDT
DTSTART:19700308T020000
RRULE:FREQ=YEARLY;BYMONTH=3;BYDAY=2SU
END:DAYLIGHT
BEGIN:STANDARD
TZOFFSETFROM:-0400
TZOFFSETTO:-0500
TZNAME:EST
DTSTART:19701101T020000
RRULE:FREQ=YEARLY;BYMONTH=11;BYDAY=1SU
END:STANDARD
END:VTIMEZONE
BEGIN:VEVENT
UID:2938326:Event:29333
DTSTAMP:20260420T235948Z
SUMMARY:Princeton Happy Hour
DESCRIPTION:It is true, Thursday is the new Friday, especially for You
 ng Professionals! Come out and get a head start on the weekend with us
 . As always expect drink specials, new faces and a bar full of friendl
 y Young Professionals.\n\nWho should attend:\nAnyone who is 21-39 year
 s old.\nPlease RSVP so we know you are attending.\n\nWhat to expect:\n
 Our Happy Hours are very casual. There are no sign-in tables, no name 
 tags, and no ice breakers. Expect people to walk up to you to introduc
 e themselves and feel free to walk up to others who you do not know. N
 ewbies are at EVERY NJYP event so if this is your first, you won't be 
 alone.\n\nNJYP Host:\nKelley\n\nFinding the Group:\nWe are going to be
  at the bar but on the FAR side of the bar, against the wall. Please h
 ead to this area when you arrive.\n\nDirections:\nhttp://www.btbistro.
 com/\nBT Bistro is connected to the CLARION PALMER INN. Lots of FREE p
 arking!\n\nFor more information visit http://njyp.org/events/princeton
 -happy-hour-3
DTSTART;TZID=America/New_York:20100107T180000
DTEND;TZID=America/New_York:20100107T200000
CATEGORIES:"mercer county", social
LOCATION:BT Bistro at the Clarion Palmer Inn
WEBSITE:http://www.btbistro.com/
URL:http://www.btbistro.com/
CONTACT:
ORGANIZER;CN="Brian and Mike":http://njyp.org/profile/BrianMike
ATTACH;FMTTYPE="image/jpeg":http://storage.ning.com/topology/rest/1.0/
 file/get/1088574288?profile=original
ATTENDEE;ROLE=REQ-PARTICIPANT;PARTSTAT=ACCEPTED;RSVP=TRUE;CN=Izzy:http
 ://njyp.org/profile/ChristopherIsabella
ATTENDEE;ROLE=REQ-PARTICIPANT;PARTSTAT=ACCEPTED;RSVP=TRUE;CN="Mindy Gr
 een":http://njyp.org/profile/MindyScudder
ATTENDEE;ROLE=REQ-PARTICIPANT;PARTSTAT=ACCEPTED;RSVP=TRUE;CN="Simon Ro
 bertson":http://njyp.org/profile/SimonRobertson
ATTENDEE;ROLE=REQ-PARTICIPANT;PARTSTAT=ACCEPTED;RSVP=TRUE;CN="Gabriel 
 Lavigne":http://njyp.org/profile/GabrielLavigne
ATTENDEE;ROLE=REQ-PARTICIPANT;PARTSTAT=ACCEPTED;RSVP=TRUE;CN="Jerome K
 eeler":http://njyp.org/profile/JeromeKeeler
ATTENDEE;ROLE=REQ-PARTICIPANT;PARTSTAT=ACCEPTED;RSVP=TRUE;CN=Atul:http
 ://njyp.org/profile/Atul
ATTENDEE;ROLE=REQ-PARTICIPANT;PARTSTAT=ACCEPTED;RSVP=TRUE;CN=John:http
 ://njyp.org/profile/jmd
ATTENDEE;ROLE=REQ-PARTICIPANT;PARTSTAT=ACCEPTED;RSVP=TRUE;CN="Jennifer
  L. Campbell":http://njyp.org/profile/JenniferLCampbell
ATTENDEE;ROLE=REQ-PARTICIPANT;PARTSTAT=ACCEPTED;RSVP=TRUE;CN=Chig:http
 ://njyp.org/profile/ChiragAlmoula
ATTENDEE;ROLE=REQ-PARTICIPANT;PARTSTAT=ACCEPTED;RSVP=TRUE;CN="Liz Poll
 ard":http://njyp.org/profile/ElizabethLizPollard
ATTENDEE;ROLE=REQ-PARTICIPANT;PARTSTAT=ACCEPTED;RSVP=TRUE;CN="John Bis
 hop":http://njyp.org/profile/JohnBishop
ATTENDEE;ROLE=REQ-PARTICIPANT;PARTSTAT=ACCEPTED;RSVP=TRUE;CN=Kelley:ht
 tp://njyp.org/profile/KelleyBoyle
ATTENDEE;ROLE=REQ-PARTICIPANT;PARTSTAT=ACCEPTED;RSVP=TRUE;CN=Gary:http
 ://njyp.org/profile/GarySchuck
ATTENDEE;ROLE=REQ-PARTICIPANT;PARTSTAT=ACCEPTED;RSVP=TRUE;CN="Victoria
  Schwartz":http://njyp.org/profile/VictoriaGanges
ATTENDEE;ROLE=REQ-PARTICIPANT;PARTSTAT=ACCEPTED;RSVP=TRUE;CN="Carrie N
 .":http://njyp.org/profile/CarrieNeigel
ATTENDEE;ROLE=REQ-PARTICIPANT;PARTSTAT=ACCEPTED;RSVP=TRUE;CN="Tiffany 
 Thrasher":http://njyp.org/profile/TiffanyThrasher
ATTENDEE;ROLE=REQ-PARTICIPANT;PARTSTAT=ACCEPTED;RSVP=TRUE;CN="Don Dins
 more":http://njyp.org/profile/DonDinsmore
ATTENDEE;ROLE=REQ-PARTICIPANT;PARTSTAT=ACCEPTED;RSVP=TRUE;CN="Jamie K"
 :http://njyp.org/profile/JamieK
ATTENDEE;ROLE=REQ-PARTICIPANT;PARTSTAT=ACCEPTED;RSVP=TRUE;CN=Dan:http:
 //njyp.org/profile/DanielHMcElwee
ATTENDEE;ROLE=REQ-PARTICIPANT;PARTSTAT=ACCEPTED;RSVP=TRUE;CN="Ashley W
 olf":http://njyp.org/profile/AshleyWolf
ATTENDEE;ROLE=REQ-PARTICIPANT;PARTSTAT=ACCEPTED;RSVP=TRUE;CN="Kim Schm
 idt":http://njyp.org/profile/KimSchmidt
ATTENDEE;ROLE=REQ-PARTICIPANT;PARTSTAT=ACCEPTED;RSVP=TRUE;CN="Steven H
 oltzman":http://njyp.org/profile/StevenHoltzman
ATTENDEE;ROLE=REQ-PARTICIPANT;PARTSTAT=ACCEPTED;RSVP=TRUE;CN=Chris:htt
 p://njyp.org/profile/Chris
ATTENDEE;ROLE=REQ-PARTICIPANT;PARTSTAT=ACCEPTED;RSVP=TRUE;CN="Paul Cam
 uto":http://njyp.org/profile/PaulCamuto
ATTENDEE;ROLE=REQ-PARTICIPANT;PARTSTAT=ACCEPTED;RSVP=TRUE;CN="Neelima 
 Choudary":http://njyp.org/profile/NeelimaChoudary
ATTENDEE;ROLE=REQ-PARTICIPANT;PARTSTAT=ACCEPTED;RSVP=TRUE;CN="Brian an
 d Mike":http://njyp.org/profile/BrianMike
ATTENDEE;ROLE=REQ-PARTICIPANT;PARTSTAT=TENTATIVE;RSVP=TRUE;CN=matt:htt
 p://njyp.org/profile/mattp
ATTENDEE;ROLE=REQ-PARTICIPANT;PARTSTAT=TENTATIVE;RSVP=TRUE;CN=sarah:ht
 tp://njyp.org/profile/sarah84
ATTENDEE;ROLE=REQ-PARTICIPANT;PARTSTAT=TENTATIVE;RSVP=TRUE;CN="Tina Ko
 zak":http://njyp.org/profile/TinaKozak
ATTENDEE;ROLE=REQ-PARTICIPANT;PARTSTAT=TENTATIVE;RSVP=TRUE;CN=Leah:htt
 p://njyp.org/profile/LeahZ
ATTENDEE;ROLE=REQ-PARTICIPANT;PARTSTAT=TENTATIVE;RSVP=TRUE;CN="Mike Br
 ennan":http://njyp.org/profile/MichaelBrennan
ATTENDEE;ROLE=REQ-PARTICIPANT;PARTSTAT=TENTATIVE;RSVP=TRUE;CN="Tracy H
 ayes":http://njyp.org/profile/TracyHayes
ATTENDEE;ROLE=REQ-PARTICIPANT;PARTSTAT=TENTATIVE;RSVP=TRUE;CN="Stephan
 ie Coutros":http://njyp.org/profile/StephanieCoutros
ATTENDEE;ROLE=REQ-PARTICIPANT;PARTSTAT=TENTATIVE;RSVP=TRUE;CN=Stacy:ht
 tp://njyp.org/profile/StacyStraczynski
ATTENDEE;ROLE=REQ-PARTICIPANT;PARTSTAT=TENTATIVE;RSVP=TRUE;CN=Nola:htt
 p://njyp.org/profile/NolaOcchipinti
ATTENDEE;ROLE=REQ-PARTICIPANT;PARTSTAT=TENTATIVE;RSVP=TRUE;CN=Elizabet
 h:http://njyp.org/profile/ElizabethWilliams
ATTENDEE;ROLE=REQ-PARTICIPANT;PARTSTAT=TENTATIVE;RSVP=TRUE;CN="Janine 
 Fechter":http://njyp.org/profile/JFechter
ATTENDEE;ROLE=REQ-PARTICIPANT;PARTSTAT=TENTATIVE;RSVP=TRUE;CN="Kimberl
 y Bogden":http://njyp.org/profile/KimberlyBogden
ATTENDEE;ROLE=REQ-PARTICIPANT;PARTSTAT=TENTATIVE;RSVP=TRUE;CN="Tony Pa
 nariello":http://njyp.org/profile/TonyPanariello
ATTENDEE;ROLE=REQ-PARTICIPANT;PARTSTAT=TENTATIVE;RSVP=TRUE;CN="Christo
 pher Dingman":http://njyp.org/profile/ChristopherDingman
END:VEVENT
END:VCALENDAR
