BEGIN:VCALENDAR
PRODID:NingEventWidget-v1
VERSION:2.0
METHOD:PUBLISH
BEGIN:VTIMEZONE
TZID:America/New_York
X-LIC-LOCATION:America/New_York
BEGIN:DAYLIGHT
TZOFFSETFROM:-0500
TZOFFSETTO:-0400
TZNAME:EDT
DTSTART:19700308T020000
RRULE:FREQ=YEARLY;BYMONTH=3;BYDAY=2SU
END:DAYLIGHT
BEGIN:STANDARD
TZOFFSETFROM:-0400
TZOFFSETTO:-0500
TZNAME:EST
DTSTART:19701101T020000
RRULE:FREQ=YEARLY;BYMONTH=11;BYDAY=1SU
END:STANDARD
END:VTIMEZONE
BEGIN:VEVENT
UID:2938326:Event:43387
DTSTAMP:20260421T111455Z
SUMMARY:Princeton Happy Hour
DESCRIPTION:Happy Hour is happening again in Princeton and we are back
  at BT Bistro! Join the members of NJYP as we take over the bar at thi
 s fun eatery. Expect drink specials, young professionals, and a Happy 
 Hour that will probably end late.\n\nWho should attend:\nAnyone who is
  21-39 years old.\nPlease RSVP so we know you are attending.\n\nWhat t
 o expect:\nOur Happy Hours are very casual. There are no sign-in table
 s, no name tags, and no ice breakers. Expect people to walk up to you 
 to introduce themselves and feel free to walk up to others who you do 
 not know. Newbies are at EVERY NJYP event so if this is your first, yo
 u won't be alone.\n\nNJYP Host:\nKelley\n\nFinding the Group:\nWe are 
 going to be at the bar but on the FAR side of the bar, against the wal
 l. Please head to this area when you arrive.\n\nDirections:\nhttp://ww
 w.btbistro.com/\nBT Bistro is connected to the CLARION PALMER INN. Lot
 s of FREE parking!\n\nFor more information visit http://njyp.org/event
 s/princeton-happy-hour-4
DTSTART;TZID=America/New_York:20100303T180000
DTEND;TZID=America/New_York:20100303T200000
CATEGORIES:"mercer county", social
LOCATION:BT Bistro at the Clarion Palmer Inn
WEBSITE:http://www.btbistro.com/
URL:http://www.btbistro.com/
CONTACT:
ORGANIZER;CN="Brian and Mike":http://njyp.org/profile/BrianMike
ATTACH;FMTTYPE="image/jpeg":http://storage.ning.com/topology/rest/1.0/
 file/get/1088597200?profile=original
ATTENDEE;ROLE=REQ-PARTICIPANT;PARTSTAT=ACCEPTED;RSVP=TRUE;CN=Kyle:http
 ://njyp.org/profile/Kyle
ATTENDEE;ROLE=REQ-PARTICIPANT;PARTSTAT=ACCEPTED;RSVP=TRUE;CN=Gio:http:
 //njyp.org/profile/GianfrancoPuggioni
ATTENDEE;ROLE=REQ-PARTICIPANT;PARTSTAT=ACCEPTED;RSVP=TRUE;CN="Harsha M
 eda":http://njyp.org/profile/HarshaMeda
ATTENDEE;ROLE=REQ-PARTICIPANT;PARTSTAT=ACCEPTED;RSVP=TRUE;CN="Gene Gam
 buzza":http://njyp.org/profile/genegambuzza
ATTENDEE;ROLE=REQ-PARTICIPANT;PARTSTAT=ACCEPTED;RSVP=TRUE;CN=sarah:htt
 p://njyp.org/profile/sarah84
ATTENDEE;ROLE=REQ-PARTICIPANT;PARTSTAT=ACCEPTED;RSVP=TRUE;CN="Tina Koz
 ak":http://njyp.org/profile/TinaKozak
ATTENDEE;ROLE=REQ-PARTICIPANT;PARTSTAT=ACCEPTED;RSVP=TRUE;CN=Anthony:h
 ttp://njyp.org/profile/Anthony
ATTENDEE;ROLE=REQ-PARTICIPANT;PARTSTAT=ACCEPTED;RSVP=TRUE;CN="Liz Poll
 ard":http://njyp.org/profile/ElizabethLizPollard
ATTENDEE;ROLE=REQ-PARTICIPANT;PARTSTAT=ACCEPTED;RSVP=TRUE;CN=Sara:http
 ://njyp.org/profile/SaraLevenstein
ATTENDEE;ROLE=REQ-PARTICIPANT;PARTSTAT=ACCEPTED;RSVP=TRUE;CN=Kelley:ht
 tp://njyp.org/profile/KelleyBoyle
ATTENDEE;ROLE=REQ-PARTICIPANT;PARTSTAT=ACCEPTED;RSVP=TRUE;CN="Ahmed Ud
 din":http://njyp.org/profile/AhmedUddin
ATTENDEE;ROLE=REQ-PARTICIPANT;PARTSTAT=ACCEPTED;RSVP=TRUE;CN="Lauren L
 ":http://njyp.org/profile/LaurenL
ATTENDEE;ROLE=REQ-PARTICIPANT;PARTSTAT=ACCEPTED;RSVP=TRUE;CN="Shahrooz
  Bhopti":http://njyp.org/profile/speedlike
ATTENDEE;ROLE=REQ-PARTICIPANT;PARTSTAT=ACCEPTED;RSVP=TRUE;CN=Gary:http
 ://njyp.org/profile/GarySchuck
ATTENDEE;ROLE=REQ-PARTICIPANT;PARTSTAT=ACCEPTED;RSVP=TRUE;CN=Demone:ht
 tp://njyp.org/profile/DemoneKim
ATTENDEE;ROLE=REQ-PARTICIPANT;PARTSTAT=ACCEPTED;RSVP=TRUE;CN=Dale:http
 ://njyp.org/profile/DaleE
ATTENDEE;ROLE=REQ-PARTICIPANT;PARTSTAT=ACCEPTED;RSVP=TRUE;CN="Toni Lic
 ciardello":http://njyp.org/profile/ToniLicciardello
ATTENDEE;ROLE=REQ-PARTICIPANT;PARTSTAT=ACCEPTED;RSVP=TRUE;CN="Brian Ri
 beiro":http://njyp.org/profile/BrianRibeiro
ATTENDEE;ROLE=REQ-PARTICIPANT;PARTSTAT=ACCEPTED;RSVP=TRUE;CN=Celeste:h
 ttp://njyp.org/profile/Celeste
ATTENDEE;ROLE=REQ-PARTICIPANT;PARTSTAT=ACCEPTED;RSVP=TRUE;CN="Steven H
 oltzman":http://njyp.org/profile/StevenHoltzman
ATTENDEE;ROLE=REQ-PARTICIPANT;PARTSTAT=ACCEPTED;RSVP=TRUE;CN="Kim Schm
 idt":http://njyp.org/profile/KimSchmidt
ATTENDEE;ROLE=REQ-PARTICIPANT;PARTSTAT=ACCEPTED;RSVP=TRUE;CN="Simon Ro
 bertson":http://njyp.org/profile/SimonRobertson
ATTENDEE;ROLE=REQ-PARTICIPANT;PARTSTAT=ACCEPTED;RSVP=TRUE;CN="Jennifer
  L. Campbell":http://njyp.org/profile/JenniferLCampbell
ATTENDEE;ROLE=REQ-PARTICIPANT;PARTSTAT=ACCEPTED;RSVP=TRUE;CN=Lindsay:h
 ttp://njyp.org/profile/Lindsay
ATTENDEE;ROLE=REQ-PARTICIPANT;PARTSTAT=ACCEPTED;RSVP=TRUE;CN="Neelima 
 Choudary":http://njyp.org/profile/NeelimaChoudary
ATTENDEE;ROLE=REQ-PARTICIPANT;PARTSTAT=ACCEPTED;RSVP=TRUE;CN="Carrie N
 .":http://njyp.org/profile/CarrieNeigel
ATTENDEE;ROLE=REQ-PARTICIPANT;PARTSTAT=ACCEPTED;RSVP=TRUE;CN="Don Dins
 more":http://njyp.org/profile/DonDinsmore
ATTENDEE;ROLE=REQ-PARTICIPANT;PARTSTAT=ACCEPTED;RSVP=TRUE;CN=Elizabeth
 :http://njyp.org/profile/ElizabethWilliams
ATTENDEE;ROLE=REQ-PARTICIPANT;PARTSTAT=ACCEPTED;RSVP=TRUE;CN="Brian an
 d Mike":http://njyp.org/profile/BrianMike
ATTENDEE;ROLE=REQ-PARTICIPANT;PARTSTAT=TENTATIVE;RSVP=TRUE;CN="Heather
  Taylor":http://njyp.org/profile/HeatherBrookeTaylor
ATTENDEE;ROLE=REQ-PARTICIPANT;PARTSTAT=TENTATIVE;RSVP=TRUE;CN="Ann Vos
 s":http://njyp.org/profile/AnnVoss
ATTENDEE;ROLE=REQ-PARTICIPANT;PARTSTAT=TENTATIVE;RSVP=TRUE;CN=Lizzie:h
 ttp://njyp.org/profile/ElizabethKuhns
ATTENDEE;ROLE=REQ-PARTICIPANT;PARTSTAT=TENTATIVE;RSVP=TRUE;CN="Kimberl
 y Bogden":http://njyp.org/profile/KimberlyBogden
ATTENDEE;ROLE=REQ-PARTICIPANT;PARTSTAT=TENTATIVE;RSVP=TRUE;CN="JW Sche
 rm":http://njyp.org/profile/JWScherm
ATTENDEE;ROLE=REQ-PARTICIPANT;PARTSTAT=TENTATIVE;RSVP=TRUE;CN=Jo:http:
 //njyp.org/profile/Jo
ATTENDEE;ROLE=REQ-PARTICIPANT;PARTSTAT=TENTATIVE;RSVP=TRUE;CN=Nola:htt
 p://njyp.org/profile/NolaOcchipinti
ATTENDEE;ROLE=REQ-PARTICIPANT;PARTSTAT=TENTATIVE;RSVP=TRUE;CN="Gary Ko
 kesh":http://njyp.org/profile/GaryKokesh
ATTENDEE;ROLE=REQ-PARTICIPANT;PARTSTAT=TENTATIVE;RSVP=TRUE;CN="Daniel 
 Roberts":http://njyp.org/profile/DanielRoberts
ATTENDEE;ROLE=REQ-PARTICIPANT;PARTSTAT=TENTATIVE;RSVP=TRUE;CN="Rob Riz
 zo":http://njyp.org/profile/RobertRizzoJr
ATTENDEE;ROLE=REQ-PARTICIPANT;PARTSTAT=TENTATIVE;RSVP=TRUE;CN=Amanda:h
 ttp://njyp.org/profile/AmandaHujber
END:VEVENT
END:VCALENDAR
