BEGIN:VCALENDAR
PRODID:NingEventWidget-v1
VERSION:2.0
METHOD:PUBLISH
BEGIN:VTIMEZONE
TZID:America/New_York
X-LIC-LOCATION:America/New_York
BEGIN:DAYLIGHT
TZOFFSETFROM:-0500
TZOFFSETTO:-0400
TZNAME:EDT
DTSTART:19700308T020000
RRULE:FREQ=YEARLY;BYMONTH=3;BYDAY=2SU
END:DAYLIGHT
BEGIN:STANDARD
TZOFFSETFROM:-0400
TZOFFSETTO:-0500
TZNAME:EST
DTSTART:19701101T020000
RRULE:FREQ=YEARLY;BYMONTH=11;BYDAY=1SU
END:STANDARD
END:VTIMEZONE
BEGIN:VEVENT
UID:2938326:Event:716855
DTSTAMP:20260419T221409Z
SUMMARY:QS World MBA Tour New York
DESCRIPTION:Meet admissions directors from top local and international
  business schools at The QS World MBA Tour New York on Saturday, May 7
 th.\n\nFREE ENTRY to the members NJYP. Mention ‘NJYP’ at the regis
 tration table to gain free entry. Click here to register for free: htt
 p://goo.gl/5DK5lx\n\n\n\nFor more information visit http://njyp.org/ev
 ents/qs-world-mba-tour-new-york-3
DTSTART;TZID=America/New_York:20160507T130000
DTEND;TZID=America/New_York:20160507T180000
CATEGORIES:educational, networking, "hudson county"
LOCATION:Westin New York at Times Square
WEBSITE:http://goo.gl/5DK5lx
URL:http://goo.gl/5DK5lx
CONTACT:
ORGANIZER:
ATTACH;FMTTYPE="image/jpeg":http://storage.ning.com/topology/rest/1.0/
 file/get/1089112832?profile=original
ATTENDEE;ROLE=REQ-PARTICIPANT;PARTSTAT=ACCEPTED;RSVP=TRUE;CN=Johanna:h
 ttp://njyp.org/profile/Johanna509
ATTENDEE;ROLE=REQ-PARTICIPANT;PARTSTAT=ACCEPTED;RSVP=TRUE;CN="Brian Me
 lnick":http://njyp.org/profile/Brian1218
ATTENDEE;ROLE=REQ-PARTICIPANT;PARTSTAT=ACCEPTED;RSVP=TRUE;CN="Michael 
 Park":http://njyp.org/profile/MichaelPark
END:VEVENT
END:VCALENDAR
