BEGIN:VCALENDAR
PRODID:NingEventWidget-v1
VERSION:2.0
METHOD:PUBLISH
BEGIN:VTIMEZONE
TZID:America/New_York
X-LIC-LOCATION:America/New_York
BEGIN:DAYLIGHT
TZOFFSETFROM:-0500
TZOFFSETTO:-0400
TZNAME:EDT
DTSTART:19700308T020000
RRULE:FREQ=YEARLY;BYMONTH=3;BYDAY=2SU
END:DAYLIGHT
BEGIN:STANDARD
TZOFFSETFROM:-0400
TZOFFSETTO:-0500
TZNAME:EST
DTSTART:19701101T020000
RRULE:FREQ=YEARLY;BYMONTH=11;BYDAY=1SU
END:STANDARD
END:VTIMEZONE
BEGIN:VEVENT
UID:2938326:Event:31894
DTSTAMP:20260420T171155Z
SUMMARY:Recent Grads: 4-Minute Friending
DESCRIPTION:I am so sorry but I am going to have to cancel today's Fri
 ending event. We needed at least 20 people to sign up but only got 10.
  This was a NEW event idea I was trying out and the interest was just 
 now there. Refunds will be sent soon via Paypal.\n\nMake friends fast!
  4-Minute Friending brings together a group of Young Professionals who
  live and work in the area. Participants will get to meet one-on-one w
 ith 10 to 15 people to share interests and hobbies. Find friends to ha
 ng out with, go to the gym with, hit up happy hour with! NJYP has been
  running these events for years and as a result TONS of friendships ha
 ve been made! We guarantee you will have a good time and that you will
  walk away with new connections.\n\nBONUS:\nWhen you register for this
  event you will be asked to share your email, interests, location, and
  job title. This information will be compiled and shared with the othe
 r participants at the 4-Minute Friending event [you MUST attend to get
  the printed paper]. Yup, you can now easily contact your new friends 
 post-event and do not have to worry about bringing a pen and paper.\n\
 nWho should attend:\nThis 4-Minute Friending event is open to ages 21 
 to 28 ONLY.\nYou can be single or married. Come out to make new friend
 s or come to network.\nThere is no dress code and you may bring busine
 ss cards.\n\n$12 Item Minimum:\nThere is a $12 minimum purchase during
  this event. You can buy beer, wine, soda, bottled water, appetizers, 
 etc.\n\n\nRSVP (to the right) and we will let you know when tix are al
 most gone, when prices are going up, if there are any changes, etc.\n\
 nMember Cost:\n$5 for the first 5 to register\n$10 for the next 6 to 1
 5 to register\n$15 for the next 16 to 34 to register\n$20 for walk-ins
 \n\nNon-Member Cost:\n$20 online and at the door\n\nTickets:\nThere ar
 e a limited number of Tickets for sale. Tickets are not mailed and you
  do not need to print them; your name will be kept at the door. All sa
 les are final.\n\nFinding the Group:\nSM23 Lounge is the Headquarters 
 Plaza building. Once you arrive at the lounge ask staff for NJYP/Speed
  Dating.\n\nFor more information visit http://njyp.org/events/recent-g
 rads-4minute-friending
DTSTART;TZID=America/New_York:20100127T190000
DTEND;TZID=America/New_York:20100127T210000
CATEGORIES:"morris county", social
LOCATION:SM23 Lounge in Headquarters Plaza
WEBSITE:http://www.sm23morristown.com/
URL:http://www.sm23morristown.com/
CONTACT:
ORGANIZER;CN="Brian and Mike":http://njyp.org/profile/BrianMike
ATTACH;FMTTYPE="image/jpeg":http://storage.ning.com/topology/rest/1.0/
 file/get/1088577984?profile=original
ATTENDEE;ROLE=REQ-PARTICIPANT;PARTSTAT=ACCEPTED;RSVP=TRUE;CN="Christop
 her Totaro":http://njyp.org/profile/ChristopherTotaro
ATTENDEE;ROLE=REQ-PARTICIPANT;PARTSTAT=ACCEPTED;RSVP=TRUE;CN="Brittany
  Burke":http://njyp.org/profile/BrittanyBurke
ATTENDEE;ROLE=REQ-PARTICIPANT;PARTSTAT=ACCEPTED;RSVP=TRUE;CN="Bibi B t
 he Nutritionist":http://njyp.org/profile/BibianaBendikova
ATTENDEE;ROLE=REQ-PARTICIPANT;PARTSTAT=ACCEPTED;RSVP=TRUE;CN=Paul:http
 ://njyp.org/profile/MTown
ATTENDEE;ROLE=REQ-PARTICIPANT;PARTSTAT=ACCEPTED;RSVP=TRUE;CN=Monica:ht
 tp://njyp.org/profile/Monica
ATTENDEE;ROLE=REQ-PARTICIPANT;PARTSTAT=ACCEPTED;RSVP=TRUE;CN="Brett K"
 :http://njyp.org/profile/BrettKritzberger
ATTENDEE;ROLE=REQ-PARTICIPANT;PARTSTAT=ACCEPTED;RSVP=TRUE;CN="Brian an
 d Mike":http://njyp.org/profile/BrianMike
ATTENDEE;ROLE=REQ-PARTICIPANT;PARTSTAT=TENTATIVE;RSVP=TRUE;CN="Sarah M
 iddleton":http://njyp.org/profile/SarahM
ATTENDEE;ROLE=REQ-PARTICIPANT;PARTSTAT=TENTATIVE;RSVP=TRUE;CN=Anne-Mar
 ie:http://njyp.org/profile/AnneMarieSanocki
ATTENDEE;ROLE=REQ-PARTICIPANT;PARTSTAT=TENTATIVE;RSVP=TRUE;CN=Sarah:ht
 tp://njyp.org/profile/Sarah718
ATTENDEE;ROLE=REQ-PARTICIPANT;PARTSTAT=TENTATIVE;RSVP=TRUE;CN="Marie K
 indler":http://njyp.org/profile/MarieKindler
ATTENDEE;ROLE=REQ-PARTICIPANT;PARTSTAT=TENTATIVE;RSVP=TRUE;CN=Kendell:
 http://njyp.org/profile/Kendell
ATTENDEE;ROLE=REQ-PARTICIPANT;PARTSTAT=TENTATIVE;RSVP=TRUE;CN=Rebecca:
 http://njyp.org/profile/Rebecca
ATTENDEE;ROLE=REQ-PARTICIPANT;PARTSTAT=TENTATIVE;RSVP=TRUE;CN=Rachel:h
 ttp://njyp.org/profile/Rachel385
ATTENDEE;ROLE=REQ-PARTICIPANT;PARTSTAT=TENTATIVE;RSVP=TRUE;CN=Tina:htt
 p://njyp.org/profile/TinaBoyer
ATTENDEE;ROLE=REQ-PARTICIPANT;PARTSTAT=TENTATIVE;RSVP=TRUE;CN="Al B.":
 http://njyp.org/profile/AlbertNicholBahia
ATTENDEE;ROLE=REQ-PARTICIPANT;PARTSTAT=TENTATIVE;RSVP=TRUE;CN=Jon:http
 ://njyp.org/profile/Jon
ATTENDEE;ROLE=REQ-PARTICIPANT;PARTSTAT=TENTATIVE;RSVP=TRUE;CN=Rena:htt
 p://njyp.org/profile/RenaSinha
ATTENDEE;ROLE=REQ-PARTICIPANT;PARTSTAT=TENTATIVE;RSVP=TRUE;CN="Karl  A
  Kraus":http://njyp.org/profile/KarlAKraus
ATTENDEE;ROLE=REQ-PARTICIPANT;PARTSTAT=TENTATIVE;RSVP=TRUE;CN="Elande 
 Baro":http://njyp.org/profile/ElandeBaro
ATTENDEE;ROLE=REQ-PARTICIPANT;PARTSTAT=TENTATIVE;RSVP=TRUE;CN="Jamie R
 agucci":http://njyp.org/profile/JamieRagucci
ATTENDEE;ROLE=REQ-PARTICIPANT;PARTSTAT=TENTATIVE;RSVP=TRUE;CN=Pete:htt
 p://njyp.org/profile/PeterVarricchio
ATTENDEE;ROLE=REQ-PARTICIPANT;PARTSTAT=TENTATIVE;RSVP=TRUE;CN=Kat:http
 ://njyp.org/profile/KathleenB
ATTENDEE;ROLE=REQ-PARTICIPANT;PARTSTAT=TENTATIVE;RSVP=TRUE;CN=Stacy:ht
 tp://njyp.org/profile/StacyStraczynski
ATTENDEE;ROLE=REQ-PARTICIPANT;PARTSTAT=TENTATIVE;RSVP=TRUE;CN="A D Y":
 http://njyp.org/profile/ADY
ATTENDEE;ROLE=REQ-PARTICIPANT;PARTSTAT=TENTATIVE;RSVP=TRUE;CN="Leigha 
 Diesel":http://njyp.org/profile/LeighaDiesel
ATTENDEE;ROLE=REQ-PARTICIPANT;PARTSTAT=TENTATIVE;RSVP=TRUE;CN=Danielle
 :http://njyp.org/profile/DanielleM
ATTENDEE;ROLE=REQ-PARTICIPANT;PARTSTAT=TENTATIVE;RSVP=TRUE;CN="David A
 very":http://njyp.org/profile/DavidAvery
ATTENDEE;ROLE=REQ-PARTICIPANT;PARTSTAT=TENTATIVE;RSVP=TRUE;CN="Devika 
 Bakhshi":http://njyp.org/profile/Devika
ATTENDEE;ROLE=REQ-PARTICIPANT;PARTSTAT=TENTATIVE;RSVP=TRUE;CN="Andrew 
 Vasta":http://njyp.org/profile/AndrewVasta
END:VEVENT
END:VCALENDAR
