BEGIN:VCALENDAR
PRODID:NingEventWidget-v1
VERSION:2.0
METHOD:PUBLISH
BEGIN:VTIMEZONE
TZID:America/New_York
X-LIC-LOCATION:America/New_York
BEGIN:DAYLIGHT
TZOFFSETFROM:-0500
TZOFFSETTO:-0400
TZNAME:EDT
DTSTART:19700308T020000
RRULE:FREQ=YEARLY;BYMONTH=3;BYDAY=2SU
END:DAYLIGHT
BEGIN:STANDARD
TZOFFSETFROM:-0400
TZOFFSETTO:-0500
TZNAME:EST
DTSTART:19701101T020000
RRULE:FREQ=YEARLY;BYMONTH=11;BYDAY=1SU
END:STANDARD
END:VTIMEZONE
BEGIN:VEVENT
UID:2938326:Event:567272
DTSTAMP:20260421T053929Z
SUMMARY:Red Bank Happy Hour
DESCRIPTION:Your local Happy Hour is back on the calendar and this tim
 e we are at The Downtown in Red Bank. Join other Young Professionals a
 t this mix & mingle event. As always, there is no cover, plus there wi
 ll be great specials to keep the drinks and the laughter flowing. Whet
 her this is your first event or your fiftieth, you will find yourself 
 surrounded by friendly faces and future friends.  Who can attend: This
  Happy Hour is for dues paying Members only,http://www.njyp.org/page/p
 ay-dues If you wish to bring a guest please have them join NJYP first.
   Cost: No cost to attend but you MUST RSVP. 1 item minimum per person
  so we support the bar and all the space we are taking up.  Specials u
 ntil 8pm: $3 domestic draft beers $5 select glasses of wine $5 house c
 ocktails $7 house martinis  What to expect: Our Happy Hours are very c
 asual. There are no sign-in tables, no name tags, and no ice breakers.
  Expect people to walk up to you to introduce themselves and feel free
  to walk up to others who you do not know. Newbies are at EVERY NJYP e
 vent so if this is your first, you won't be alone.  Finding the Group:
  We are going to be in the bar area. Please look for signs or ask staf
 f where the group is.  Directions: http://thedowntownnj.com/contact.ht
 ml\n\nFor more information visit http://njyp.org/events/red-bank-happy
 -hour-12
DTSTART;TZID=America/New_York:20140626T180000
DTEND;TZID=America/New_York:20140626T200000
CATEGORIES:"monmouth county", members, social
LOCATION:The Downtown
WEBSITE:http://thedowntownnj.com/
URL:http://thedowntownnj.com/
CONTACT:
ORGANIZER;CN="Brian and Mike":http://njyp.org/profile/BrianMike
ATTACH;FMTTYPE="image/jpeg":http://storage.ning.com/topology/rest/1.0/
 file/get/1088978464?profile=original
ATTENDEE;ROLE=REQ-PARTICIPANT;PARTSTAT=ACCEPTED;RSVP=TRUE;CN=Diana:htt
 p://njyp.org/profile/Diana437
ATTENDEE;ROLE=REQ-PARTICIPANT;PARTSTAT=ACCEPTED;RSVP=TRUE;CN=Melanie:h
 ttp://njyp.org/profile/Melanie457
ATTENDEE;ROLE=REQ-PARTICIPANT;PARTSTAT=ACCEPTED;RSVP=TRUE;CN=Allison:h
 ttp://njyp.org/profile/Allison100
ATTENDEE;ROLE=REQ-PARTICIPANT;PARTSTAT=ACCEPTED;RSVP=TRUE;CN="Ali Jama
 r Taylor":http://njyp.org/profile/AliJamarTaylor
ATTENDEE;ROLE=REQ-PARTICIPANT;PARTSTAT=ACCEPTED;RSVP=TRUE;CN=Michael:h
 ttp://njyp.org/profile/Michael728
ATTENDEE;ROLE=REQ-PARTICIPANT;PARTSTAT=ACCEPTED;RSVP=TRUE;CN=Joshua:ht
 tp://njyp.org/profile/Joshua614
ATTENDEE;ROLE=REQ-PARTICIPANT;PARTSTAT=ACCEPTED;RSVP=TRUE;CN=Tiffany:h
 ttp://njyp.org/profile/Tiffany579
ATTENDEE;ROLE=REQ-PARTICIPANT;PARTSTAT=ACCEPTED;RSVP=TRUE;CN=Jen:http:
 //njyp.org/profile/Jen824
ATTENDEE;ROLE=REQ-PARTICIPANT;PARTSTAT=ACCEPTED;RSVP=TRUE;CN=Mike:http
 ://njyp.org/profile/Mike475
ATTENDEE;ROLE=REQ-PARTICIPANT;PARTSTAT=ACCEPTED;RSVP=TRUE;CN=Rebecca:h
 ttp://njyp.org/profile/Rebecca445
ATTENDEE;ROLE=REQ-PARTICIPANT;PARTSTAT=ACCEPTED;RSVP=TRUE;CN=Jennifer:
 http://njyp.org/profile/Jennifer778
ATTENDEE;ROLE=REQ-PARTICIPANT;PARTSTAT=ACCEPTED;RSVP=TRUE;CN=Jennifer:
 http://njyp.org/profile/Jennifer335
ATTENDEE;ROLE=REQ-PARTICIPANT;PARTSTAT=ACCEPTED;RSVP=TRUE;CN=Megan:htt
 p://njyp.org/profile/MeganSullivan
ATTENDEE;ROLE=REQ-PARTICIPANT;PARTSTAT=ACCEPTED;RSVP=TRUE;CN=Melissa:h
 ttp://njyp.org/profile/Melissa27
ATTENDEE;ROLE=REQ-PARTICIPANT;PARTSTAT=ACCEPTED;RSVP=TRUE;CN="Lindsey 
 Schneider":http://njyp.org/profile/LindseySchneider
ATTENDEE;ROLE=REQ-PARTICIPANT;PARTSTAT=ACCEPTED;RSVP=TRUE;CN="Jim Perr
 y":http://njyp.org/profile/JamesMPerry
ATTENDEE;ROLE=REQ-PARTICIPANT;PARTSTAT=ACCEPTED;RSVP=TRUE;CN=Jim:http:
 //njyp.org/profile/Jim899
ATTENDEE;ROLE=REQ-PARTICIPANT;PARTSTAT=ACCEPTED;RSVP=TRUE;CN="Joel Ber
 man":http://njyp.org/profile/JoelBerman
ATTENDEE;ROLE=REQ-PARTICIPANT;PARTSTAT=ACCEPTED;RSVP=TRUE;CN=Tony:http
 ://njyp.org/profile/Tony
ATTENDEE;ROLE=REQ-PARTICIPANT;PARTSTAT=ACCEPTED;RSVP=TRUE;CN=Andrew:ht
 tp://njyp.org/profile/AndrewYoung
ATTENDEE;ROLE=REQ-PARTICIPANT;PARTSTAT=ACCEPTED;RSVP=TRUE;CN=Sherlon:h
 ttp://njyp.org/profile/Sherlon
ATTENDEE;ROLE=REQ-PARTICIPANT;PARTSTAT=ACCEPTED;RSVP=TRUE;CN=Edyta:htt
 p://njyp.org/profile/Edyta
ATTENDEE;ROLE=REQ-PARTICIPANT;PARTSTAT=ACCEPTED;RSVP=TRUE;CN=Cassandra
 :http://njyp.org/profile/Cassandra
ATTENDEE;ROLE=REQ-PARTICIPANT;PARTSTAT=ACCEPTED;RSVP=TRUE;CN=Nicole:ht
 tp://njyp.org/profile/Nicole267
ATTENDEE;ROLE=REQ-PARTICIPANT;PARTSTAT=ACCEPTED;RSVP=TRUE;CN="Brian an
 d Mike":http://njyp.org/profile/BrianMike
ATTENDEE;ROLE=REQ-PARTICIPANT;PARTSTAT=TENTATIVE;RSVP=TRUE;CN=Katie:ht
 tp://njyp.org/profile/Katie192
ATTENDEE;ROLE=REQ-PARTICIPANT;PARTSTAT=TENTATIVE;RSVP=TRUE;CN=Nicholas
 :http://njyp.org/profile/Nicholas615
ATTENDEE;ROLE=REQ-PARTICIPANT;PARTSTAT=TENTATIVE;RSVP=TRUE;CN=Kristel:
 http://njyp.org/profile/Kristel779
ATTENDEE;ROLE=REQ-PARTICIPANT;PARTSTAT=TENTATIVE;RSVP=TRUE;CN="Derrick
  B. Norgriff":http://njyp.org/profile/MeetMrGriff
ATTENDEE;ROLE=REQ-PARTICIPANT;PARTSTAT=TENTATIVE;RSVP=TRUE;CN=Matt:htt
 p://njyp.org/profile/Matthew411
ATTENDEE;ROLE=REQ-PARTICIPANT;PARTSTAT=TENTATIVE;RSVP=TRUE;CN="Lorrain
 e Weitz":http://njyp.org/profile/LorraineWeitz
ATTENDEE;ROLE=REQ-PARTICIPANT;PARTSTAT=TENTATIVE;RSVP=TRUE;CN=Dominiqu
 e:http://njyp.org/profile/Dominique959
ATTENDEE;ROLE=REQ-PARTICIPANT;PARTSTAT=TENTATIVE;RSVP=TRUE;CN=Toni:htt
 p://njyp.org/profile/Toni852
ATTENDEE;ROLE=REQ-PARTICIPANT;PARTSTAT=TENTATIVE;RSVP=TRUE;CN=Michelle
 :http://njyp.org/profile/MichelleB
END:VEVENT
END:VCALENDAR
