BEGIN:VCALENDAR
PRODID:NingEventWidget-v1
VERSION:2.0
METHOD:PUBLISH
BEGIN:VTIMEZONE
TZID:America/New_York
X-LIC-LOCATION:America/New_York
BEGIN:DAYLIGHT
TZOFFSETFROM:-0500
TZOFFSETTO:-0400
TZNAME:EDT
DTSTART:19700308T020000
RRULE:FREQ=YEARLY;BYMONTH=3;BYDAY=2SU
END:DAYLIGHT
BEGIN:STANDARD
TZOFFSETFROM:-0400
TZOFFSETTO:-0500
TZNAME:EST
DTSTART:19701101T020000
RRULE:FREQ=YEARLY;BYMONTH=11;BYDAY=1SU
END:STANDARD
END:VTIMEZONE
BEGIN:VEVENT
UID:2938326:Event:718014
DTSTAMP:20260422T095507Z
SUMMARY:Red, White or Blue Party
DESCRIPTION:UPDATE: 27 tix sold online as of Wed morning, expecting 35
 -50 attendees\nGet out your American Flag and brush up on your fake fi
 rework ka-booms, the 4th of July is here and so is our annual after-wo
 rk party! Come to this star spangled event wearing red, white, OR blue
 , or all three. There will be colorful drinks and a private OUTDOOR pa
 tio packed full of YPs ready to celebrate into the night.  \nMember Co
 st: $5 online $10 at the door \nNon-Member cost: $10 online $10 at 
 the door if there is space\n\nTickets: There are a limited number of 
 tickets. All sales are final.\n Who: Anyone who is 21-39 years old.\n
 \nDress Code: You MUST wear Red, White, or Blue. Jeans will count as 
 blue but try to match them with a red or white top! The goal is to fil
 l the space with Independence Day spirit.\n\nDirections: Meet on Qube
  TERRACE at the Hyatt. The terrace is right in front of the hotel and 
 faces Speedwell Ave. http://www.morristown.hyatt.com/hyatt/hotels/inde
 x.jsp Hotel has parking, ask if it can be validated (usually it can be
  but we can't guarantee it).  \n\nFor more information visit http://nj
 yp.org/events/red-white-or-blue-party-6
DTSTART;TZID=America/New_York:20160630T173000
DTEND;TZID=America/New_York:20160630T193000
CATEGORIES:"morris county", social, holiday, happy, hour
LOCATION:Qube Lounge at the Hyatt
WEBSITE:http://morristown.hyatt.com/en/hotel/home.html
URL:http://morristown.hyatt.com/en/hotel/home.html
CONTACT:
ORGANIZER;CN="Michael Park":http://njyp.org/profile/MichaelPark
ATTACH;FMTTYPE="image/jpeg":http://storage.ning.com/topology/rest/1.0/
 file/get/1088697145?profile=original
ATTENDEE;ROLE=REQ-PARTICIPANT;PARTSTAT=ACCEPTED;RSVP=TRUE;CN="Vincent 
 \"Matthew\" Vigorita":http://njyp.org/profile/VincentMatthewVigorita
ATTENDEE;ROLE=REQ-PARTICIPANT;PARTSTAT=ACCEPTED;RSVP=TRUE;CN=John:http
 ://njyp.org/profile/John839
ATTENDEE;ROLE=REQ-PARTICIPANT;PARTSTAT=ACCEPTED;RSVP=TRUE;CN=Ant:http:
 //njyp.org/profile/AnthonyAgonias
ATTENDEE;ROLE=REQ-PARTICIPANT;PARTSTAT=ACCEPTED;RSVP=TRUE;CN=Amanda:ht
 tp://njyp.org/profile/Amanda412
ATTENDEE;ROLE=REQ-PARTICIPANT;PARTSTAT=ACCEPTED;RSVP=TRUE;CN=Jason:htt
 p://njyp.org/profile/Jasonnn
ATTENDEE;ROLE=REQ-PARTICIPANT;PARTSTAT=ACCEPTED;RSVP=TRUE;CN="Brian Me
 lnick":http://njyp.org/profile/Brian1218
ATTENDEE;ROLE=REQ-PARTICIPANT;PARTSTAT=ACCEPTED;RSVP=TRUE;CN=Phillip-M
 ichael:http://njyp.org/profile/PhillipMichael
ATTENDEE;ROLE=REQ-PARTICIPANT;PARTSTAT=ACCEPTED;RSVP=TRUE;CN=Daphnee:h
 ttp://njyp.org/profile/Daphnee
ATTENDEE;ROLE=REQ-PARTICIPANT;PARTSTAT=ACCEPTED;RSVP=TRUE;CN="Michael 
 Park":http://njyp.org/profile/MichaelPark
ATTENDEE;ROLE=REQ-PARTICIPANT;PARTSTAT=TENTATIVE;RSVP=TRUE;CN="Alyssa 
 Berger":http://njyp.org/profile/AlyssaBerger
ATTENDEE;ROLE=REQ-PARTICIPANT;PARTSTAT=TENTATIVE;RSVP=TRUE;CN=Katie:ht
 tp://njyp.org/profile/Katie168
ATTENDEE;ROLE=REQ-PARTICIPANT;PARTSTAT=TENTATIVE;RSVP=TRUE;CN=Damien:h
 ttp://njyp.org/profile/DamienCaillault
ATTENDEE;ROLE=REQ-PARTICIPANT;PARTSTAT=TENTATIVE;RSVP=TRUE;CN="Diondra
  Simmons":http://njyp.org/profile/DiondraSimmons
ATTENDEE;ROLE=REQ-PARTICIPANT;PARTSTAT=TENTATIVE;RSVP=TRUE;CN=Robert:h
 ttp://njyp.org/profile/Robert882
ATTENDEE;ROLE=REQ-PARTICIPANT;PARTSTAT=TENTATIVE;RSVP=TRUE;CN=Crys:htt
 p://njyp.org/profile/crys413
ATTENDEE;ROLE=REQ-PARTICIPANT;PARTSTAT=TENTATIVE;RSVP=TRUE;CN="Catheri
 ne Valero":http://njyp.org/profile/CatherineValero
END:VEVENT
END:VCALENDAR
