BEGIN:VCALENDAR
PRODID:NingEventWidget-v1
VERSION:2.0
METHOD:PUBLISH
BEGIN:VTIMEZONE
TZID:America/New_York
X-LIC-LOCATION:America/New_York
BEGIN:DAYLIGHT
TZOFFSETFROM:-0500
TZOFFSETTO:-0400
TZNAME:EDT
DTSTART:19700308T020000
RRULE:FREQ=YEARLY;BYMONTH=3;BYDAY=2SU
END:DAYLIGHT
BEGIN:STANDARD
TZOFFSETFROM:-0400
TZOFFSETTO:-0500
TZNAME:EST
DTSTART:19701101T020000
RRULE:FREQ=YEARLY;BYMONTH=11;BYDAY=1SU
END:STANDARD
END:VTIMEZONE
BEGIN:VEVENT
UID:2938326:Event:96126
DTSTAMP:20260420T155333Z
SUMMARY:Scavenger Hunt at Whole Foods
DESCRIPTION:Sorry, this was canceled due to lack of interest. Refunds 
 will be sent via Paypal.\n\nJoin us for a scavenger hunt like no other
 . Small teams of Young Professionals will be given maps and clues that
  will guide you through Whole Foods. Teams will post responses to thei
 r clues and provide \"creative\" commentary based on the vendor items 
 to the Whole Foods Facebook page. The group with the most correct and 
 creative responses wins a prize from Whole Foods and bragging rights!\
 n\nSchedule\n6:30 Complimentary wine & cheese reception\n7:00 Scavenge
 r Hunt begins\n8:00 Teams gather for dinner and drinks (at your cost) 
 at the on-site casual restaurant, Osteria. Winners will be announced b
 y 8:30.\n\n\n\nMember Cost:\n$15 online\n$20 at the door\n\nNon-Member
  Cost:\n$20 online and at the door\n\nWhole Foods is offering $10 gift
  cards to the first 10 people who buy a ticket! You must show up at th
 e event to claim your gift card.\n\nWho Can Attend:\nAnyone who is 21 
 to 39 years old, single or married.\n\nTickets:\nThere are a limited n
 umber of tickets. All sales are final. Your name will be at the door.\
 n\nWhat to Bring:\nIf you have a smart phone or an iPad please bring i
 t but neither are required.\nWear comfortable shoes.\n\nDirections:\nP
 lenty of free parking.\nhttp://wholefoodsmarket.com/storesbeta/millbur
 n/\nMeet in Osteria.\n\nFor more information visit http://njyp.org/eve
 nts/scavenger-hunt-at-whole-foods
DTSTART;TZID=America/New_York:20100928T183000
DTEND;TZID=America/New_York:20100928T210000
CATEGORIES:"union county", social, educational
LOCATION:Whole Foods Market
WEBSITE:http://wholefoodsmarket.com/storesbeta/millburn/
URL:http://wholefoodsmarket.com/storesbeta/millburn/
CONTACT:
ORGANIZER;CN="Brian and Mike":http://njyp.org/profile/BrianMike
ATTACH;FMTTYPE="image/jpeg":http://storage.ning.com/topology/rest/1.0/
 file/get/1088638243?profile=original
ATTENDEE;ROLE=REQ-PARTICIPANT;PARTSTAT=ACCEPTED;RSVP=TRUE;CN=SMB:http:
 //njyp.org/profile/SMB
ATTENDEE;ROLE=REQ-PARTICIPANT;PARTSTAT=ACCEPTED;RSVP=TRUE;CN=Natasha:h
 ttp://njyp.org/profile/Natasha
ATTENDEE;ROLE=REQ-PARTICIPANT;PARTSTAT=ACCEPTED;RSVP=TRUE;CN="Christin
 e Migton":http://njyp.org/profile/ChristineMigton
ATTENDEE;ROLE=REQ-PARTICIPANT;PARTSTAT=ACCEPTED;RSVP=TRUE;CN=Diana:htt
 p://njyp.org/profile/Diana
ATTENDEE;ROLE=REQ-PARTICIPANT;PARTSTAT=ACCEPTED;RSVP=TRUE;CN="Jenny Ma
 rie":http://njyp.org/profile/JennyMarie82
ATTENDEE;ROLE=REQ-PARTICIPANT;PARTSTAT=ACCEPTED;RSVP=TRUE;CN="Jenna Cl
 ausen":http://njyp.org/profile/JennaClausen
ATTENDEE;ROLE=REQ-PARTICIPANT;PARTSTAT=ACCEPTED;RSVP=TRUE;CN="NIcole V
 innal":http://njyp.org/profile/NIcoleVinnal
ATTENDEE;ROLE=REQ-PARTICIPANT;PARTSTAT=ACCEPTED;RSVP=TRUE;CN="Brian an
 d Mike":http://njyp.org/profile/BrianMike
ATTENDEE;ROLE=REQ-PARTICIPANT;PARTSTAT=TENTATIVE;RSVP=TRUE;CN=Kristina
 :http://njyp.org/profile/Kristina
ATTENDEE;ROLE=REQ-PARTICIPANT;PARTSTAT=TENTATIVE;RSVP=TRUE;CN=Larry:ht
 tp://njyp.org/profile/LarryYang
ATTENDEE;ROLE=REQ-PARTICIPANT;PARTSTAT=TENTATIVE;RSVP=TRUE;CN=Lizzie:h
 ttp://njyp.org/profile/ElizabethKuhns
ATTENDEE;ROLE=REQ-PARTICIPANT;PARTSTAT=TENTATIVE;RSVP=TRUE;CN=Nita:htt
 p://njyp.org/profile/NitaSilimkhan
ATTENDEE;ROLE=REQ-PARTICIPANT;PARTSTAT=TENTATIVE;RSVP=TRUE;CN=Jacquely
 n:http://njyp.org/profile/Jacquelyn
ATTENDEE;ROLE=REQ-PARTICIPANT;PARTSTAT=TENTATIVE;RSVP=TRUE;CN=James:ht
 tp://njyp.org/profile/James681
END:VEVENT
END:VCALENDAR
