BEGIN:VCALENDAR
PRODID:NingEventWidget-v1
VERSION:2.0
METHOD:PUBLISH
BEGIN:VTIMEZONE
TZID:America/New_York
X-LIC-LOCATION:America/New_York
BEGIN:DAYLIGHT
TZOFFSETFROM:-0500
TZOFFSETTO:-0400
TZNAME:EDT
DTSTART:19700308T020000
RRULE:FREQ=YEARLY;BYMONTH=3;BYDAY=2SU
END:DAYLIGHT
BEGIN:STANDARD
TZOFFSETFROM:-0400
TZOFFSETTO:-0500
TZNAME:EST
DTSTART:19701101T020000
RRULE:FREQ=YEARLY;BYMONTH=11;BYDAY=1SU
END:STANDARD
END:VTIMEZONE
BEGIN:VEVENT
UID:2938326:Event:111294
DTSTAMP:20260420T042611Z
SUMMARY:Scavenger Hunt
DESCRIPTION:Join us for a scavenger hunt like no other. Small teams of
  Young Professionals will be given maps and clues that will guide you 
 through Whole Foods. Teams will post responses to their clues and prov
 ide \"creative\" commentary based on the vendor items to the Whole Foo
 ds Facebook page. The group with the most correct and creative respons
 es wins a prize from Whole Foods and bragging rights! Plus everyone wh
 o attends walks away with a goodie bag!\n\n\n\nSchedule\n7:00 Complime
 ntary wine & cheese reception\n7:30 Scavenger Hunt begins\n8:30 Teams 
 gather for dinner and drinks (at your cost) at the onsite casual resta
 urant, Osteria. Winners will be announced by 9:00.\n\nWho Can Attend:\
 nAnyone who is 21 to 39 years old, single or married.\nThis is a priva
 te event for the Members of NJYP.\n\nMember Cost:\n$5 online\n$10 at t
 he door\n\nNon-Member Cost:\n$10 online and at the door\n\nTickets:\nT
 here are a limited number of tickets. All sales are final. Your name w
 ill be at the door.\n\nWhat to Bring:\nIf you have a smart phone or an
  iPad please bring it.\nWear comfortable shoes.\n\nDirections:\nPlenty
  of free parking.\nhttp://wholefoodsmarket.com/storesbeta/millburn/\nM
 eet in Osteria.\n\nFor more information visit http://njyp.org/events/s
 cavenger-hunt
DTSTART;TZID=America/New_York:20101130T190000
DTEND;TZID=America/New_York:20101130T210000
CATEGORIES:"union county", social, educational
LOCATION:Whole Foods Market
WEBSITE:http://wholefoodsmarket.com/storesbeta/millburn/
URL:http://wholefoodsmarket.com/storesbeta/millburn/
CONTACT:
ORGANIZER;CN="Brian and Mike":http://njyp.org/profile/BrianMike
ATTACH;FMTTYPE="image/jpeg":http://storage.ning.com/topology/rest/1.0/
 file/get/1088655262?profile=original
ATTENDEE;ROLE=REQ-PARTICIPANT;PARTSTAT=ACCEPTED;RSVP=TRUE;CN=Kay:http:
 //njyp.org/profile/Kay
ATTENDEE;ROLE=REQ-PARTICIPANT;PARTSTAT=ACCEPTED;RSVP=TRUE;CN=Carline:h
 ttp://njyp.org/profile/Carline
ATTENDEE;ROLE=REQ-PARTICIPANT;PARTSTAT=ACCEPTED;RSVP=TRUE;CN="Christin
 e Migton":http://njyp.org/profile/ChristineMigton
ATTENDEE;ROLE=REQ-PARTICIPANT;PARTSTAT=ACCEPTED;RSVP=TRUE;CN=David:htt
 p://njyp.org/profile/David654
ATTENDEE;ROLE=REQ-PARTICIPANT;PARTSTAT=ACCEPTED;RSVP=TRUE;CN="Michael 
 Wargo":http://njyp.org/profile/MichaelWargo
ATTENDEE;ROLE=REQ-PARTICIPANT;PARTSTAT=ACCEPTED;RSVP=TRUE;CN="AnnMarie
  Gervasio":http://njyp.org/profile/AnnMarieGervasio
ATTENDEE;ROLE=REQ-PARTICIPANT;PARTSTAT=ACCEPTED;RSVP=TRUE;CN=Patricia:
 http://njyp.org/profile/Patricia814
ATTENDEE;ROLE=REQ-PARTICIPANT;PARTSTAT=ACCEPTED;RSVP=TRUE;CN=Tyshawn:h
 ttp://njyp.org/profile/Tyshawn
ATTENDEE;ROLE=REQ-PARTICIPANT;PARTSTAT=ACCEPTED;RSVP=TRUE;CN=Diane:htt
 p://njyp.org/profile/Diane
ATTENDEE;ROLE=REQ-PARTICIPANT;PARTSTAT=ACCEPTED;RSVP=TRUE;CN=Pamela:ht
 tp://njyp.org/profile/Pamela791
ATTENDEE;ROLE=REQ-PARTICIPANT;PARTSTAT=ACCEPTED;RSVP=TRUE;CN=Dejan:htt
 p://njyp.org/profile/Dejan
ATTENDEE;ROLE=REQ-PARTICIPANT;PARTSTAT=ACCEPTED;RSVP=TRUE;CN=Viola:htt
 p://njyp.org/profile/Viola
ATTENDEE;ROLE=REQ-PARTICIPANT;PARTSTAT=ACCEPTED;RSVP=TRUE;CN=Maureen:h
 ttp://njyp.org/profile/Maureen
ATTENDEE;ROLE=REQ-PARTICIPANT;PARTSTAT=ACCEPTED;RSVP=TRUE;CN="Brian an
 d Mike":http://njyp.org/profile/BrianMike
ATTENDEE;ROLE=REQ-PARTICIPANT;PARTSTAT=TENTATIVE;RSVP=TRUE;CN=Joanne:h
 ttp://njyp.org/profile/Joanne
ATTENDEE;ROLE=REQ-PARTICIPANT;PARTSTAT=TENTATIVE;RSVP=TRUE;CN="NIcole 
 Vinnal":http://njyp.org/profile/NIcoleVinnal
ATTENDEE;ROLE=REQ-PARTICIPANT;PARTSTAT=TENTATIVE;RSVP=TRUE;CN=Jenn:htt
 p://njyp.org/profile/Jenn
ATTENDEE;ROLE=REQ-PARTICIPANT;PARTSTAT=TENTATIVE;RSVP=TRUE;CN=Bhavini:
 http://njyp.org/profile/Bhavini
ATTENDEE;ROLE=REQ-PARTICIPANT;PARTSTAT=TENTATIVE;RSVP=TRUE;CN=Larry:ht
 tp://njyp.org/profile/LarryYang
ATTENDEE;ROLE=REQ-PARTICIPANT;PARTSTAT=TENTATIVE;RSVP=TRUE;CN=Romin:ht
 tp://njyp.org/profile/Raina
ATTENDEE;ROLE=REQ-PARTICIPANT;PARTSTAT=TENTATIVE;RSVP=TRUE;CN="Jennife
 r Redmond":http://njyp.org/profile/JenniferRedmond
ATTENDEE;ROLE=REQ-PARTICIPANT;PARTSTAT=TENTATIVE;RSVP=TRUE;CN="Dawn Ja
 eckel":http://njyp.org/profile/DawnJaeckel
ATTENDEE;ROLE=REQ-PARTICIPANT;PARTSTAT=TENTATIVE;RSVP=TRUE;CN="Lillian
  T.":http://njyp.org/profile/LillianT
ATTENDEE;ROLE=REQ-PARTICIPANT;PARTSTAT=TENTATIVE;RSVP=TRUE;CN=Tanya:ht
 tp://njyp.org/profile/something
ATTENDEE;ROLE=REQ-PARTICIPANT;PARTSTAT=TENTATIVE;RSVP=TRUE;CN=MaryGrac
 e:http://njyp.org/profile/MaryGrace
ATTENDEE;ROLE=REQ-PARTICIPANT;PARTSTAT=TENTATIVE;RSVP=TRUE;CN=Lizzie:h
 ttp://njyp.org/profile/ElizabethKuhns
END:VEVENT
END:VCALENDAR
