BEGIN:VCALENDAR
PRODID:NingEventWidget-v1
VERSION:2.0
METHOD:PUBLISH
BEGIN:VTIMEZONE
TZID:America/New_York
X-LIC-LOCATION:America/New_York
BEGIN:DAYLIGHT
TZOFFSETFROM:-0500
TZOFFSETTO:-0400
TZNAME:EDT
DTSTART:19700308T020000
RRULE:FREQ=YEARLY;BYMONTH=3;BYDAY=2SU
END:DAYLIGHT
BEGIN:STANDARD
TZOFFSETFROM:-0400
TZOFFSETTO:-0500
TZNAME:EST
DTSTART:19701101T020000
RRULE:FREQ=YEARLY;BYMONTH=11;BYDAY=1SU
END:STANDARD
END:VTIMEZONE
BEGIN:VEVENT
UID:2938326:Event:738359
DTSTAMP:20260420T132746Z
SUMMARY:Speed Dating in Somerville
DESCRIPTION:This event is SOLD OUT for men!\r\nCut the agony out of fi
 rst-dates with Speed Dating! You’ll have 10 to 15 dates in one nig
 ht, each only lasting four minutes, so make the time count. At the end
  of each mini-rendezvous, privately note whether you’d like to see y
 our date again – simply circle Yes or No on your scorecard. Enter y
 our results online when you return home and within 24 hours, you’ll
  receive your matches from our system. Setting up date number two is u
 p to you!  Age Range: Women who are 21 to 39 Men who are 21 to 39 Brin
 g ID and make sure you are in our targeted age range. We host these ev
 ents monthly and we do mix up the age range.\r\nNJYP Member Cost: $15
 /20 Online, $20 for walk-ins\r\nNon-Member Cost: $25/30 online and a
 t the door\r\n 2 Item Minimum: Everyone must purchase 2 items during 
 this event; food and/or any drink but soda. Bottled water, juice, virg
 in drinks do count toward the minimum.\n\nFor more information visit h
 ttp://njyp.org/events/sdsomerville092118
DTSTART;TZID=America/New_York:20180921T200000
DTEND;TZID=America/New_York:20180921T220000
CATEGORIES:"somerset county", social, singles, speed, dating
LOCATION:Social
WEBSITE:http://www.besocialnj.com/
URL:http://www.besocialnj.com/
CONTACT:
ORGANIZER;CN="Brian Melnick":http://njyp.org/profile/Brian1218
ATTACH;FMTTYPE="image/jpeg":http://storage.ning.com/topology/rest/1.0/
 file/get/1088886142?profile=original
ATTENDEE;ROLE=REQ-PARTICIPANT;PARTSTAT=ACCEPTED;RSVP=TRUE;CN="Vito Bar
 one":http://njyp.org/profile/VitoBarone
ATTENDEE;ROLE=REQ-PARTICIPANT;PARTSTAT=ACCEPTED;RSVP=TRUE;CN="Brian Me
 lnick":http://njyp.org/profile/Brian1218
ATTENDEE;ROLE=REQ-PARTICIPANT;PARTSTAT=ACCEPTED;RSVP=TRUE;CN=Stacey:ht
 tp://njyp.org/profile/Stacey2620
ATTENDEE;ROLE=REQ-PARTICIPANT;PARTSTAT=TENTATIVE;RSVP=TRUE;CN=Chandra:
 http://njyp.org/profile/Chandra477
ATTENDEE;ROLE=REQ-PARTICIPANT;PARTSTAT=TENTATIVE;RSVP=TRUE;CN="Jordan 
 Chester":http://njyp.org/profile/JordanChester
ATTENDEE;ROLE=REQ-PARTICIPANT;PARTSTAT=TENTATIVE;RSVP=TRUE;CN=Michael:
 http://njyp.org/profile/Michael797
END:VEVENT
END:VCALENDAR
