BEGIN:VCALENDAR
PRODID:NingEventWidget-v1
VERSION:2.0
METHOD:PUBLISH
BEGIN:VTIMEZONE
TZID:America/New_York
X-LIC-LOCATION:America/New_York
BEGIN:DAYLIGHT
TZOFFSETFROM:-0500
TZOFFSETTO:-0400
TZNAME:EDT
DTSTART:19700308T020000
RRULE:FREQ=YEARLY;BYMONTH=3;BYDAY=2SU
END:DAYLIGHT
BEGIN:STANDARD
TZOFFSETFROM:-0400
TZOFFSETTO:-0500
TZNAME:EST
DTSTART:19701101T020000
RRULE:FREQ=YEARLY;BYMONTH=11;BYDAY=1SU
END:STANDARD
END:VTIMEZONE
BEGIN:VEVENT
UID:2938326:Event:18118
DTSTAMP:20260420T023409Z
SUMMARY:Single Mingle, 25-35
DESCRIPTION:It is now time for the 25-35 Year Old singles to mingle! C
 ome on out to Sona 13 to meet others who are \"single and looking\". A
 mongst the crowd you might find a date. You also might find a good gro
 up of single friends to go out on the town with! Either way you will h
 ave a fabulous time amongst others who are just like you, single.\n\nW
 ho should attend:\nYou MUST be 25-35 years old to attend (+/- 1 year i
 s ok).\nThis event is for those who consider themselves to be \"single
  and looking\" but it is also for anyone looking for friendships. YES,
  you can also come to meet other singles to hang out with!\n\n\nRSVP (
 to the right) and we will let you know when tix are almost gone, when 
 prices are going up, if there are any changes, etc.\n\nMember Cost:\n$
 5 for the first 20 to register\n$10 for the next 21 to 50 to register\
 n$15 for the next 51 to 100 to register\n$20 at the door\n\nNon-Member
  Cost:\n$20 online and at the door.\n\nNJYP Host:\nRachel C will be ho
 sting this event.\n\nTickets:\nThere are a limited number of tickets a
 vailable.\nIf you buy a ticket your name will be at the door.\nAll sal
 es are final.\n\nDress Code:\nA nice pair of jeans, dressed up with tr
 endy top is OK.\nNo sneakers, No t-shirts unless they are fashion tees
 .\n\nHow to Find the Group:\nMeet downstairs in the private party room
 . Enter from the BACK of the restaurant.\n\nFor more information visit
  http://njyp.org/events/single-mingle-2535
DTSTART;TZID=America/New_York:20091016T190000
DTEND;TZID=America/New_York:20091016T210000
CATEGORIES:"morris county", social
LOCATION:Sona 13
WEBSITE:
URL:
CONTACT:
ORGANIZER;CN="Brian and Mike":http://njyp.org/profile/BrianMike
ATTACH;FMTTYPE="image/jpeg":http://storage.ning.com/topology/rest/1.0/
 file/get/1088564407?profile=original
ATTENDEE;ROLE=REQ-PARTICIPANT;PARTSTAT=ACCEPTED;RSVP=TRUE;CN="Brian Ep
 stein":http://njyp.org/profile/BrianEpstein
ATTENDEE;ROLE=REQ-PARTICIPANT;PARTSTAT=ACCEPTED;RSVP=TRUE;CN="John Ada
 mus":http://njyp.org/profile/JohnAdamus
ATTENDEE;ROLE=REQ-PARTICIPANT;PARTSTAT=ACCEPTED;RSVP=TRUE;CN="Kate Swe
 eney":http://njyp.org/profile/KateSweeney
ATTENDEE;ROLE=REQ-PARTICIPANT;PARTSTAT=ACCEPTED;RSVP=TRUE;CN=Rachelle:
 http://njyp.org/profile/Rachelle
ATTENDEE;ROLE=REQ-PARTICIPANT;PARTSTAT=ACCEPTED;RSVP=TRUE;CN=Stephani:
 http://njyp.org/profile/StephaniAlfieri
ATTENDEE;ROLE=REQ-PARTICIPANT;PARTSTAT=ACCEPTED;RSVP=TRUE;CN="John B":
 http://njyp.org/profile/johnb
ATTENDEE;ROLE=REQ-PARTICIPANT;PARTSTAT=ACCEPTED;RSVP=TRUE;CN=Alex:http
 ://njyp.org/profile/Alex895
ATTENDEE;ROLE=REQ-PARTICIPANT;PARTSTAT=ACCEPTED;RSVP=TRUE;CN="Sara Sul
 livan":http://njyp.org/profile/SaraStrickler
ATTENDEE;ROLE=REQ-PARTICIPANT;PARTSTAT=ACCEPTED;RSVP=TRUE;CN=David:htt
 p://njyp.org/profile/DavidAAdams
ATTENDEE;ROLE=REQ-PARTICIPANT;PARTSTAT=ACCEPTED;RSVP=TRUE;CN=Charity:h
 ttp://njyp.org/profile/CharityLynnFues
ATTENDEE;ROLE=REQ-PARTICIPANT;PARTSTAT=ACCEPTED;RSVP=TRUE;CN="Nikki Ha
 rt":http://njyp.org/profile/DomenicaHart
ATTENDEE;ROLE=REQ-PARTICIPANT;PARTSTAT=ACCEPTED;RSVP=TRUE;CN="NIcole V
 innal":http://njyp.org/profile/NIcoleVinnal
ATTENDEE;ROLE=REQ-PARTICIPANT;PARTSTAT=ACCEPTED;RSVP=TRUE;CN=Sarah:htt
 p://njyp.org/profile/Sarah381
ATTENDEE;ROLE=REQ-PARTICIPANT;PARTSTAT=ACCEPTED;RSVP=TRUE;CN="Scott L"
 :http://njyp.org/profile/ScottLeaman
ATTENDEE;ROLE=REQ-PARTICIPANT;PARTSTAT=ACCEPTED;RSVP=TRUE;CN="Ricardo 
 Soares":http://njyp.org/profile/RicardoSoares
ATTENDEE;ROLE=REQ-PARTICIPANT;PARTSTAT=ACCEPTED;RSVP=TRUE;CN="Klaudia 
 Posluszna":http://njyp.org/profile/KlaudiaPosluszna
ATTENDEE;ROLE=REQ-PARTICIPANT;PARTSTAT=ACCEPTED;RSVP=TRUE;CN=David:htt
 p://njyp.org/profile/DavidKuhn
ATTENDEE;ROLE=REQ-PARTICIPANT;PARTSTAT=ACCEPTED;RSVP=TRUE;CN="Joanna V
 ogel":http://njyp.org/profile/JoannaVogel
ATTENDEE;ROLE=REQ-PARTICIPANT;PARTSTAT=ACCEPTED;RSVP=TRUE;CN="Dana Jen
 kins":http://njyp.org/profile/DanaJenkins
ATTENDEE;ROLE=REQ-PARTICIPANT;PARTSTAT=ACCEPTED;RSVP=TRUE;CN="Cristina
  Bonaldes":http://njyp.org/profile/CristinaBonaldes
ATTENDEE;ROLE=REQ-PARTICIPANT;PARTSTAT=ACCEPTED;RSVP=TRUE;CN="Ed Makow
 ski":http://njyp.org/profile/EdMakowski
ATTENDEE;ROLE=REQ-PARTICIPANT;PARTSTAT=ACCEPTED;RSVP=TRUE;CN=Jason:htt
 p://njyp.org/profile/Jasonnn
ATTENDEE;ROLE=REQ-PARTICIPANT;PARTSTAT=ACCEPTED;RSVP=TRUE;CN="Maria Az
 zarelli":http://njyp.org/profile/MariaAzzarelli
ATTENDEE;ROLE=REQ-PARTICIPANT;PARTSTAT=ACCEPTED;RSVP=TRUE;CN="John McC
 ulloch":http://njyp.org/profile/JohnMcCulloch
ATTENDEE;ROLE=REQ-PARTICIPANT;PARTSTAT=ACCEPTED;RSVP=TRUE;CN="tim vinn
 al":http://njyp.org/profile/timvinnal631
ATTENDEE;ROLE=REQ-PARTICIPANT;PARTSTAT=ACCEPTED;RSVP=TRUE;CN="David C 
 Manning":http://njyp.org/profile/DavidCManning
ATTENDEE;ROLE=REQ-PARTICIPANT;PARTSTAT=ACCEPTED;RSVP=TRUE;CN="Paulina 
 Kirshenabum":http://njyp.org/profile/PaulinaKirshenabum
ATTENDEE;ROLE=REQ-PARTICIPANT;PARTSTAT=ACCEPTED;RSVP=TRUE;CN="rachel i
 rene":http://njyp.org/profile/rachel_irene
ATTENDEE;ROLE=REQ-PARTICIPANT;PARTSTAT=ACCEPTED;RSVP=TRUE;CN="Chris Lo
 mbardi":http://njyp.org/profile/ChrisLombardi
ATTENDEE;ROLE=REQ-PARTICIPANT;PARTSTAT=ACCEPTED;RSVP=TRUE;CN="Lisa F":
 http://njyp.org/profile/LisaF
ATTENDEE;ROLE=REQ-PARTICIPANT;PARTSTAT=ACCEPTED;RSVP=TRUE;CN="Allyson 
 Burke":http://njyp.org/profile/AllysonBurke
ATTENDEE;ROLE=REQ-PARTICIPANT;PARTSTAT=ACCEPTED;RSVP=TRUE;CN="Brenda E
 unice":http://njyp.org/profile/BrendaEunice
ATTENDEE;ROLE=REQ-PARTICIPANT;PARTSTAT=ACCEPTED;RSVP=TRUE;CN=Peter:htt
 p://njyp.org/profile/PeterMcDonnell
ATTENDEE;ROLE=REQ-PARTICIPANT;PARTSTAT=ACCEPTED;RSVP=TRUE;CN="Doug Bem
 an":http://njyp.org/profile/DougBeman
ATTENDEE;ROLE=REQ-PARTICIPANT;PARTSTAT=ACCEPTED;RSVP=TRUE;CN="Heather 
 C":http://njyp.org/profile/HeatherComero
ATTENDEE;ROLE=REQ-PARTICIPANT;PARTSTAT=ACCEPTED;RSVP=TRUE;CN="Jenny Ma
 rie":http://njyp.org/profile/JennyMarie82
ATTENDEE;ROLE=REQ-PARTICIPANT;PARTSTAT=ACCEPTED;RSVP=TRUE;CN="Natalie 
 Engravido":http://njyp.org/profile/NatalieEngravido
ATTENDEE;ROLE=REQ-PARTICIPANT;PARTSTAT=ACCEPTED;RSVP=TRUE;CN="Lynn Ada
 mo":http://njyp.org/profile/LynnAdamo
ATTENDEE;ROLE=REQ-PARTICIPANT;PARTSTAT=ACCEPTED;RSVP=TRUE;CN="Brian an
 d Mike":http://njyp.org/profile/BrianMike
ATTENDEE;ROLE=REQ-PARTICIPANT;PARTSTAT=TENTATIVE;RSVP=TRUE;CN=TJ:http:
 //njyp.org/profile/TJ
ATTENDEE;ROLE=REQ-PARTICIPANT;PARTSTAT=TENTATIVE;RSVP=TRUE;CN=Jennifer
 :http://njyp.org/profile/JenniferEphraim
ATTENDEE;ROLE=REQ-PARTICIPANT;PARTSTAT=TENTATIVE;RSVP=TRUE;CN="Steve R
 oberts":http://njyp.org/profile/SteveRoberts
ATTENDEE;ROLE=REQ-PARTICIPANT;PARTSTAT=TENTATIVE;RSVP=TRUE;CN=Samantha
 :http://njyp.org/profile/Samantha
ATTENDEE;ROLE=REQ-PARTICIPANT;PARTSTAT=TENTATIVE;RSVP=TRUE;CN="Ayana C
 .":http://njyp.org/profile/AyanaCJoseph
ATTENDEE;ROLE=REQ-PARTICIPANT;PARTSTAT=TENTATIVE;RSVP=TRUE;CN=Russell:
 http://njyp.org/profile/Russell
ATTENDEE;ROLE=REQ-PARTICIPANT;PARTSTAT=TENTATIVE;RSVP=TRUE;CN=Zhenya:h
 ttp://njyp.org/profile/ZhenyaKucsma
ATTENDEE;ROLE=REQ-PARTICIPANT;PARTSTAT=TENTATIVE;RSVP=TRUE;CN="Nikitas
  M":http://njyp.org/profile/NikitasM
ATTENDEE;ROLE=REQ-PARTICIPANT;PARTSTAT=TENTATIVE;RSVP=TRUE;CN="George 
 Morcos":http://njyp.org/profile/GeorgeMorcos
ATTENDEE;ROLE=REQ-PARTICIPANT;PARTSTAT=TENTATIVE;RSVP=TRUE;CN="Derrick
  B. Norgriff":http://njyp.org/profile/MeetMrGriff
ATTENDEE;ROLE=REQ-PARTICIPANT;PARTSTAT=TENTATIVE;RSVP=TRUE;CN=Anup:htt
 p://njyp.org/profile/Anup
ATTENDEE;ROLE=REQ-PARTICIPANT;PARTSTAT=TENTATIVE;RSVP=TRUE;CN=Patricia
 :http://njyp.org/profile/TrishaOSha
ATTENDEE;ROLE=REQ-PARTICIPANT;PARTSTAT=TENTATIVE;RSVP=TRUE;CN="Ilya So
 yfer":http://njyp.org/profile/IlyaSoyfer
ATTENDEE;ROLE=REQ-PARTICIPANT;PARTSTAT=TENTATIVE;RSVP=TRUE;CN="Michael
  Camerlengo":http://njyp.org/profile/MichaelCamerlengo
ATTENDEE;ROLE=REQ-PARTICIPANT;PARTSTAT=TENTATIVE;RSVP=TRUE;CN="David E
 isenberg":http://njyp.org/profile/DavidEisenberg
ATTENDEE;ROLE=REQ-PARTICIPANT;PARTSTAT=TENTATIVE;RSVP=TRUE;CN="Elizabe
 th Epstein":http://njyp.org/profile/ElizabethRosenthal
ATTENDEE;ROLE=REQ-PARTICIPANT;PARTSTAT=TENTATIVE;RSVP=TRUE;CN="Jacquel
 ine Durett":http://njyp.org/profile/JacquelineDurett
ATTENDEE;ROLE=REQ-PARTICIPANT;PARTSTAT=TENTATIVE;RSVP=TRUE;CN=Gary:htt
 p://njyp.org/profile/GarySchuck
ATTENDEE;ROLE=REQ-PARTICIPANT;PARTSTAT=TENTATIVE;RSVP=TRUE;CN=Jessica:
 http://njyp.org/profile/Jessica33
ATTENDEE;ROLE=REQ-PARTICIPANT;PARTSTAT=TENTATIVE;RSVP=TRUE;CN="John K.
 ":http://njyp.org/profile/skiandpilot
ATTENDEE;ROLE=REQ-PARTICIPANT;PARTSTAT=TENTATIVE;RSVP=TRUE;CN="Jennife
 r L. Campbell":http://njyp.org/profile/JenniferLCampbell
END:VEVENT
END:VCALENDAR
