BEGIN:VCALENDAR
PRODID:NingEventWidget-v1
VERSION:2.0
METHOD:PUBLISH
BEGIN:VTIMEZONE
TZID:America/New_York
X-LIC-LOCATION:America/New_York
BEGIN:DAYLIGHT
TZOFFSETFROM:-0500
TZOFFSETTO:-0400
TZNAME:EDT
DTSTART:19700308T020000
RRULE:FREQ=YEARLY;BYMONTH=3;BYDAY=2SU
END:DAYLIGHT
BEGIN:STANDARD
TZOFFSETFROM:-0400
TZOFFSETTO:-0500
TZNAME:EST
DTSTART:19701101T020000
RRULE:FREQ=YEARLY;BYMONTH=11;BYDAY=1SU
END:STANDARD
END:VTIMEZONE
BEGIN:VEVENT
UID:2938326:Event:127441
DTSTAMP:20260420T125815Z
SUMMARY:Single Mingle: Ages 25 to 39
DESCRIPTION:The concept is simple.  A Single Mingle brings together t
 hose who are YOUNG, PROFESSIONAL, and UNATTACHED.  Expect to make new
  friends, exchange numbers, see people you know and meet people you do
 n't. Expect a crowd of at least 50, with an even male to female ratio 
 (YES, we do track it). Expect drink specials, an after-party, and don'
 t be surprised if everyone starts to dance once the lights go down and
  the music goes up; after all, it is the weekend.\n\n\nWho should atte
 nd:You MUST be 25-39 years old to attend.This event is for those who c
 onsider themselves to be \"single and looking\".Member Cost:$5 for the
  first 20 to register$10 for the next 21 to 60 to register$15 for the 
 next 61 to 120 to register$20 at the doorNon-Member Cost:$20 online an
 d at the door.Tickets:There are a limited number of tickets available.
  If you buy a ticket your name will be at the door. All sales are fina
 l.Dress Code:Men- Please wear collared shirts and or a blazer.Women- D
 ress it up a tad!How to Find the Group:We wil be at the private bar do
 wnstairs. Enter from the back of Sona 13.Talk to everyone you see.Dire
 ctions:A paid lot is right behind Sona 13.A free lot is behind the Fam
 ished Frog.http://www.sonathirteennj.com/\n\nFor more information visi
 t http://njyp.org/events/single-mingle-ages-25-to-39-1
DTSTART;TZID=America/New_York:20110204T200000
DTEND;TZID=America/New_York:20110204T220000
CATEGORIES:"morris county", social, singles
LOCATION:Sona 13
WEBSITE:http://www.sonathirteennj.com/
URL:http://www.sonathirteennj.com/
CONTACT:
ORGANIZER;CN="Brian and Mike":http://njyp.org/profile/BrianMike
ATTACH;FMTTYPE="image/jpeg":http://storage.ning.com/topology/rest/1.0/
 file/get/1088672160?profile=original
ATTENDEE;ROLE=REQ-PARTICIPANT;PARTSTAT=ACCEPTED;RSVP=TRUE;CN="Anita Gu
 errero":http://njyp.org/profile/AnitaGuerrero
ATTENDEE;ROLE=REQ-PARTICIPANT;PARTSTAT=ACCEPTED;RSVP=TRUE;CN=Morgan:ht
 tp://njyp.org/profile/Morgan
ATTENDEE;ROLE=REQ-PARTICIPANT;PARTSTAT=ACCEPTED;RSVP=TRUE;CN=Adrian:ht
 tp://njyp.org/profile/Adrian
ATTENDEE;ROLE=REQ-PARTICIPANT;PARTSTAT=ACCEPTED;RSVP=TRUE;CN=Keith:htt
 p://njyp.org/profile/Keith749
ATTENDEE;ROLE=REQ-PARTICIPANT;PARTSTAT=ACCEPTED;RSVP=TRUE;CN=Elizabeth
 :http://njyp.org/profile/Quirky3
ATTENDEE;ROLE=REQ-PARTICIPANT;PARTSTAT=ACCEPTED;RSVP=TRUE;CN=Samantha:
 http://njyp.org/profile/Samantha489
ATTENDEE;ROLE=REQ-PARTICIPANT;PARTSTAT=ACCEPTED;RSVP=TRUE;CN="Christin
 e Luckey":http://njyp.org/profile/ChristineLuckey
ATTENDEE;ROLE=REQ-PARTICIPANT;PARTSTAT=ACCEPTED;RSVP=TRUE;CN="Christop
 her Dingman":http://njyp.org/profile/ChristopherDingman
ATTENDEE;ROLE=REQ-PARTICIPANT;PARTSTAT=ACCEPTED;RSVP=TRUE;CN="Amy D Or
 tiz":http://njyp.org/profile/AmyDi
ATTENDEE;ROLE=REQ-PARTICIPANT;PARTSTAT=ACCEPTED;RSVP=TRUE;CN=Melissa:h
 ttp://njyp.org/profile/Melissa487
ATTENDEE;ROLE=REQ-PARTICIPANT;PARTSTAT=ACCEPTED;RSVP=TRUE;CN="David le
 nar":http://njyp.org/profile/Davidlenar
ATTENDEE;ROLE=REQ-PARTICIPANT;PARTSTAT=ACCEPTED;RSVP=TRUE;CN="Marina S
 vorinic":http://njyp.org/profile/MarinaSvorinic
ATTENDEE;ROLE=REQ-PARTICIPANT;PARTSTAT=ACCEPTED;RSVP=TRUE;CN=Matt:http
 ://njyp.org/profile/Matt471
ATTENDEE;ROLE=REQ-PARTICIPANT;PARTSTAT=ACCEPTED;RSVP=TRUE;CN="Vincent 
 \"Matthew\" Vigorita":http://njyp.org/profile/VincentMatthewVigorita
ATTENDEE;ROLE=REQ-PARTICIPANT;PARTSTAT=ACCEPTED;RSVP=TRUE;CN="Brian Ph
 illips":http://njyp.org/profile/BrianPhillips
ATTENDEE;ROLE=REQ-PARTICIPANT;PARTSTAT=ACCEPTED;RSVP=TRUE;CN=Jessica:h
 ttp://njyp.org/profile/upsidedownhotel
ATTENDEE;ROLE=REQ-PARTICIPANT;PARTSTAT=ACCEPTED;RSVP=TRUE;CN=Kelly:htt
 p://njyp.org/profile/Kelly728
ATTENDEE;ROLE=REQ-PARTICIPANT;PARTSTAT=ACCEPTED;RSVP=TRUE;CN=Jessica:h
 ttp://njyp.org/profile/JessB
ATTENDEE;ROLE=REQ-PARTICIPANT;PARTSTAT=ACCEPTED;RSVP=TRUE;CN="Jordan S
 pitzer-London":http://njyp.org/profile/JordanSpitzerLondon
ATTENDEE;ROLE=REQ-PARTICIPANT;PARTSTAT=ACCEPTED;RSVP=TRUE;CN=Pasquale:
 http://njyp.org/profile/Pasquale
ATTENDEE;ROLE=REQ-PARTICIPANT;PARTSTAT=ACCEPTED;RSVP=TRUE;CN="Meagan D
 onegan":http://njyp.org/profile/MeaganDonegan
ATTENDEE;ROLE=REQ-PARTICIPANT;PARTSTAT=ACCEPTED;RSVP=TRUE;CN=Juanita:h
 ttp://njyp.org/profile/Juanita
ATTENDEE;ROLE=REQ-PARTICIPANT;PARTSTAT=ACCEPTED;RSVP=TRUE;CN=Justin:ht
 tp://njyp.org/profile/JustinDiMinni
ATTENDEE;ROLE=REQ-PARTICIPANT;PARTSTAT=ACCEPTED;RSVP=TRUE;CN=Sonal:htt
 p://njyp.org/profile/Sonal372
ATTENDEE;ROLE=REQ-PARTICIPANT;PARTSTAT=ACCEPTED;RSVP=TRUE;CN=Margaret:
 http://njyp.org/profile/Margaret212
ATTENDEE;ROLE=REQ-PARTICIPANT;PARTSTAT=ACCEPTED;RSVP=TRUE;CN=Pieter:ht
 tp://njyp.org/profile/Pieter
ATTENDEE;ROLE=REQ-PARTICIPANT;PARTSTAT=ACCEPTED;RSVP=TRUE;CN="Vincent 
 Pittaro":http://njyp.org/profile/VincentPittaroJr
ATTENDEE;ROLE=REQ-PARTICIPANT;PARTSTAT=ACCEPTED;RSVP=TRUE;CN="Michael 
 Camerlengo":http://njyp.org/profile/MichaelCamerlengo
ATTENDEE;ROLE=REQ-PARTICIPANT;PARTSTAT=ACCEPTED;RSVP=TRUE;CN="Elizabet
 h Shpiner":http://njyp.org/profile/ElizabethShpiner
ATTENDEE;ROLE=REQ-PARTICIPANT;PARTSTAT=ACCEPTED;RSVP=TRUE;CN="Kimberly
  Spinelli":http://njyp.org/profile/KimberlySpinelli
ATTENDEE;ROLE=REQ-PARTICIPANT;PARTSTAT=ACCEPTED;RSVP=TRUE;CN=Allison:h
 ttp://njyp.org/profile/Allison91
ATTENDEE;ROLE=REQ-PARTICIPANT;PARTSTAT=ACCEPTED;RSVP=TRUE;CN="Joe Eber
 ly":http://njyp.org/profile/JoeEberly
ATTENDEE;ROLE=REQ-PARTICIPANT;PARTSTAT=ACCEPTED;RSVP=TRUE;CN=Jhiane:ht
 tp://njyp.org/profile/Jhiane
ATTENDEE;ROLE=REQ-PARTICIPANT;PARTSTAT=ACCEPTED;RSVP=TRUE;CN=Lauren:ht
 tp://njyp.org/profile/LaurenBulger
ATTENDEE;ROLE=REQ-PARTICIPANT;PARTSTAT=ACCEPTED;RSVP=TRUE;CN="Nicole F
 ulmino":http://njyp.org/profile/NicoleFulmino
ATTENDEE;ROLE=REQ-PARTICIPANT;PARTSTAT=ACCEPTED;RSVP=TRUE;CN="Jenna Cl
 ausen":http://njyp.org/profile/JennaClausen
ATTENDEE;ROLE=REQ-PARTICIPANT;PARTSTAT=ACCEPTED;RSVP=TRUE;CN=Jason:htt
 p://njyp.org/profile/Jason163
ATTENDEE;ROLE=REQ-PARTICIPANT;PARTSTAT=ACCEPTED;RSVP=TRUE;CN=ViC:http:
 //njyp.org/profile/ViC
ATTENDEE;ROLE=REQ-PARTICIPANT;PARTSTAT=ACCEPTED;RSVP=TRUE;CN=Mayu:http
 ://njyp.org/profile/Mayu
ATTENDEE;ROLE=REQ-PARTICIPANT;PARTSTAT=ACCEPTED;RSVP=TRUE;CN=David:htt
 p://njyp.org/profile/David212
ATTENDEE;ROLE=REQ-PARTICIPANT;PARTSTAT=ACCEPTED;RSVP=TRUE;CN=Ben:http:
 //njyp.org/profile/Ben
ATTENDEE;ROLE=REQ-PARTICIPANT;PARTSTAT=ACCEPTED;RSVP=TRUE;CN=Sy:http:/
 /njyp.org/profile/Sy
ATTENDEE;ROLE=REQ-PARTICIPANT;PARTSTAT=ACCEPTED;RSVP=TRUE;CN=Tracy:htt
 p://njyp.org/profile/Tracy909
ATTENDEE;ROLE=REQ-PARTICIPANT;PARTSTAT=ACCEPTED;RSVP=TRUE;CN=Peter:htt
 p://njyp.org/profile/PeterMcDonnell
ATTENDEE;ROLE=REQ-PARTICIPANT;PARTSTAT=ACCEPTED;RSVP=TRUE;CN=Jeff:http
 ://njyp.org/profile/Jeff993
ATTENDEE;ROLE=REQ-PARTICIPANT;PARTSTAT=ACCEPTED;RSVP=TRUE;CN=Omar:http
 ://njyp.org/profile/OmarKozarsky
ATTENDEE;ROLE=REQ-PARTICIPANT;PARTSTAT=ACCEPTED;RSVP=TRUE;CN="Kevin Ha
 ughwout":http://njyp.org/profile/KevinHaughwout
ATTENDEE;ROLE=REQ-PARTICIPANT;PARTSTAT=ACCEPTED;RSVP=TRUE;CN="Olga Ch"
 :http://njyp.org/profile/OlgaChaban
ATTENDEE;ROLE=REQ-PARTICIPANT;PARTSTAT=ACCEPTED;RSVP=TRUE;CN="Tara Bur
 ns":http://njyp.org/profile/TaraBurns
ATTENDEE;ROLE=REQ-PARTICIPANT;PARTSTAT=ACCEPTED;RSVP=TRUE;CN=Keith:htt
 p://njyp.org/profile/Keith
ATTENDEE;ROLE=REQ-PARTICIPANT;PARTSTAT=TENTATIVE;RSVP=TRUE;CN=Robert:h
 ttp://njyp.org/profile/Robert367
ATTENDEE;ROLE=REQ-PARTICIPANT;PARTSTAT=TENTATIVE;RSVP=TRUE;CN=Hemanth:
 http://njyp.org/profile/Hemanth
ATTENDEE;ROLE=REQ-PARTICIPANT;PARTSTAT=TENTATIVE;RSVP=TRUE;CN=Nikos:ht
 tp://njyp.org/profile/Nicholas
ATTENDEE;ROLE=REQ-PARTICIPANT;PARTSTAT=TENTATIVE;RSVP=TRUE;CN="Carmen 
 Vanessa":http://njyp.org/profile/CarmenVanessa
ATTENDEE;ROLE=REQ-PARTICIPANT;PARTSTAT=TENTATIVE;RSVP=TRUE;CN="Lauren 
 Greenfield":http://njyp.org/profile/LaurenG
ATTENDEE;ROLE=REQ-PARTICIPANT;PARTSTAT=TENTATIVE;RSVP=TRUE;CN=Diana:ht
 tp://njyp.org/profile/Diana103
ATTENDEE;ROLE=REQ-PARTICIPANT;PARTSTAT=TENTATIVE;RSVP=TRUE;CN="Jeff Ka
 lison":http://njyp.org/profile/JeffKalison
ATTENDEE;ROLE=REQ-PARTICIPANT;PARTSTAT=TENTATIVE;RSVP=TRUE;CN=Jun:http
 ://njyp.org/profile/Jun
ATTENDEE;ROLE=REQ-PARTICIPANT;PARTSTAT=TENTATIVE;RSVP=TRUE;CN="Janice 
 Klein":http://njyp.org/profile/JaniceKlein
ATTENDEE;ROLE=REQ-PARTICIPANT;PARTSTAT=TENTATIVE;RSVP=TRUE;CN=Peter:ht
 tp://njyp.org/profile/Peter787
ATTENDEE;ROLE=REQ-PARTICIPANT;PARTSTAT=TENTATIVE;RSVP=TRUE;CN=Kate:htt
 p://njyp.org/profile/Kate252
ATTENDEE;ROLE=REQ-PARTICIPANT;PARTSTAT=TENTATIVE;RSVP=TRUE;CN="Chris L
 ombardi":http://njyp.org/profile/ChrisLombardi
ATTENDEE;ROLE=REQ-PARTICIPANT;PARTSTAT=TENTATIVE;RSVP=TRUE;CN="Joan De
 Luca":http://njyp.org/profile/JoanDeLuca
ATTENDEE;ROLE=REQ-PARTICIPANT;PARTSTAT=TENTATIVE;RSVP=TRUE;CN=Laura:ht
 tp://njyp.org/profile/Laura668
ATTENDEE;ROLE=REQ-PARTICIPANT;PARTSTAT=TENTATIVE;RSVP=TRUE;CN="Diana B
 runner":http://njyp.org/profile/DianaBrunner
ATTENDEE;ROLE=REQ-PARTICIPANT;PARTSTAT=TENTATIVE;RSVP=TRUE;CN=Katie:ht
 tp://njyp.org/profile/Katie863
ATTENDEE;ROLE=REQ-PARTICIPANT;PARTSTAT=TENTATIVE;RSVP=TRUE;CN=Chris:ht
 tp://njyp.org/profile/Chris655
ATTENDEE;ROLE=REQ-PARTICIPANT;PARTSTAT=TENTATIVE;RSVP=TRUE;CN=Heather:
 http://njyp.org/profile/HeatherBurdett
ATTENDEE;ROLE=REQ-PARTICIPANT;PARTSTAT=TENTATIVE;RSVP=TRUE;CN=Lauren:h
 ttp://njyp.org/profile/Lauren587
ATTENDEE;ROLE=REQ-PARTICIPANT;PARTSTAT=TENTATIVE;RSVP=TRUE;CN=Katrisha
 :http://njyp.org/profile/Katrisha
ATTENDEE;ROLE=REQ-PARTICIPANT;PARTSTAT=TENTATIVE;RSVP=TRUE;CN=Jenny:ht
 tp://njyp.org/profile/Jenny263
ATTENDEE;ROLE=REQ-PARTICIPANT;PARTSTAT=TENTATIVE;RSVP=TRUE;CN="W.":htt
 p://njyp.org/profile/WalterHolm
ATTENDEE;ROLE=REQ-PARTICIPANT;PARTSTAT=TENTATIVE;RSVP=TRUE;CN=Will:htt
 p://njyp.org/profile/William
ATTENDEE;ROLE=REQ-PARTICIPANT;PARTSTAT=TENTATIVE;RSVP=TRUE;CN=Dee:http
 ://njyp.org/profile/Dee
ATTENDEE;ROLE=REQ-PARTICIPANT;PARTSTAT=TENTATIVE;RSVP=TRUE;CN=Julianne
 :http://njyp.org/profile/Julianne625
ATTENDEE;ROLE=REQ-PARTICIPANT;PARTSTAT=TENTATIVE;RSVP=TRUE;CN=Kristan:
 http://njyp.org/profile/Kristan
ATTENDEE;ROLE=REQ-PARTICIPANT;PARTSTAT=TENTATIVE;RSVP=TRUE;CN=Lauren:h
 ttp://njyp.org/profile/Lauren217
ATTENDEE;ROLE=REQ-PARTICIPANT;PARTSTAT=TENTATIVE;RSVP=TRUE;CN=Susan:ht
 tp://njyp.org/profile/SusanChrusciel
ATTENDEE;ROLE=REQ-PARTICIPANT;PARTSTAT=TENTATIVE;RSVP=TRUE;CN="Jon Ber
 rian":http://njyp.org/profile/JonBerrian
ATTENDEE;ROLE=REQ-PARTICIPANT;PARTSTAT=TENTATIVE;RSVP=TRUE;CN="Lisa F"
 :http://njyp.org/profile/LisaF
END:VEVENT
END:VCALENDAR
