BEGIN:VCALENDAR
PRODID:NingEventWidget-v1
VERSION:2.0
METHOD:PUBLISH
BEGIN:VTIMEZONE
TZID:America/New_York
X-LIC-LOCATION:America/New_York
BEGIN:DAYLIGHT
TZOFFSETFROM:-0500
TZOFFSETTO:-0400
TZNAME:EDT
DTSTART:19700308T020000
RRULE:FREQ=YEARLY;BYMONTH=3;BYDAY=2SU
END:DAYLIGHT
BEGIN:STANDARD
TZOFFSETFROM:-0400
TZOFFSETTO:-0500
TZNAME:EST
DTSTART:19701101T020000
RRULE:FREQ=YEARLY;BYMONTH=11;BYDAY=1SU
END:STANDARD
END:VTIMEZONE
BEGIN:VEVENT
UID:2938326:Event:132209
DTSTAMP:20260420T042846Z
SUMMARY:Single Mingle: Ages 25 to 39 in Hamilton
DESCRIPTION:The concept is simple.Â  A Single Mingle brings together t
 hose who are YOUNG, PROFESSIONAL, and UNATTACHED.Â  Expect to make new
  friends, exchange numbers, see people you know and meet people you do
 n't. Expect a crowd of at least 50, with an even male to female ratio 
 (YES, we do track it). Expect drink specials, an after-party, and don'
 t be surprised if everyone starts to dance once the lights go down and
  the music goes up; after all, it is the weekend.Wait?Â  Did someone s
 ay dance?Â  Yup!Â  On this particular Saturday night Rats Restaurant w
 ill turn into Club Rats.Â  There will be a DJ who will start around 10
 pm and the drink specials will go until 2am. But remember to arrive by
  8 so you have time to find a dance partner or someone to sit in the l
 ounge with.Who should attend:You MUST be 25-39 years old to attend.Thi
 s event is for those who consider themselves to be \"single and lookin
 g\".\n\nÂ \nMember Cost:$10 for the first 50 to register online$15 for
  the next 51 to 75 to register online$20 at the doorNon-Member Cost:$2
 0 online and at the door.Tickets:There are a limited number of tickets
  available. If you buy a ticket your name will be at the door. All sal
 es are final.\nSpecials:$5 Wine$4 Beer$5 Mixed Drink SpecialsÂ· Applet
 iniâ€™sÂ· Blackberry Royales (Blackberry vodka, Chambourd, Champagne)Â
 · Mango Margaritas\nÂ \nDress Code:Men- Please wear collared shirts an
 d or a blazer.Women- Dress it up a tad!How to Find the Group:We will b
 e in the pavilion.Â  Ask staff once you arrive or head through the bar
 , outside, and to the free standing pavilion. Directions: Rat's restau
 rant is located at Grounds For Sculpture.\nPLEASE REFRAIN FROM USING M
 AP QUEST, IT WILL GUIDE YOU INCORRECTLY\nhttp://www.groundsforsculptur
 e.org/RatsRestaurant/Directions.html\nPlenty of free parking.\n\n\n\n\
 nFor more information visit http://njyp.org/events/single-mingle-ages-
 25-to-39-in
DTSTART;TZID=America/New_York:20110219T200000
DTEND;TZID=America/New_York:20110219T220000
CATEGORIES:"mercer county", social, singles
LOCATION:Ratâ€™s Restaurant at Grounds For Sculpture
WEBSITE:http://www.groundsforsculpture.org/RatsRestaurant/Directions.h
 tml
URL:http://www.groundsforsculpture.org/RatsRestaurant/Directions.html
CONTACT:
ORGANIZER;CN="Brian and Mike":http://njyp.org/profile/BrianMike
ATTACH;FMTTYPE="image/jpeg":http://storage.ning.com/topology/rest/1.0/
 file/get/1088674569?profile=original
ATTENDEE;ROLE=REQ-PARTICIPANT;PARTSTAT=ACCEPTED;RSVP=TRUE;CN=Jo:http:/
 /njyp.org/profile/Jo
ATTENDEE;ROLE=REQ-PARTICIPANT;PARTSTAT=ACCEPTED;RSVP=TRUE;CN="Justin G
 ross":http://njyp.org/profile/JustinGross
ATTENDEE;ROLE=REQ-PARTICIPANT;PARTSTAT=ACCEPTED;RSVP=TRUE;CN=Yvonne:ht
 tp://njyp.org/profile/Yvonne
ATTENDEE;ROLE=REQ-PARTICIPANT;PARTSTAT=ACCEPTED;RSVP=TRUE;CN="Philip C
 offarose":http://njyp.org/profile/Philip503
ATTENDEE;ROLE=REQ-PARTICIPANT;PARTSTAT=ACCEPTED;RSVP=TRUE;CN=sarah:htt
 p://njyp.org/profile/sarah84
ATTENDEE;ROLE=REQ-PARTICIPANT;PARTSTAT=ACCEPTED;RSVP=TRUE;CN=Shaun:htt
 p://njyp.org/profile/Shaun0408
ATTENDEE;ROLE=REQ-PARTICIPANT;PARTSTAT=ACCEPTED;RSVP=TRUE;CN=Phil:http
 ://njyp.org/profile/Phil484
ATTENDEE;ROLE=REQ-PARTICIPANT;PARTSTAT=ACCEPTED;RSVP=TRUE;CN=shana:htt
 p://njyp.org/profile/shana
ATTENDEE;ROLE=REQ-PARTICIPANT;PARTSTAT=ACCEPTED;RSVP=TRUE;CN="Michael 
 Lee":http://njyp.org/profile/MichaelLee
ATTENDEE;ROLE=REQ-PARTICIPANT;PARTSTAT=ACCEPTED;RSVP=TRUE;CN=Gio:http:
 //njyp.org/profile/GianfrancoPuggioni
ATTENDEE;ROLE=REQ-PARTICIPANT;PARTSTAT=ACCEPTED;RSVP=TRUE;CN=David:htt
 p://njyp.org/profile/David847
ATTENDEE;ROLE=REQ-PARTICIPANT;PARTSTAT=ACCEPTED;RSVP=TRUE;CN=Susan:htt
 p://njyp.org/profile/SusanChrusciel
ATTENDEE;ROLE=REQ-PARTICIPANT;PARTSTAT=ACCEPTED;RSVP=TRUE;CN=Ginger:ht
 tp://njyp.org/profile/Ginger
ATTENDEE;ROLE=REQ-PARTICIPANT;PARTSTAT=ACCEPTED;RSVP=TRUE;CN=Vernell:h
 ttp://njyp.org/profile/VernellStPrix
ATTENDEE;ROLE=REQ-PARTICIPANT;PARTSTAT=ACCEPTED;RSVP=TRUE;CN=Candace:h
 ttp://njyp.org/profile/Candaycee
ATTENDEE;ROLE=REQ-PARTICIPANT;PARTSTAT=ACCEPTED;RSVP=TRUE;CN="Jon Berr
 ian":http://njyp.org/profile/JonBerrian
ATTENDEE;ROLE=REQ-PARTICIPANT;PARTSTAT=ACCEPTED;RSVP=TRUE;CN="Janine F
 echter":http://njyp.org/profile/JFechter
ATTENDEE;ROLE=REQ-PARTICIPANT;PARTSTAT=ACCEPTED;RSVP=TRUE;CN=Gary:http
 ://njyp.org/profile/GarySchuck
ATTENDEE;ROLE=REQ-PARTICIPANT;PARTSTAT=ACCEPTED;RSVP=TRUE;CN="Mindy Gr
 een":http://njyp.org/profile/MindyScudder
ATTENDEE;ROLE=REQ-PARTICIPANT;PARTSTAT=ACCEPTED;RSVP=TRUE;CN="Ann Voss
 ":http://njyp.org/profile/AnnVoss
ATTENDEE;ROLE=REQ-PARTICIPANT;PARTSTAT=ACCEPTED;RSVP=TRUE;CN=Chisoo:ht
 tp://njyp.org/profile/Chisoo
ATTENDEE;ROLE=REQ-PARTICIPANT;PARTSTAT=ACCEPTED;RSVP=TRUE;CN=Colleen:h
 ttp://njyp.org/profile/Colleen
ATTENDEE;ROLE=REQ-PARTICIPANT;PARTSTAT=ACCEPTED;RSVP=TRUE;CN=Chig:http
 ://njyp.org/profile/ChiragAlmoula
ATTENDEE;ROLE=REQ-PARTICIPANT;PARTSTAT=ACCEPTED;RSVP=TRUE;CN=David:htt
 p://njyp.org/profile/DavidCosaboom
ATTENDEE;ROLE=REQ-PARTICIPANT;PARTSTAT=ACCEPTED;RSVP=TRUE;CN="Shahrooz
  Bhopti":http://njyp.org/profile/speedlike
ATTENDEE;ROLE=REQ-PARTICIPANT;PARTSTAT=ACCEPTED;RSVP=TRUE;CN=Celeste:h
 ttp://njyp.org/profile/Celeste
ATTENDEE;ROLE=REQ-PARTICIPANT;PARTSTAT=ACCEPTED;RSVP=TRUE;CN=Katie:htt
 p://njyp.org/profile/Katie863
ATTENDEE;ROLE=REQ-PARTICIPANT;PARTSTAT=ACCEPTED;RSVP=TRUE;CN="Brian an
 d Mike":http://njyp.org/profile/BrianMike
ATTENDEE;ROLE=REQ-PARTICIPANT;PARTSTAT=TENTATIVE;RSVP=TRUE;CN="Allison
  Froehlich":http://njyp.org/profile/AllisonFroehlich
ATTENDEE;ROLE=REQ-PARTICIPANT;PARTSTAT=TENTATIVE;RSVP=TRUE;CN=Despina:
 http://njyp.org/profile/Despina
ATTENDEE;ROLE=REQ-PARTICIPANT;PARTSTAT=TENTATIVE;RSVP=TRUE;CN="Jen Bel
 l":http://njyp.org/profile/jb73
ATTENDEE;ROLE=REQ-PARTICIPANT;PARTSTAT=TENTATIVE;RSVP=TRUE;CN=Hemanth:
 http://njyp.org/profile/Hemanth
ATTENDEE;ROLE=REQ-PARTICIPANT;PARTSTAT=TENTATIVE;RSVP=TRUE;CN="Christo
 pher Dingman":http://njyp.org/profile/ChristopherDingman
ATTENDEE;ROLE=REQ-PARTICIPANT;PARTSTAT=TENTATIVE;RSVP=TRUE;CN="Claudia
  Persichilli":http://njyp.org/profile/ClaudiaPersichilli
ATTENDEE;ROLE=REQ-PARTICIPANT;PARTSTAT=TENTATIVE;RSVP=TRUE;CN=Amanda:h
 ttp://njyp.org/profile/Amanda710
ATTENDEE;ROLE=REQ-PARTICIPANT;PARTSTAT=TENTATIVE;RSVP=TRUE;CN=Leah:htt
 p://njyp.org/profile/LeahZ
ATTENDEE;ROLE=REQ-PARTICIPANT;PARTSTAT=TENTATIVE;RSVP=TRUE;CN=Ahsan:ht
 tp://njyp.org/profile/Ahsan
ATTENDEE;ROLE=REQ-PARTICIPANT;PARTSTAT=TENTATIVE;RSVP=TRUE;CN=Nola:htt
 p://njyp.org/profile/NolaOcchipinti
ATTENDEE;ROLE=REQ-PARTICIPANT;PARTSTAT=TENTATIVE;RSVP=TRUE;CN=Jaime:ht
 tp://njyp.org/profile/Jaime507
ATTENDEE;ROLE=REQ-PARTICIPANT;PARTSTAT=TENTATIVE;RSVP=TRUE;CN=Chris:ht
 tp://njyp.org/profile/Christopherp
ATTENDEE;ROLE=REQ-PARTICIPANT;PARTSTAT=TENTATIVE;RSVP=TRUE;CN=HippieBr
 ownGirl:http://njyp.org/profile/HippieBrownGirl
ATTENDEE;ROLE=REQ-PARTICIPANT;PARTSTAT=TENTATIVE;RSVP=TRUE;CN="Kristen
  Ann":http://njyp.org/profile/KristenAnn
ATTENDEE;ROLE=REQ-PARTICIPANT;PARTSTAT=TENTATIVE;RSVP=TRUE;CN=Nicole:h
 ttp://njyp.org/profile/Nicole388
ATTENDEE;ROLE=REQ-PARTICIPANT;PARTSTAT=TENTATIVE;RSVP=TRUE;CN=Keith:ht
 tp://njyp.org/profile/Keith
ATTENDEE;ROLE=REQ-PARTICIPANT;PARTSTAT=TENTATIVE;RSVP=TRUE;CN=Nicole:h
 ttp://njyp.org/profile/NicolePace
END:VEVENT
END:VCALENDAR
