BEGIN:VCALENDAR
PRODID:NingEventWidget-v1
VERSION:2.0
METHOD:PUBLISH
BEGIN:VTIMEZONE
TZID:America/New_York
X-LIC-LOCATION:America/New_York
BEGIN:DAYLIGHT
TZOFFSETFROM:-0500
TZOFFSETTO:-0400
TZNAME:EDT
DTSTART:19700308T020000
RRULE:FREQ=YEARLY;BYMONTH=3;BYDAY=2SU
END:DAYLIGHT
BEGIN:STANDARD
TZOFFSETFROM:-0400
TZOFFSETTO:-0500
TZNAME:EST
DTSTART:19701101T020000
RRULE:FREQ=YEARLY;BYMONTH=11;BYDAY=1SU
END:STANDARD
END:VTIMEZONE
BEGIN:VEVENT
UID:2938326:Event:716215
DTSTAMP:20260420T013544Z
SUMMARY:Single Mingle at Sona Thirteen in Morristown
DESCRIPTION:Update: 40 Tix Sold, expecting 60+!\n\nMember Cost: $10 on
 line,Â $15 at the door\nNon-Member Cost:Â $20 online and at the door.\
 n\nNJYP-Only Specials:Â $5Â Vodka & Cranberry,Â $3 Miller Lite draft,Â
  $3 Coors Light bottles... andÂ FREE light buffetÂ of wings, pasta, an
 d salad!\nSingle Mingles bring together those who areÂ YOUNG, PROFESSI
 ONAL, and, most importantly,Â UNATTACHED. This event runs on your char
 m and finesse, so come out ready to impress! Expect a crowd of 60-90 (
 we had 80 in Mar 2016 and 75 in Nov 2015), with an even ratio of ladie
 s and gents (YES, we do track it).Â Make new friends, exchange a few n
 umbers, and stay out late.\n Who should attend:Â Single Men and WomenÂ
  \nTickets:Â There are a limited number of tickets available. If you b
 uy a ticket your name will be at the door. All sales are final.  Dress
  Code:Â Coming right from work? Business casual will do just fine. No 
 caps, sneakers, t-shirts. We recommend collared shirts for men and/or 
 blazers.  Directions/Parking:Â Various street parking and decks. Â htt
 p://www.townofmorristown.org/index.asp?Type=B_BASIC&SEC=%7B8217B363-E4
 3A-4FA5-BB21-903BBBD20DD9%7D  Finding the Group:Â At Sona 13 go to the
  the private party room that is downstairs. Â http://www.sonathirteen.
 com/\n\n\n\nFor more information visit http://njyp.org/events/single-m
 ingle-at-sona-thirteen-in-morristown
DTSTART;TZID=America/New_York:20160610T200000
DTEND;TZID=America/New_York:20160610T220000
CATEGORIES:"morris county", social, singles, single, mingle
LOCATION:Sona Thirteen
WEBSITE:http://www.sonathirteen.com/
URL:http://www.sonathirteen.com/
CONTACT:
ORGANIZER;CN="Michael Park":http://njyp.org/profile/MichaelPark
ATTACH;FMTTYPE="image/jpeg":http://storage.ning.com/topology/rest/1.0/
 file/get/1088973966?profile=original
ATTENDEE;ROLE=REQ-PARTICIPANT;PARTSTAT=ACCEPTED;RSVP=TRUE;CN="tim vinn
 al":http://njyp.org/profile/timvinnal631
ATTENDEE;ROLE=REQ-PARTICIPANT;PARTSTAT=ACCEPTED;RSVP=TRUE;CN="Valerie 
 B":http://njyp.org/profile/ValerieB
ATTENDEE;ROLE=REQ-PARTICIPANT;PARTSTAT=ACCEPTED;RSVP=TRUE;CN=Brittany:
 http://njyp.org/profile/Brittany360
ATTENDEE;ROLE=REQ-PARTICIPANT;PARTSTAT=ACCEPTED;RSVP=TRUE;CN="Brian Me
 lnick":http://njyp.org/profile/Brian1218
ATTENDEE;ROLE=REQ-PARTICIPANT;PARTSTAT=ACCEPTED;RSVP=TRUE;CN=Dan:http:
 //njyp.org/profile/Dan751
ATTENDEE;ROLE=REQ-PARTICIPANT;PARTSTAT=ACCEPTED;RSVP=TRUE;CN=Brian:htt
 p://njyp.org/profile/Brian200
ATTENDEE;ROLE=REQ-PARTICIPANT;PARTSTAT=ACCEPTED;RSVP=TRUE;CN=Eric:http
 ://njyp.org/profile/Eric985
ATTENDEE;ROLE=REQ-PARTICIPANT;PARTSTAT=ACCEPTED;RSVP=TRUE;CN=Michael:h
 ttp://njyp.org/profile/Michael586
ATTENDEE;ROLE=REQ-PARTICIPANT;PARTSTAT=ACCEPTED;RSVP=TRUE;CN=Jeffrey:h
 ttp://njyp.org/profile/Jeffrey487
ATTENDEE;ROLE=REQ-PARTICIPANT;PARTSTAT=ACCEPTED;RSVP=TRUE;CN="alyssa R
 ego":http://njyp.org/profile/Alyssa177
ATTENDEE;ROLE=REQ-PARTICIPANT;PARTSTAT=ACCEPTED;RSVP=TRUE;CN=Katie:htt
 p://njyp.org/profile/Katie950
ATTENDEE;ROLE=REQ-PARTICIPANT;PARTSTAT=ACCEPTED;RSVP=TRUE;CN=Nick:http
 ://njyp.org/profile/Nick276
ATTENDEE;ROLE=REQ-PARTICIPANT;PARTSTAT=ACCEPTED;RSVP=TRUE;CN=Bhunita:h
 ttp://njyp.org/profile/Bhunita
ATTENDEE;ROLE=REQ-PARTICIPANT;PARTSTAT=ACCEPTED;RSVP=TRUE;CN="Michael 
 Park":http://njyp.org/profile/MichaelPark
ATTENDEE;ROLE=REQ-PARTICIPANT;PARTSTAT=TENTATIVE;RSVP=TRUE;CN=Sagar:ht
 tp://njyp.org/profile/Sagar547
ATTENDEE;ROLE=REQ-PARTICIPANT;PARTSTAT=TENTATIVE;RSVP=TRUE;CN=Michael:
 http://njyp.org/profile/Michael190
ATTENDEE;ROLE=REQ-PARTICIPANT;PARTSTAT=TENTATIVE;RSVP=TRUE;CN=Angelica
 :http://njyp.org/profile/AngelicaAJ
ATTENDEE;ROLE=REQ-PARTICIPANT;PARTSTAT=TENTATIVE;RSVP=TRUE;CN="Marisa 
 Nogueira":http://njyp.org/profile/Marisa
ATTENDEE;ROLE=REQ-PARTICIPANT;PARTSTAT=TENTATIVE;RSVP=TRUE;CN=Janet:ht
 tp://njyp.org/profile/Janet
ATTENDEE;ROLE=REQ-PARTICIPANT;PARTSTAT=TENTATIVE;RSVP=TRUE;CN=Peter:ht
 tp://njyp.org/profile/Peter673
ATTENDEE;ROLE=REQ-PARTICIPANT;PARTSTAT=TENTATIVE;RSVP=TRUE;CN=Paola:ht
 tp://njyp.org/profile/Paola249
ATTENDEE;ROLE=REQ-PARTICIPANT;PARTSTAT=TENTATIVE;RSVP=TRUE;CN=Jason:ht
 tp://njyp.org/profile/Jasonnn
ATTENDEE;ROLE=REQ-PARTICIPANT;PARTSTAT=TENTATIVE;RSVP=TRUE;CN=Robert:h
 ttp://njyp.org/profile/Robert882
ATTENDEE;ROLE=REQ-PARTICIPANT;PARTSTAT=TENTATIVE;RSVP=TRUE;CN="Jacquel
 yn Price":http://njyp.org/profile/JacquelynPrice
ATTENDEE;ROLE=REQ-PARTICIPANT;PARTSTAT=TENTATIVE;RSVP=TRUE;CN=Elizabet
 h:http://njyp.org/profile/ElizabethFoster
ATTENDEE;ROLE=REQ-PARTICIPANT;PARTSTAT=TENTATIVE;RSVP=TRUE;CN=Kevin:ht
 tp://njyp.org/profile/Kevin164
ATTENDEE;ROLE=REQ-PARTICIPANT;PARTSTAT=TENTATIVE;RSVP=TRUE;CN=Anthony:
 http://njyp.org/profile/1kb7e5i1ki1l9
END:VEVENT
END:VCALENDAR
