BEGIN:VCALENDAR
PRODID:NingEventWidget-v1
VERSION:2.0
METHOD:PUBLISH
BEGIN:VTIMEZONE
TZID:America/New_York
X-LIC-LOCATION:America/New_York
BEGIN:DAYLIGHT
TZOFFSETFROM:-0500
TZOFFSETTO:-0400
TZNAME:EDT
DTSTART:19700308T020000
RRULE:FREQ=YEARLY;BYMONTH=3;BYDAY=2SU
END:DAYLIGHT
BEGIN:STANDARD
TZOFFSETFROM:-0400
TZOFFSETTO:-0500
TZNAME:EST
DTSTART:19701101T020000
RRULE:FREQ=YEARLY;BYMONTH=11;BYDAY=1SU
END:STANDARD
END:VTIMEZONE
BEGIN:VEVENT
UID:2938326:Event:772
DTSTAMP:20260420T055937Z
SUMMARY:Single Mingle for 30-Somethings in Morristown
DESCRIPTION:It is time for the 30-Something singles to mingle! Come on
  out to meet others who are \"single and looking\". Amongst the crowd 
 you might find a date. You also might find a good group of single frie
 nds to go out on the town with! Either way you will have a bangin' tim
 e amongst others who are just like you, single!\n\nWe hosted this even
 t in Montclair in June and it SOLD OUT so register early.\n\n\nRSVP (t
 o the right) and we will let you know when tix are almost gone, when p
 rices are going up, if there are any changes, etc.\n\nWho should atten
 d:\nYou MUST be 29-40 years of age to attend.\nThis event is for those
  who consider themselves to be \"single and looking\" but it is also f
 or anyone looking for friendships. YES, you can also come to meet othe
 r singles to hang out with!\n\nMember Cost:\n$5 for the first 10 to re
 gister\n$10 for the next 11 to 50 to register\n$15 for the next 51 to 
 100 to register\n$20 for walk-ins\n\nNon-Member Cost:\n$20 online and 
 walk-in.\n\nPremium Member Cost:\nFREE for Premium Members but please 
 register by selecting a FREE ticket.\n\nTickets:\nThere are a limited 
 number of tickets available.\nIf you buy a ticket your name will be at
  the door.\nAll sales are final.\n\nDress Code:\nDress code is casual 
 chic...think Manhattan.\nThis is a lounge so a nice pair of jeans, dre
 ssed up with trendy top is OK.\nNo sneakers, No white t-shirts.\n\nDir
 ections/Parking:\nVarious street lots and decks.\nOnline directions\n\
 nHow to find the group:\nMeet downstairs. Enter through the steps that
  are at the BACK of the restaurant.\n\nFor more information visit http
 ://njyp.org/events/single-mingle-for-30somethings
DTSTART;TZID=America/New_York:20090605T190000
DTEND;TZID=America/New_York:20090605T210000
CATEGORIES:"morris county", social
LOCATION:Sona 13
WEBSITE:
URL:
CONTACT:
ORGANIZER;CN="Brian and Mike":http://njyp.org/profile/BrianMike
ATTACH;FMTTYPE="image/jpeg":http://storage.ning.com/topology/rest/1.0/
 file/get/1088519285?profile=original
ATTENDEE;ROLE=REQ-PARTICIPANT;PARTSTAT=ACCEPTED;RSVP=TRUE;CN="Janice K
 lein":http://njyp.org/profile/JaniceKlein
ATTENDEE;ROLE=REQ-PARTICIPANT;PARTSTAT=ACCEPTED;RSVP=TRUE;CN=Penelope:
 http://njyp.org/profile/Atlantis23
ATTENDEE;ROLE=REQ-PARTICIPANT;PARTSTAT=ACCEPTED;RSVP=TRUE;CN="Kate Swe
 eney":http://njyp.org/profile/KateSweeney
ATTENDEE;ROLE=REQ-PARTICIPANT;PARTSTAT=ACCEPTED;RSVP=TRUE;CN="Rhandi L
 ":http://njyp.org/profile/RhandiL
ATTENDEE;ROLE=REQ-PARTICIPANT;PARTSTAT=ACCEPTED;RSVP=TRUE;CN=Marcy:htt
 p://njyp.org/profile/MarcyGoldsmith
ATTENDEE;ROLE=REQ-PARTICIPANT;PARTSTAT=ACCEPTED;RSVP=TRUE;CN="Dave B":
 http://njyp.org/profile/daveb
ATTENDEE;ROLE=REQ-PARTICIPANT;PARTSTAT=ACCEPTED;RSVP=TRUE;CN="Karthik 
 Subramanian":http://njyp.org/profile/KarthikSubramanian
ATTENDEE;ROLE=REQ-PARTICIPANT;PARTSTAT=ACCEPTED;RSVP=TRUE;CN="Brian Ep
 stein":http://njyp.org/profile/BrianEpstein
ATTENDEE;ROLE=REQ-PARTICIPANT;PARTSTAT=ACCEPTED;RSVP=TRUE;CN=Rob:http:
 //njyp.org/profile/RobertSens
ATTENDEE;ROLE=REQ-PARTICIPANT;PARTSTAT=ACCEPTED;RSVP=TRUE;CN=Robin:htt
 p://njyp.org/profile/Robin
ATTENDEE;ROLE=REQ-PARTICIPANT;PARTSTAT=ACCEPTED;RSVP=TRUE;CN=Katy:http
 ://njyp.org/profile/Katy
ATTENDEE;ROLE=REQ-PARTICIPANT;PARTSTAT=ACCEPTED;RSVP=TRUE;CN=Sheryl:ht
 tp://njyp.org/profile/Sheryl
ATTENDEE;ROLE=REQ-PARTICIPANT;PARTSTAT=ACCEPTED;RSVP=TRUE;CN="Kate Ken
 nedy":http://njyp.org/profile/KateKennedy
ATTENDEE;ROLE=REQ-PARTICIPANT;PARTSTAT=ACCEPTED;RSVP=TRUE;CN="Denise O
 liveri":http://njyp.org/profile/DeniseOliveri
ATTENDEE;ROLE=REQ-PARTICIPANT;PARTSTAT=ACCEPTED;RSVP=TRUE;CN="Melanie 
 Marino":http://njyp.org/profile/MelanieMarino
ATTENDEE;ROLE=REQ-PARTICIPANT;PARTSTAT=ACCEPTED;RSVP=TRUE;CN=Charity:h
 ttp://njyp.org/profile/CharityLynnFues
ATTENDEE;ROLE=REQ-PARTICIPANT;PARTSTAT=ACCEPTED;RSVP=TRUE;CN=Caroline:
 http://njyp.org/profile/CarolineWesoly
ATTENDEE;ROLE=REQ-PARTICIPANT;PARTSTAT=ACCEPTED;RSVP=TRUE;CN=Michele:h
 ttp://njyp.org/profile/Michele
ATTENDEE;ROLE=REQ-PARTICIPANT;PARTSTAT=ACCEPTED;RSVP=TRUE;CN=Michelle:
 http://njyp.org/profile/MichelleB
ATTENDEE;ROLE=REQ-PARTICIPANT;PARTSTAT=ACCEPTED;RSVP=TRUE;CN=Chris:htt
 p://njyp.org/profile/Chris
ATTENDEE;ROLE=REQ-PARTICIPANT;PARTSTAT=ACCEPTED;RSVP=TRUE;CN=Gen:http:
 //njyp.org/profile/Gen
ATTENDEE;ROLE=REQ-PARTICIPANT;PARTSTAT=ACCEPTED;RSVP=TRUE;CN=Annemarie
 :http://njyp.org/profile/Annemarie
ATTENDEE;ROLE=REQ-PARTICIPANT;PARTSTAT=ACCEPTED;RSVP=TRUE;CN="Brian an
 d Mike":http://njyp.org/profile/BrianMike
ATTENDEE;ROLE=REQ-PARTICIPANT;PARTSTAT=TENTATIVE;RSVP=TRUE;CN="Lori Bu
 rr":http://njyp.org/profile/LoriBurr
ATTENDEE;ROLE=REQ-PARTICIPANT;PARTSTAT=TENTATIVE;RSVP=TRUE;CN="Christi
 ne Rydzik":http://njyp.org/profile/CupcakingChristine
ATTENDEE;ROLE=REQ-PARTICIPANT;PARTSTAT=TENTATIVE;RSVP=TRUE;CN="Joao-Pi
 erre Ruth":http://njyp.org/profile/JoaoPierreRuth
ATTENDEE;ROLE=REQ-PARTICIPANT;PARTSTAT=TENTATIVE;RSVP=TRUE;CN="Adriana
  Sciortino":http://njyp.org/profile/Adriana
ATTENDEE;ROLE=REQ-PARTICIPANT;PARTSTAT=TENTATIVE;RSVP=TRUE;CN="Michael
  T":http://njyp.org/profile/MichaelToth
ATTENDEE;ROLE=REQ-PARTICIPANT;PARTSTAT=TENTATIVE;RSVP=TRUE;CN="JENNIFE
 R tURKISH":http://njyp.org/profile/JENNIFERtURKISH
ATTENDEE;ROLE=REQ-PARTICIPANT;PARTSTAT=TENTATIVE;RSVP=TRUE;CN=Jeramie:
 http://njyp.org/profile/Jeramie
ATTENDEE;ROLE=REQ-PARTICIPANT;PARTSTAT=TENTATIVE;RSVP=TRUE;CN="Caren L
 agerstrom":http://njyp.org/profile/CarenLagerstrom
ATTENDEE;ROLE=REQ-PARTICIPANT;PARTSTAT=TENTATIVE;RSVP=TRUE;CN="John Fr
 ancis Derenge":http://njyp.org/profile/JohnFrancisDerenge
END:VEVENT
END:VCALENDAR
