BEGIN:VCALENDAR
PRODID:NingEventWidget-v1
VERSION:2.0
METHOD:PUBLISH
BEGIN:VTIMEZONE
TZID:America/New_York
X-LIC-LOCATION:America/New_York
BEGIN:DAYLIGHT
TZOFFSETFROM:-0500
TZOFFSETTO:-0400
TZNAME:EDT
DTSTART:19700308T020000
RRULE:FREQ=YEARLY;BYMONTH=3;BYDAY=2SU
END:DAYLIGHT
BEGIN:STANDARD
TZOFFSETFROM:-0400
TZOFFSETTO:-0500
TZNAME:EST
DTSTART:19701101T020000
RRULE:FREQ=YEARLY;BYMONTH=11;BYDAY=1SU
END:STANDARD
END:VTIMEZONE
BEGIN:VEVENT
UID:2938326:Event:525412
DTSTAMP:20260422T050812Z
SUMMARY:Single Mingle: Hoboken
DESCRIPTION:Single Mingles bring together those who are YOUNG, PROFESS
 IONAL, and, most importantly, UNATTACHED. This event runs on your char
 m and finesse, so come out ready to impress! Expect a crowd of at leas
 t 50, with an even ratio of ladies and gents (YES, we do track it). Ma
 ke new friends, exchange a few numbers, and stay out a little later th
 an you planned on a Thursday Night. You never know who you might meet.
   Who should attend: Women and Men who are 21 to 39 years old. Bring I
 D and make sure you are in our targeted age range. This event is for t
 hose who consider themselves to be \"single and looking\".  \n Member 
 Cost: $10 online $20 at the door  Non-Member Cost: $20 online and at t
 he door.  Tickets: There are a limited number of tickets available. If
  you buy a ticket your name will be at the door. All sales are final. 
  Specials: $5 House Wines and $4 Beers  Dress Code: Coming right from 
 work? Business casual will do just fine. No caps, sneakers, t-shirts. 
 We recommend collared shirts for men and/or blazers.  Directions/Parki
 ng: LuLu's is connected to the W Hotel. It is located upstairs. Please
  ask staff if you cannot find the entrance. Head right to the enclosed
  terrace once you arrive. It is BEST to take the train in but if you w
 ish to drive the W Hotel does have valet parking. http://emmgrp.com/ni
 ghtlife/lulus/gallery/\n\n\n\nFor more information visit http://njyp.o
 rg/events/single-mingle-hoboken
DTSTART;TZID=America/New_York:20140327T193000
DTEND;TZID=America/New_York:20140327T213000
CATEGORIES:"hudson county", social, singles
LOCATION:LuLu's (at the W hotel)
WEBSITE:http://emmgrp.com/nightlife/lulus/
URL:http://emmgrp.com/nightlife/lulus/
CONTACT:
ORGANIZER;CN="Brian and Mike":http://njyp.org/profile/BrianMike
ATTACH;FMTTYPE="image/jpeg":http://storage.ning.com/topology/rest/1.0/
 file/get/1088941350?profile=original
ATTENDEE;ROLE=REQ-PARTICIPANT;PARTSTAT=ACCEPTED;RSVP=TRUE;CN=Amaury:ht
 tp://njyp.org/profile/Amaury
ATTENDEE;ROLE=REQ-PARTICIPANT;PARTSTAT=ACCEPTED;RSVP=TRUE;CN=Craig:htt
 p://njyp.org/profile/Craig436
ATTENDEE;ROLE=REQ-PARTICIPANT;PARTSTAT=ACCEPTED;RSVP=TRUE;CN="Roxy Alo
 nzo":http://njyp.org/profile/RoxyAlonzo
ATTENDEE;ROLE=REQ-PARTICIPANT;PARTSTAT=ACCEPTED;RSVP=TRUE;CN=Shirin:ht
 tp://njyp.org/profile/Shirin
ATTENDEE;ROLE=REQ-PARTICIPANT;PARTSTAT=ACCEPTED;RSVP=TRUE;CN=Imel:http
 ://njyp.org/profile/Imel
ATTENDEE;ROLE=REQ-PARTICIPANT;PARTSTAT=ACCEPTED;RSVP=TRUE;CN=Nikita:ht
 tp://njyp.org/profile/NikitaGohel
ATTENDEE;ROLE=REQ-PARTICIPANT;PARTSTAT=ACCEPTED;RSVP=TRUE;CN=Jessica:h
 ttp://njyp.org/profile/Jessica132
ATTENDEE;ROLE=REQ-PARTICIPANT;PARTSTAT=ACCEPTED;RSVP=TRUE;CN=Edward:ht
 tp://njyp.org/profile/EKotwica
ATTENDEE;ROLE=REQ-PARTICIPANT;PARTSTAT=ACCEPTED;RSVP=TRUE;CN=Mae:http:
 //njyp.org/profile/Mae
ATTENDEE;ROLE=REQ-PARTICIPANT;PARTSTAT=ACCEPTED;RSVP=TRUE;CN=David:htt
 p://njyp.org/profile/DavidKasten
ATTENDEE;ROLE=REQ-PARTICIPANT;PARTSTAT=ACCEPTED;RSVP=TRUE;CN=Suraj:htt
 p://njyp.org/profile/Suraj
ATTENDEE;ROLE=REQ-PARTICIPANT;PARTSTAT=ACCEPTED;RSVP=TRUE;CN=John:http
 ://njyp.org/profile/John174
ATTENDEE;ROLE=REQ-PARTICIPANT;PARTSTAT=ACCEPTED;RSVP=TRUE;CN=Zakkiyya:
 http://njyp.org/profile/ZakkiyyaTaylor
ATTENDEE;ROLE=REQ-PARTICIPANT;PARTSTAT=ACCEPTED;RSVP=TRUE;CN=Manoj:htt
 p://njyp.org/profile/Manoj592
ATTENDEE;ROLE=REQ-PARTICIPANT;PARTSTAT=ACCEPTED;RSVP=TRUE;CN=Joe:http:
 //njyp.org/profile/Joe245
ATTENDEE;ROLE=REQ-PARTICIPANT;PARTSTAT=ACCEPTED;RSVP=TRUE;CN=Keith:htt
 p://njyp.org/profile/Keith873
ATTENDEE;ROLE=REQ-PARTICIPANT;PARTSTAT=ACCEPTED;RSVP=TRUE;CN=Allison:h
 ttp://njyp.org/profile/Allison299
ATTENDEE;ROLE=REQ-PARTICIPANT;PARTSTAT=ACCEPTED;RSVP=TRUE;CN=Brett:htt
 p://njyp.org/profile/Brett455
ATTENDEE;ROLE=REQ-PARTICIPANT;PARTSTAT=ACCEPTED;RSVP=TRUE;CN=Christina
 :http://njyp.org/profile/304mtilweqhef
ATTENDEE;ROLE=REQ-PARTICIPANT;PARTSTAT=ACCEPTED;RSVP=TRUE;CN=Melanie:h
 ttp://njyp.org/profile/Melanie457
ATTENDEE;ROLE=REQ-PARTICIPANT;PARTSTAT=ACCEPTED;RSVP=TRUE;CN=Keith:htt
 p://njyp.org/profile/Keith613
ATTENDEE;ROLE=REQ-PARTICIPANT;PARTSTAT=ACCEPTED;RSVP=TRUE;CN="Tom Cife
 lli":http://njyp.org/profile/TomCifelli
ATTENDEE;ROLE=REQ-PARTICIPANT;PARTSTAT=ACCEPTED;RSVP=TRUE;CN=Kevin:htt
 p://njyp.org/profile/Kevin292
ATTENDEE;ROLE=REQ-PARTICIPANT;PARTSTAT=ACCEPTED;RSVP=TRUE;CN=Alex:http
 ://njyp.org/profile/Alex679
ATTENDEE;ROLE=REQ-PARTICIPANT;PARTSTAT=ACCEPTED;RSVP=TRUE;CN=Dillon:ht
 tp://njyp.org/profile/Dillon
ATTENDEE;ROLE=REQ-PARTICIPANT;PARTSTAT=ACCEPTED;RSVP=TRUE;CN="Gina And
 rade":http://njyp.org/profile/Gina900
ATTENDEE;ROLE=REQ-PARTICIPANT;PARTSTAT=ACCEPTED;RSVP=TRUE;CN=Rachel:ht
 tp://njyp.org/profile/Rachel853
ATTENDEE;ROLE=REQ-PARTICIPANT;PARTSTAT=ACCEPTED;RSVP=TRUE;CN="Christin
 e Lombardo":http://njyp.org/profile/ChristineLombardo
ATTENDEE;ROLE=REQ-PARTICIPANT;PARTSTAT=ACCEPTED;RSVP=TRUE;CN=James:htt
 p://njyp.org/profile/JamesShow
ATTENDEE;ROLE=REQ-PARTICIPANT;PARTSTAT=ACCEPTED;RSVP=TRUE;CN="Brian an
 d Mike":http://njyp.org/profile/BrianMike
ATTENDEE;ROLE=REQ-PARTICIPANT;PARTSTAT=ACCEPTED;RSVP=TRUE;CN=Annmarie:
 http://njyp.org/profile/Annmarie
ATTENDEE;ROLE=REQ-PARTICIPANT;PARTSTAT=ACCEPTED;RSVP=TRUE;CN=Jennifer:
 http://njyp.org/profile/Jennifer335
ATTENDEE;ROLE=REQ-PARTICIPANT;PARTSTAT=TENTATIVE;RSVP=TRUE;CN=Ara:http
 ://njyp.org/profile/Ara
ATTENDEE;ROLE=REQ-PARTICIPANT;PARTSTAT=TENTATIVE;RSVP=TRUE;CN=Christin
 a:http://njyp.org/profile/Christina678
ATTENDEE;ROLE=REQ-PARTICIPANT;PARTSTAT=TENTATIVE;RSVP=TRUE;CN="Christi
 an Bulacan":http://njyp.org/profile/ChristianBulacan
ATTENDEE;ROLE=REQ-PARTICIPANT;PARTSTAT=TENTATIVE;RSVP=TRUE;CN=Megan:ht
 tp://njyp.org/profile/Megan82
ATTENDEE;ROLE=REQ-PARTICIPANT;PARTSTAT=TENTATIVE;RSVP=TRUE;CN=Diana:ht
 tp://njyp.org/profile/Diana594
ATTENDEE;ROLE=REQ-PARTICIPANT;PARTSTAT=TENTATIVE;RSVP=TRUE;CN=Kelly:ht
 tp://njyp.org/profile/Kelly_Lynn
ATTENDEE;ROLE=REQ-PARTICIPANT;PARTSTAT=TENTATIVE;RSVP=TRUE;CN=Ogechi:h
 ttp://njyp.org/profile/Ogechi
ATTENDEE;ROLE=REQ-PARTICIPANT;PARTSTAT=TENTATIVE;RSVP=TRUE;CN=Michael:
 http://njyp.org/profile/Michael858
ATTENDEE;ROLE=REQ-PARTICIPANT;PARTSTAT=TENTATIVE;RSVP=TRUE;CN=Rachel:h
 ttp://njyp.org/profile/Rachel686
ATTENDEE;ROLE=REQ-PARTICIPANT;PARTSTAT=TENTATIVE;RSVP=TRUE;CN=Marwah:h
 ttp://njyp.org/profile/155sdzomhusc5
ATTENDEE;ROLE=REQ-PARTICIPANT;PARTSTAT=TENTATIVE;RSVP=TRUE;CN=Walter:h
 ttp://njyp.org/profile/Walter
ATTENDEE;ROLE=REQ-PARTICIPANT;PARTSTAT=TENTATIVE;RSVP=TRUE;CN=Tisha:ht
 tp://njyp.org/profile/Tisha
ATTENDEE;ROLE=REQ-PARTICIPANT;PARTSTAT=TENTATIVE;RSVP=TRUE;CN=Karen:ht
 tp://njyp.org/profile/KarenCerone
ATTENDEE;ROLE=REQ-PARTICIPANT;PARTSTAT=TENTATIVE;RSVP=TRUE;CN=Alejandr
 o:http://njyp.org/profile/Alejandro
ATTENDEE;ROLE=REQ-PARTICIPANT;PARTSTAT=TENTATIVE;RSVP=TRUE;CN=Cynthia:
 http://njyp.org/profile/Cynthia724
ATTENDEE;ROLE=REQ-PARTICIPANT;PARTSTAT=TENTATIVE;RSVP=TRUE;CN=Melanie:
 http://njyp.org/profile/Melanie124
ATTENDEE;ROLE=REQ-PARTICIPANT;PARTSTAT=TENTATIVE;RSVP=TRUE;CN=Diane:ht
 tp://njyp.org/profile/DianePalla
ATTENDEE;ROLE=REQ-PARTICIPANT;PARTSTAT=TENTATIVE;RSVP=TRUE;CN=Wes:http
 ://njyp.org/profile/Wes
ATTENDEE;ROLE=REQ-PARTICIPANT;PARTSTAT=TENTATIVE;RSVP=TRUE;CN="Marisa 
 Nogueira":http://njyp.org/profile/Marisa
ATTENDEE;ROLE=REQ-PARTICIPANT;PARTSTAT=TENTATIVE;RSVP=TRUE;CN=Kaitlyn:
 http://njyp.org/profile/Kaitlyn666
ATTENDEE;ROLE=REQ-PARTICIPANT;PARTSTAT=TENTATIVE;RSVP=TRUE;CN=Marcus:h
 ttp://njyp.org/profile/MGarf
END:VEVENT
END:VCALENDAR
