BEGIN:VCALENDAR
PRODID:NingEventWidget-v1
VERSION:2.0
METHOD:PUBLISH
BEGIN:VTIMEZONE
TZID:America/New_York
X-LIC-LOCATION:America/New_York
BEGIN:DAYLIGHT
TZOFFSETFROM:-0500
TZOFFSETTO:-0400
TZNAME:EDT
DTSTART:19700308T020000
RRULE:FREQ=YEARLY;BYMONTH=3;BYDAY=2SU
END:DAYLIGHT
BEGIN:STANDARD
TZOFFSETFROM:-0400
TZOFFSETTO:-0500
TZNAME:EST
DTSTART:19701101T020000
RRULE:FREQ=YEARLY;BYMONTH=11;BYDAY=1SU
END:STANDARD
END:VTIMEZONE
BEGIN:VEVENT
UID:2938326:Event:561560
DTSTAMP:20260420T105422Z
SUMMARY:Single Mingle: New Brunswick
DESCRIPTION:\n\nSingle Mingles bring together those who are YOUNG, PRO
 FESSIONAL, and, most importantly, UNATTACHED. This event runs on your 
 charm and finesse, so come out ready to impress! Expect a crowd of at 
 least 50, with an even ratio of ladies and gents (YES, we do track it)
 .  Lights, Camera and, most importantly, Action! National Geographic C
 hannel will be filming the event. What makes dating fun? What gets sin
 gles to mingle? What do YOU LOVE (or hate) about dating? You tell us! 
  Make new friends, exchange a few numbers, stay out a little later tha
 n you planned on a Thursday Night…and party like a TV star!\n By att
 ending this event you agree to be filmed for NatGeo TV.  Who should at
 tend: Women and Men who are 21 to 39 years old. Bring ID and make sure
  you are in our targeted age range. This event is for those who consid
 er themselves to be \"single and looking\".  \nMember Cost (includes l
 ight finger foods): $5 online $20 at the door  Non-Member Cost (includ
 es light finger foods): $20 online and at the door.  Tickets: There ar
 e a limited number of tickets available. If you buy a ticket your name
  will be at the door. All sales are final.  Dress Code: Coming right f
 rom work? Business casual will do just fine. No caps, sneakers, t-shir
 ts. We recommend collared shirts for men and/or blazers.  Directions: 
 http://www.vloungenj.com/ Various deck and street parking\n\nFor more 
 information visit http://njyp.org/events/single-mingle-new-brunswick-1
DTSTART;TZID=America/New_York:20140522T190000
DTEND;TZID=America/New_York:20140522T210000
CATEGORIES:"middlesex county", social, singles
LOCATION:V Lounge
WEBSITE:http://www.vloungenj.com/
URL:http://www.vloungenj.com/
CONTACT:
ORGANIZER;CN="Brian and Mike":http://njyp.org/profile/BrianMike
ATTACH;FMTTYPE="image/jpeg":http://storage.ning.com/topology/rest/1.0/
 file/get/1088973966?profile=original
ATTENDEE;ROLE=REQ-PARTICIPANT;PARTSTAT=ACCEPTED;RSVP=TRUE;CN=Jennifer:
 http://njyp.org/profile/Jennifer969
ATTENDEE;ROLE=REQ-PARTICIPANT;PARTSTAT=ACCEPTED;RSVP=TRUE;CN="Carlton 
 Hurdle Jr":http://njyp.org/profile/CarltonHurdleJr
ATTENDEE;ROLE=REQ-PARTICIPANT;PARTSTAT=ACCEPTED;RSVP=TRUE;CN=Erica:htt
 p://njyp.org/profile/Erica105
ATTENDEE;ROLE=REQ-PARTICIPANT;PARTSTAT=ACCEPTED;RSVP=TRUE;CN="Vinudas 
 Akde":http://njyp.org/profile/VinudasAkde
ATTENDEE;ROLE=REQ-PARTICIPANT;PARTSTAT=ACCEPTED;RSVP=TRUE;CN="Roxy Alo
 nzo":http://njyp.org/profile/RoxyAlonzo
ATTENDEE;ROLE=REQ-PARTICIPANT;PARTSTAT=ACCEPTED;RSVP=TRUE;CN=Jose:http
 ://njyp.org/profile/JoseRebustesIII
ATTENDEE;ROLE=REQ-PARTICIPANT;PARTSTAT=ACCEPTED;RSVP=TRUE;CN=Elias:htt
 p://njyp.org/profile/Elias
ATTENDEE;ROLE=REQ-PARTICIPANT;PARTSTAT=ACCEPTED;RSVP=TRUE;CN=Seyi:http
 ://njyp.org/profile/Seyi
ATTENDEE;ROLE=REQ-PARTICIPANT;PARTSTAT=ACCEPTED;RSVP=TRUE;CN=Brady:htt
 p://njyp.org/profile/Brady
ATTENDEE;ROLE=REQ-PARTICIPANT;PARTSTAT=ACCEPTED;RSVP=TRUE;CN=Heather:h
 ttp://njyp.org/profile/Heather940
ATTENDEE;ROLE=REQ-PARTICIPANT;PARTSTAT=ACCEPTED;RSVP=TRUE;CN="Tara Bur
 ns":http://njyp.org/profile/TaraBurns
ATTENDEE;ROLE=REQ-PARTICIPANT;PARTSTAT=ACCEPTED;RSVP=TRUE;CN=Stephanie
 :http://njyp.org/profile/Stephanie571
ATTENDEE;ROLE=REQ-PARTICIPANT;PARTSTAT=ACCEPTED;RSVP=TRUE;CN=Sabrina:h
 ttp://njyp.org/profile/Sabrina47
ATTENDEE;ROLE=REQ-PARTICIPANT;PARTSTAT=ACCEPTED;RSVP=TRUE;CN=Cassandra
 :http://njyp.org/profile/Cassandra
ATTENDEE;ROLE=REQ-PARTICIPANT;PARTSTAT=ACCEPTED;RSVP=TRUE;CN=James:htt
 p://njyp.org/profile/JamesShow
ATTENDEE;ROLE=REQ-PARTICIPANT;PARTSTAT=ACCEPTED;RSVP=TRUE;CN=Deep:http
 ://njyp.org/profile/Deep
ATTENDEE;ROLE=REQ-PARTICIPANT;PARTSTAT=ACCEPTED;RSVP=TRUE;CN=Keith:htt
 p://njyp.org/profile/Keith873
ATTENDEE;ROLE=REQ-PARTICIPANT;PARTSTAT=ACCEPTED;RSVP=TRUE;CN="Jen Bell
 ":http://njyp.org/profile/jb73
ATTENDEE;ROLE=REQ-PARTICIPANT;PARTSTAT=ACCEPTED;RSVP=TRUE;CN=Kavita:ht
 tp://njyp.org/profile/Kavita
ATTENDEE;ROLE=REQ-PARTICIPANT;PARTSTAT=ACCEPTED;RSVP=TRUE;CN=Ashley:ht
 tp://njyp.org/profile/Ashley581
ATTENDEE;ROLE=REQ-PARTICIPANT;PARTSTAT=ACCEPTED;RSVP=TRUE;CN=Tom:http:
 //njyp.org/profile/Tom68
ATTENDEE;ROLE=REQ-PARTICIPANT;PARTSTAT=ACCEPTED;RSVP=TRUE;CN=Chris:htt
 p://njyp.org/profile/Chris394
ATTENDEE;ROLE=REQ-PARTICIPANT;PARTSTAT=ACCEPTED;RSVP=TRUE;CN=Samantha:
 http://njyp.org/profile/Samantha993
ATTENDEE;ROLE=REQ-PARTICIPANT;PARTSTAT=ACCEPTED;RSVP=TRUE;CN=Jennifer:
 http://njyp.org/profile/Jennifer335
ATTENDEE;ROLE=REQ-PARTICIPANT;PARTSTAT=ACCEPTED;RSVP=TRUE;CN=Ash:http:
 //njyp.org/profile/Ash
ATTENDEE;ROLE=REQ-PARTICIPANT;PARTSTAT=ACCEPTED;RSVP=TRUE;CN=Edward:ht
 tp://njyp.org/profile/EKotwica
ATTENDEE;ROLE=REQ-PARTICIPANT;PARTSTAT=ACCEPTED;RSVP=TRUE;CN=Joe:http:
 //njyp.org/profile/Joe245
ATTENDEE;ROLE=REQ-PARTICIPANT;PARTSTAT=ACCEPTED;RSVP=TRUE;CN=Katie:htt
 p://njyp.org/profile/Katie950
ATTENDEE;ROLE=REQ-PARTICIPANT;PARTSTAT=ACCEPTED;RSVP=TRUE;CN=Melanie:h
 ttp://njyp.org/profile/Melanie457
ATTENDEE;ROLE=REQ-PARTICIPANT;PARTSTAT=ACCEPTED;RSVP=TRUE;CN="Brian an
 d Mike":http://njyp.org/profile/BrianMike
ATTENDEE;ROLE=REQ-PARTICIPANT;PARTSTAT=TENTATIVE;RSVP=TRUE;CN=Justin:h
 ttp://njyp.org/profile/Justin542
ATTENDEE;ROLE=REQ-PARTICIPANT;PARTSTAT=TENTATIVE;RSVP=TRUE;CN=Matthew:
 http://njyp.org/profile/Matthew904
ATTENDEE;ROLE=REQ-PARTICIPANT;PARTSTAT=TENTATIVE;RSVP=TRUE;CN=Javier:h
 ttp://njyp.org/profile/Javier
ATTENDEE;ROLE=REQ-PARTICIPANT;PARTSTAT=TENTATIVE;RSVP=TRUE;CN=Manish:h
 ttp://njyp.org/profile/Manish
ATTENDEE;ROLE=REQ-PARTICIPANT;PARTSTAT=TENTATIVE;RSVP=TRUE;CN=abhilash
 :http://njyp.org/profile/abhilash
ATTENDEE;ROLE=REQ-PARTICIPANT;PARTSTAT=TENTATIVE;RSVP=TRUE;CN="Lorrain
 e Weitz":http://njyp.org/profile/LorraineWeitz
ATTENDEE;ROLE=REQ-PARTICIPANT;PARTSTAT=TENTATIVE;RSVP=TRUE;CN=Kevin:ht
 tp://njyp.org/profile/Kevin164
ATTENDEE;ROLE=REQ-PARTICIPANT;PARTSTAT=TENTATIVE;RSVP=TRUE;CN=Kat:http
 ://njyp.org/profile/Kat506
ATTENDEE;ROLE=REQ-PARTICIPANT;PARTSTAT=TENTATIVE;RSVP=TRUE;CN="Chris P
 oorten":http://njyp.org/profile/ChrisPoorten
ATTENDEE;ROLE=REQ-PARTICIPANT;PARTSTAT=TENTATIVE;RSVP=TRUE;CN=Doug:htt
 p://njyp.org/profile/Doug895
ATTENDEE;ROLE=REQ-PARTICIPANT;PARTSTAT=TENTATIVE;RSVP=TRUE;CN=Robert:h
 ttp://njyp.org/profile/Robert882
ATTENDEE;ROLE=REQ-PARTICIPANT;PARTSTAT=TENTATIVE;RSVP=TRUE;CN=Dar:http
 ://njyp.org/profile/Darlene
ATTENDEE;ROLE=REQ-PARTICIPANT;PARTSTAT=TENTATIVE;RSVP=TRUE;CN=Melanie:
 http://njyp.org/profile/Melanie434
ATTENDEE;ROLE=REQ-PARTICIPANT;PARTSTAT=TENTATIVE;RSVP=TRUE;CN=Michael:
 http://njyp.org/profile/Michael728
END:VEVENT
END:VCALENDAR
