BEGIN:VCALENDAR
PRODID:NingEventWidget-v1
VERSION:2.0
METHOD:PUBLISH
BEGIN:VTIMEZONE
TZID:America/New_York
X-LIC-LOCATION:America/New_York
BEGIN:DAYLIGHT
TZOFFSETFROM:-0500
TZOFFSETTO:-0400
TZNAME:EDT
DTSTART:19700308T020000
RRULE:FREQ=YEARLY;BYMONTH=3;BYDAY=2SU
END:DAYLIGHT
BEGIN:STANDARD
TZOFFSETFROM:-0400
TZOFFSETTO:-0500
TZNAME:EST
DTSTART:19701101T020000
RRULE:FREQ=YEARLY;BYMONTH=11;BYDAY=1SU
END:STANDARD
END:VTIMEZONE
BEGIN:VEVENT
UID:2938326:Event:740420
DTSTAMP:20260420T115846Z
SUMMARY:Single Mingle in New Brunswick
DESCRIPTION:\r\nSingle Mingles bring together those who are YOUNG, P
 ROFESSIONAL, and, most importantly, UNATTACHED. This event runs on yo
 ur charm and finesse, so come out ready to impress! Make new friends, 
 exchange a few numbers, and stay out late.\r\nCome for a night of grea
 t drink and appetizer specials at Kasai!\r\nMember Cost: $5 vs. $10 at
  the door\r\nNon-Member Cost: $10 vs. $15 at the door\r\n\r\nDrink Spe
 cials: $5 House mixed drinks, $3 domestic beer, $4 import beer, $5 h
 ouse wine.  Who can attend: Young professionals, single, who are 21-39
  years of age.\r\nFinding us: We will be in the private area upstairs.
 \n\nFor more information visit http://njyp.org/events/singlemingle0201
 2019
DTSTART;TZID=America/New_York:20190201T200000
DTEND;TZID=America/New_York:20190201T220000
CATEGORIES:"morris county", social, winter, feel, good, friday, mingle
 , party
LOCATION:Kasai Restaurant, Sushi, Ultralounge
WEBSITE:
URL:
CONTACT:
ORGANIZER;CN="Brian Melnick":http://njyp.org/profile/Brian1218
ATTACH;FMTTYPE="image/jpeg":http://storage.ning.com/topology/rest/1.0/
 file/get/1089166704?profile=original
ATTENDEE;ROLE=REQ-PARTICIPANT;PARTSTAT=ACCEPTED;RSVP=TRUE;CN=Chivonne:
 http://njyp.org/profile/ChivonnePerkins
ATTENDEE;ROLE=REQ-PARTICIPANT;PARTSTAT=ACCEPTED;RSVP=TRUE;CN=John:http
 ://njyp.org/profile/John91
ATTENDEE;ROLE=REQ-PARTICIPANT;PARTSTAT=ACCEPTED;RSVP=TRUE;CN=Atish:htt
 p://njyp.org/profile/Atish
ATTENDEE;ROLE=REQ-PARTICIPANT;PARTSTAT=ACCEPTED;RSVP=TRUE;CN=Michael:h
 ttp://njyp.org/profile/Michael797
ATTENDEE;ROLE=REQ-PARTICIPANT;PARTSTAT=ACCEPTED;RSVP=TRUE;CN=Patrick:h
 ttp://njyp.org/profile/Patrick517
ATTENDEE;ROLE=REQ-PARTICIPANT;PARTSTAT=ACCEPTED;RSVP=TRUE;CN=Seth:http
 ://njyp.org/profile/Seth396
ATTENDEE;ROLE=REQ-PARTICIPANT;PARTSTAT=ACCEPTED;RSVP=TRUE;CN=Mark:http
 ://njyp.org/profile/Mark863
ATTENDEE;ROLE=REQ-PARTICIPANT;PARTSTAT=ACCEPTED;RSVP=TRUE;CN="Brian Me
 lnick":http://njyp.org/profile/Brian1218
ATTENDEE;ROLE=REQ-PARTICIPANT;PARTSTAT=ACCEPTED;RSVP=TRUE;CN=Greg:http
 ://njyp.org/profile/Greg754
ATTENDEE;ROLE=REQ-PARTICIPANT;PARTSTAT=ACCEPTED;RSVP=TRUE;CN="Michael 
 Evans":http://njyp.org/profile/MichaelEvans
ATTENDEE;ROLE=REQ-PARTICIPANT;PARTSTAT=TENTATIVE;RSVP=TRUE;CN=Melanie:
 http://njyp.org/profile/Melanie434
ATTENDEE;ROLE=REQ-PARTICIPANT;PARTSTAT=TENTATIVE;RSVP=TRUE;CN=Danny:ht
 tp://njyp.org/profile/Danny
ATTENDEE;ROLE=REQ-PARTICIPANT;PARTSTAT=TENTATIVE;RSVP=TRUE;CN=Kevin:ht
 tp://njyp.org/profile/Kevin164
END:VEVENT
END:VCALENDAR
