BEGIN:VCALENDAR
PRODID:NingEventWidget-v1
VERSION:2.0
METHOD:PUBLISH
BEGIN:VTIMEZONE
TZID:America/New_York
X-LIC-LOCATION:America/New_York
BEGIN:DAYLIGHT
TZOFFSETFROM:-0500
TZOFFSETTO:-0400
TZNAME:EDT
DTSTART:19700308T020000
RRULE:FREQ=YEARLY;BYMONTH=3;BYDAY=2SU
END:DAYLIGHT
BEGIN:STANDARD
TZOFFSETFROM:-0400
TZOFFSETTO:-0500
TZNAME:EST
DTSTART:19701101T020000
RRULE:FREQ=YEARLY;BYMONTH=11;BYDAY=1SU
END:STANDARD
END:VTIMEZONE
BEGIN:VEVENT
UID:2938326:Event:738438
DTSTAMP:20260420T115645Z
SUMMARY:Single Mingle in Morristown
DESCRIPTION:Update: Expecting more than 50 attendees!\r\n\r\nSingle Mi
 ngles bring together those who are YOUNG, PROFESSIONAL, and, most im
 portantly, UNATTACHED. This event runs on your charm and finesse, so 
 come out ready to impress! Make new friends, exchange a few numbers, a
 nd stay out late.\r\n\r\nDrink Specials:  $3 Miller drafts, $4 house 
 wine, $5 house mixed drinks\r\n\r\nMember Cost: $5 online $10 at the d
 oor\r\nNon-Member Cost: $10 online and $15 at the door. \r\n\r\nFindin
 g us: We will be in the private room upstairs!\r\n\n\nFor more informa
 tion visit http://njyp.org/events/singlemingle92918
DTSTART;TZID=America/New_York:20180928T200000
DTEND;TZID=America/New_York:20180928T220000
CATEGORIES:"morris county", social, winter, feel, good, friday, mingle
 , party
LOCATION:Horseshoe Tavern
WEBSITE:
URL:
CONTACT:
ORGANIZER;CN="Brian Melnick":http://njyp.org/profile/Brian1218
ATTACH;FMTTYPE="image/jpeg":http://storage.ning.com/topology/rest/1.0/
 file/get/1089164608?profile=original
ATTENDEE;ROLE=REQ-PARTICIPANT;PARTSTAT=ACCEPTED;RSVP=TRUE;CN=Mike:http
 ://njyp.org/profile/Mike663
ATTENDEE;ROLE=REQ-PARTICIPANT;PARTSTAT=ACCEPTED;RSVP=TRUE;CN=Meg:http:
 //njyp.org/profile/Meg757
ATTENDEE;ROLE=REQ-PARTICIPANT;PARTSTAT=ACCEPTED;RSVP=TRUE;CN=VIVEK:htt
 p://njyp.org/profile/VIVEK598
ATTENDEE;ROLE=REQ-PARTICIPANT;PARTSTAT=ACCEPTED;RSVP=TRUE;CN=Seth:http
 ://njyp.org/profile/Seth396
ATTENDEE;ROLE=REQ-PARTICIPANT;PARTSTAT=ACCEPTED;RSVP=TRUE;CN=Katie:htt
 p://njyp.org/profile/Katie232
ATTENDEE;ROLE=REQ-PARTICIPANT;PARTSTAT=ACCEPTED;RSVP=TRUE;CN=Dan:http:
 //njyp.org/profile/Daniel162
ATTENDEE;ROLE=REQ-PARTICIPANT;PARTSTAT=ACCEPTED;RSVP=TRUE;CN=Graceann:
 http://njyp.org/profile/Graceann
ATTENDEE;ROLE=REQ-PARTICIPANT;PARTSTAT=ACCEPTED;RSVP=TRUE;CN="Brian Me
 lnick":http://njyp.org/profile/Brian1218
ATTENDEE;ROLE=REQ-PARTICIPANT;PARTSTAT=TENTATIVE;RSVP=TRUE;CN="William
  C Lee":http://njyp.org/profile/WilliamCLee
ATTENDEE;ROLE=REQ-PARTICIPANT;PARTSTAT=TENTATIVE;RSVP=TRUE;CN=Atish:ht
 tp://njyp.org/profile/Atish
ATTENDEE;ROLE=REQ-PARTICIPANT;PARTSTAT=TENTATIVE;RSVP=TRUE;CN=MindySue
 :http://njyp.org/profile/MindySue
ATTENDEE;ROLE=REQ-PARTICIPANT;PARTSTAT=TENTATIVE;RSVP=TRUE;CN="Vinnie 
 Romano":http://njyp.org/profile/VinnieRomano
ATTENDEE;ROLE=REQ-PARTICIPANT;PARTSTAT=TENTATIVE;RSVP=TRUE;CN=Igor:htt
 p://njyp.org/profile/Igor
ATTENDEE;ROLE=REQ-PARTICIPANT;PARTSTAT=TENTATIVE;RSVP=TRUE;CN=George:h
 ttp://njyp.org/profile/George876
ATTENDEE;ROLE=REQ-PARTICIPANT;PARTSTAT=TENTATIVE;RSVP=TRUE;CN="Jordan 
 Chester":http://njyp.org/profile/JordanChester
ATTENDEE;ROLE=REQ-PARTICIPANT;PARTSTAT=TENTATIVE;RSVP=TRUE;CN=Melissa:
 http://njyp.org/profile/Melissa478
END:VEVENT
END:VCALENDAR
