BEGIN:VCALENDAR
PRODID:NingEventWidget-v1
VERSION:2.0
METHOD:PUBLISH
BEGIN:VTIMEZONE
TZID:America/New_York
X-LIC-LOCATION:America/New_York
BEGIN:DAYLIGHT
TZOFFSETFROM:-0500
TZOFFSETTO:-0400
TZNAME:EDT
DTSTART:19700308T020000
RRULE:FREQ=YEARLY;BYMONTH=3;BYDAY=2SU
END:DAYLIGHT
BEGIN:STANDARD
TZOFFSETFROM:-0400
TZOFFSETTO:-0500
TZNAME:EST
DTSTART:19701101T020000
RRULE:FREQ=YEARLY;BYMONTH=11;BYDAY=1SU
END:STANDARD
END:VTIMEZONE
BEGIN:VEVENT
UID:2938326:Event:9853
DTSTAMP:20260421T103232Z
SUMMARY:Softball Sunday
DESCRIPTION:Sign-up for Softball Sunday! This FREE event is open to al
 l “Members” of NJYP, even if you just want to watch. We will be st
 arting the game in the AM to avoid the mid-day heat so please arrive o
 n time and ready to play ball. Please note the field is just 3 miles o
 ff of Parkway exit 137.\n\nWho can come:\nAnyone who wants to play, ch
 eer, or referee. You MUST be a paid “Member” of NJYP.\n\nCost:\nFR
 EE to “Members” (aka you paid the $9.99 one-time fee).\nPlease RSV
 P so we know you are attending.\n\nWhat to Bring:\n* ALL of the softba
 ll equipment you own! We will need balls, bats, gloves, and bases. Mos
 t likely we will be sharing equipment so if you have two mitts please 
 bring both.\n* Sunblock, lots of water, bagged lunch, beach chairs, fi
 rst aid kit, etc.\n\nHost:\nI need a HOST for this event. If you can b
 e the group leader please email Laura@NJYP.org\n\nDirections:\nUse GOO
 GLE maps to get yourself here\nUnami Park\nLexington Ave & S Union Ave
 , Cranford, NJ 07016\nWe will be using the field that is closest to th
 is intersection.\nTons of free street parking and there is a small lot
 !\n\nPost-Event (throwing it out there):\nMeet for lunch/drinks at\nTh
 e Office Bar and Grill\n1 South Ave E, Cranford, NJ‎\n(908) 272-3888
 ‎\nThey have an outdoor patio and guests will be accepted no matter 
 how dirty and stinky.\n\nFor more information visit http://njyp.org/ev
 ents/softball-sunday
DTSTART;TZID=America/New_York:20090802T100000
DTEND;TZID=America/New_York:20090802T120000
CATEGORIES:"union county", athletic
LOCATION:Unami Baseball Field
WEBSITE:http://maps.google.com/maps?hl=en&q=Lexington+Ave+%26+S+Union+
 Ave,+Cranford,+NJ+07016&sourceid=navclient-ff&rlz=1B3GGGL_enUS323US323
 &um=1&ie=UTF-8&split=0&gl=us&ei=40JKSsitJsy0tgeBzvWRBg&sa=X&oi=geocode
 _result&ct=title&resnum=1
URL:http://maps.google.com/maps?hl=en&q=Lexington+Ave+%26+S+Union+Ave,
 +Cranford,+NJ+07016&sourceid=navclient-ff&rlz=1B3GGGL_enUS323US323&um=
 1&ie=UTF-8&split=0&gl=us&ei=40JKSsitJsy0tgeBzvWRBg&sa=X&oi=geocode_res
 ult&ct=title&resnum=1
CONTACT:
ORGANIZER;CN="Brian and Mike":http://njyp.org/profile/BrianMike
ATTACH;FMTTYPE="image/jpeg":http://storage.ning.com/topology/rest/1.0/
 file/get/1088542096?profile=original
ATTENDEE;ROLE=REQ-PARTICIPANT;PARTSTAT=ACCEPTED;RSVP=TRUE;CN=Nima:http
 ://njyp.org/profile/NimaShemirani
ATTENDEE;ROLE=REQ-PARTICIPANT;PARTSTAT=ACCEPTED;RSVP=TRUE;CN="Chris G"
 :http://njyp.org/profile/ChrisG
ATTENDEE;ROLE=REQ-PARTICIPANT;PARTSTAT=ACCEPTED;RSVP=TRUE;CN="Lillian 
 T.":http://njyp.org/profile/LillianT
ATTENDEE;ROLE=REQ-PARTICIPANT;PARTSTAT=ACCEPTED;RSVP=TRUE;CN=Charlie:h
 ttp://njyp.org/profile/Charlie
ATTENDEE;ROLE=REQ-PARTICIPANT;PARTSTAT=ACCEPTED;RSVP=TRUE;CN="Michael 
 Camerlengo":http://njyp.org/profile/MichaelCamerlengo
ATTENDEE;ROLE=REQ-PARTICIPANT;PARTSTAT=ACCEPTED;RSVP=TRUE;CN="Jesse Bl
 ondin":http://njyp.org/profile/JesseBlondin
ATTENDEE;ROLE=REQ-PARTICIPANT;PARTSTAT=ACCEPTED;RSVP=TRUE;CN=Deborah:h
 ttp://njyp.org/profile/Deborah
ATTENDEE;ROLE=REQ-PARTICIPANT;PARTSTAT=ACCEPTED;RSVP=TRUE;CN=tesh:http
 ://njyp.org/profile/t
ATTENDEE;ROLE=REQ-PARTICIPANT;PARTSTAT=ACCEPTED;RSVP=TRUE;CN=Dharm:htt
 p://njyp.org/profile/DharmeshMistry
ATTENDEE;ROLE=REQ-PARTICIPANT;PARTSTAT=ACCEPTED;RSVP=TRUE;CN="Doug Bem
 an":http://njyp.org/profile/DougBeman
ATTENDEE;ROLE=REQ-PARTICIPANT;PARTSTAT=TENTATIVE;RSVP=TRUE;CN="David E
 isenberg":http://njyp.org/profile/DavidEisenberg
ATTENDEE;ROLE=REQ-PARTICIPANT;PARTSTAT=TENTATIVE;RSVP=TRUE;CN="Jason W
 . Fuchs":http://njyp.org/profile/JasonWFuchs
ATTENDEE;ROLE=REQ-PARTICIPANT;PARTSTAT=TENTATIVE;RSVP=TRUE;CN="Anuj Ar
 ora":http://njyp.org/profile/AnujArora
ATTENDEE;ROLE=REQ-PARTICIPANT;PARTSTAT=TENTATIVE;RSVP=TRUE;CN=Jon:http
 ://njyp.org/profile/Jon
ATTENDEE;ROLE=REQ-PARTICIPANT;PARTSTAT=TENTATIVE;RSVP=TRUE;CN="ILIA RO
 MERO":http://njyp.org/profile/ILIAROMERO
ATTENDEE;ROLE=REQ-PARTICIPANT;PARTSTAT=TENTATIVE;RSVP=TRUE;CN="Karl  A
  Kraus":http://njyp.org/profile/KarlAKraus
ATTENDEE;ROLE=REQ-PARTICIPANT;PARTSTAT=TENTATIVE;RSVP=TRUE;CN=Chris:ht
 tp://njyp.org/profile/Chris
ATTENDEE;ROLE=REQ-PARTICIPANT;PARTSTAT=TENTATIVE;RSVP=TRUE;CN="Tim Tob
 itsch":http://njyp.org/profile/TimTobitsch
ATTENDEE;ROLE=REQ-PARTICIPANT;PARTSTAT=TENTATIVE;RSVP=TRUE;CN=Catalina
 :http://njyp.org/profile/CatalinaCandela
ATTENDEE;ROLE=REQ-PARTICIPANT;PARTSTAT=TENTATIVE;RSVP=TRUE;CN="Chris L
 ydon":http://njyp.org/profile/ChristopherLydon
ATTENDEE;ROLE=REQ-PARTICIPANT;PARTSTAT=TENTATIVE;RSVP=TRUE;CN="John K.
 ":http://njyp.org/profile/skiandpilot
ATTENDEE;ROLE=REQ-PARTICIPANT;PARTSTAT=TENTATIVE;RSVP=TRUE;CN="David R
 ussell":http://njyp.org/profile/DavidRussell
ATTENDEE;ROLE=REQ-PARTICIPANT;PARTSTAT=TENTATIVE;RSVP=TRUE;CN="Marc Se
 menta":http://njyp.org/profile/MarcSementa
ATTENDEE;ROLE=REQ-PARTICIPANT;PARTSTAT=TENTATIVE;RSVP=TRUE;CN=Jessica:
 http://njyp.org/profile/JessicaNatalizio
END:VEVENT
END:VCALENDAR
