BEGIN:VCALENDAR
PRODID:NingEventWidget-v1
VERSION:2.0
METHOD:PUBLISH
BEGIN:VTIMEZONE
TZID:America/New_York
X-LIC-LOCATION:America/New_York
BEGIN:DAYLIGHT
TZOFFSETFROM:-0500
TZOFFSETTO:-0400
TZNAME:EDT
DTSTART:19700308T020000
RRULE:FREQ=YEARLY;BYMONTH=3;BYDAY=2SU
END:DAYLIGHT
BEGIN:STANDARD
TZOFFSETFROM:-0400
TZOFFSETTO:-0500
TZNAME:EST
DTSTART:19701101T020000
RRULE:FREQ=YEARLY;BYMONTH=11;BYDAY=1SU
END:STANDARD
END:VTIMEZONE
BEGIN:VEVENT
UID:2938326:Event:147284
DTSTAMP:20260420T040915Z
SUMMARY:Somerville Happy Hour
DESCRIPTION:Sorry everyone. I am going to cancel tonight's Happy Hour 
 as there are not enough RSVPs.  To help make this happen next time pl
 ease RSVP ASAP.. when others see your YES RSVP they also then YES RSVP
  and the whole thing snowballs.\n \nHappy Hour is at One98 Lounge thi
 s month. There will be drink specials and 30 to 40 YPs who live and wo
 rk in the area. Expect to meet and greet several Members who are there
  to laugh, converse, and make new friends.  Who should attend: This is
  a MEMBERS ONLY event.  Please pay your dues before you attend. 1 ite
 m min. per person (food or drink).  What to expect: Our Happy Hours ar
 e very casual. There are no sign-in tables, no name tags, and no ice b
 reakers. Expect people to walk up to you to introduce themselves and f
 eel free to walk up to others who you do not know. Newbies are at EVER
 Y NJYP event so if this is your first, you won't be alone.  Host: TBD 
 will be hosting this event.  Directions/Parking: Look for street parki
 ng and follow public parking signs. http://198lounge.com/directions.ht
 ml This venue is connected to Scampis Seafood so if you can't find it 
 go into Scampis and ask them.  How to Find the Group: We are going to 
 take over the bar! Talk to everyone you see there.\n\nFor more informa
 tion visit http://njyp.org/events/somerville-happy-hour-10
DTSTART;TZID=America/New_York:20110310T180000
DTEND;TZID=America/New_York:20110310T200000
CATEGORIES:"somerset county", social, members
LOCATION:198 W Main St
WEBSITE:http://198lounge.com/directions.html
URL:http://198lounge.com/directions.html
CONTACT:
ORGANIZER;CN="Brian and Mike":http://njyp.org/profile/BrianMike
ATTACH;FMTTYPE="image/jpeg":http://storage.ning.com/topology/rest/1.0/
 file/get/1088679807?profile=original
ATTENDEE;ROLE=REQ-PARTICIPANT;PARTSTAT=ACCEPTED;RSVP=TRUE;CN=matt:http
 ://njyp.org/profile/mattp
ATTENDEE;ROLE=REQ-PARTICIPANT;PARTSTAT=ACCEPTED;RSVP=TRUE;CN=d:http://
 njyp.org/profile/d
ATTENDEE;ROLE=REQ-PARTICIPANT;PARTSTAT=ACCEPTED;RSVP=TRUE;CN="James So
 lano":http://njyp.org/profile/JamesSolano
ATTENDEE;ROLE=REQ-PARTICIPANT;PARTSTAT=ACCEPTED;RSVP=TRUE;CN="Tony Pan
 ariello":http://njyp.org/profile/TonyPanariello
ATTENDEE;ROLE=REQ-PARTICIPANT;PARTSTAT=ACCEPTED;RSVP=TRUE;CN=Chisoo:ht
 tp://njyp.org/profile/Chisoo
ATTENDEE;ROLE=REQ-PARTICIPANT;PARTSTAT=ACCEPTED;RSVP=TRUE;CN=Keira:htt
 p://njyp.org/profile/Keira
ATTENDEE;ROLE=REQ-PARTICIPANT;PARTSTAT=ACCEPTED;RSVP=TRUE;CN="Olga Ch"
 :http://njyp.org/profile/OlgaChaban
ATTENDEE;ROLE=REQ-PARTICIPANT;PARTSTAT=ACCEPTED;RSVP=TRUE;CN="Jose G."
 :http://njyp.org/profile/MrG
ATTENDEE;ROLE=REQ-PARTICIPANT;PARTSTAT=ACCEPTED;RSVP=TRUE;CN=Carey:htt
 p://njyp.org/profile/CareyF
ATTENDEE;ROLE=REQ-PARTICIPANT;PARTSTAT=ACCEPTED;RSVP=TRUE;CN="JW Scher
 m":http://njyp.org/profile/JWScherm
ATTENDEE;ROLE=REQ-PARTICIPANT;PARTSTAT=ACCEPTED;RSVP=TRUE;CN=Lizzie:ht
 tp://njyp.org/profile/ElizabethKuhns
ATTENDEE;ROLE=REQ-PARTICIPANT;PARTSTAT=ACCEPTED;RSVP=TRUE;CN=ARTHUR:ht
 tp://njyp.org/profile/ARTHUR
ATTENDEE;ROLE=REQ-PARTICIPANT;PARTSTAT=ACCEPTED;RSVP=TRUE;CN=Michelle:
 http://njyp.org/profile/Michelle768
ATTENDEE;ROLE=REQ-PARTICIPANT;PARTSTAT=ACCEPTED;RSVP=TRUE;CN=Melissa:h
 ttp://njyp.org/profile/Melissa0106
ATTENDEE;ROLE=REQ-PARTICIPANT;PARTSTAT=ACCEPTED;RSVP=TRUE;CN="Justin G
 ross":http://njyp.org/profile/JustinGross
ATTENDEE;ROLE=REQ-PARTICIPANT;PARTSTAT=ACCEPTED;RSVP=TRUE;CN=Arielle:h
 ttp://njyp.org/profile/Arielle
ATTENDEE;ROLE=REQ-PARTICIPANT;PARTSTAT=ACCEPTED;RSVP=TRUE;CN=David:htt
 p://njyp.org/profile/David
ATTENDEE;ROLE=REQ-PARTICIPANT;PARTSTAT=ACCEPTED;RSVP=TRUE;CN="Brian an
 d Mike":http://njyp.org/profile/BrianMike
ATTENDEE;ROLE=REQ-PARTICIPANT;PARTSTAT=ACCEPTED;RSVP=TRUE;CN=Richie:ht
 tp://njyp.org/profile/Richie
ATTENDEE;ROLE=REQ-PARTICIPANT;PARTSTAT=ACCEPTED;RSVP=TRUE;CN="Jennifer
  Redmond":http://njyp.org/profile/JenniferRedmond
ATTENDEE;ROLE=REQ-PARTICIPANT;PARTSTAT=TENTATIVE;RSVP=TRUE;CN=Doug:htt
 p://njyp.org/profile/Doug
ATTENDEE;ROLE=REQ-PARTICIPANT;PARTSTAT=TENTATIVE;RSVP=TRUE;CN=Emily:ht
 tp://njyp.org/profile/Emily812
ATTENDEE;ROLE=REQ-PARTICIPANT;PARTSTAT=TENTATIVE;RSVP=TRUE;CN="Shahroo
 z Bhopti":http://njyp.org/profile/speedlike
ATTENDEE;ROLE=REQ-PARTICIPANT;PARTSTAT=TENTATIVE;RSVP=TRUE;CN="Kristen
  Ann":http://njyp.org/profile/KristenAnn
ATTENDEE;ROLE=REQ-PARTICIPANT;PARTSTAT=TENTATIVE;RSVP=TRUE;CN="Juliann
 e E.":http://njyp.org/profile/Ellie
ATTENDEE;ROLE=REQ-PARTICIPANT;PARTSTAT=TENTATIVE;RSVP=TRUE;CN=Ardavan:
 http://njyp.org/profile/Ardavan
ATTENDEE;ROLE=REQ-PARTICIPANT;PARTSTAT=TENTATIVE;RSVP=TRUE;CN="Lori Bu
 rr":http://njyp.org/profile/LoriBurr
ATTENDEE;ROLE=REQ-PARTICIPANT;PARTSTAT=TENTATIVE;RSVP=TRUE;CN=Leah:htt
 p://njyp.org/profile/LeahZ
ATTENDEE;ROLE=REQ-PARTICIPANT;PARTSTAT=TENTATIVE;RSVP=TRUE;CN=Mindy:ht
 tp://njyp.org/profile/Mindy
ATTENDEE;ROLE=REQ-PARTICIPANT;PARTSTAT=TENTATIVE;RSVP=TRUE;CN=Jacquely
 n:http://njyp.org/profile/Jacquelyn
ATTENDEE;ROLE=REQ-PARTICIPANT;PARTSTAT=TENTATIVE;RSVP=TRUE;CN="Katrina
  Musa":http://njyp.org/profile/KatrinaMusa
ATTENDEE;ROLE=REQ-PARTICIPANT;PARTSTAT=TENTATIVE;RSVP=TRUE;CN="W.":htt
 p://njyp.org/profile/WalterHolm
ATTENDEE;ROLE=REQ-PARTICIPANT;PARTSTAT=TENTATIVE;RSVP=TRUE;CN="Nick Ol
 son":http://njyp.org/profile/NickOlson
ATTENDEE;ROLE=REQ-PARTICIPANT;PARTSTAT=TENTATIVE;RSVP=TRUE;CN=Nicole:h
 ttp://njyp.org/profile/Nicole986
ATTENDEE;ROLE=REQ-PARTICIPANT;PARTSTAT=TENTATIVE;RSVP=TRUE;CN="Hermeli
 nda Saez":http://njyp.org/profile/HermelindaSaez
ATTENDEE;ROLE=REQ-PARTICIPANT;PARTSTAT=TENTATIVE;RSVP=TRUE;CN=Matt:htt
 p://njyp.org/profile/Matt230
ATTENDEE;ROLE=REQ-PARTICIPANT;PARTSTAT=TENTATIVE;RSVP=TRUE;CN=Amanda:h
 ttp://njyp.org/profile/Amanda710
ATTENDEE;ROLE=REQ-PARTICIPANT;PARTSTAT=TENTATIVE;RSVP=TRUE;CN=Sarah:ht
 tp://njyp.org/profile/SarahBeth
ATTENDEE;ROLE=REQ-PARTICIPANT;PARTSTAT=TENTATIVE;RSVP=TRUE;CN=Robert:h
 ttp://njyp.org/profile/Robert882
ATTENDEE;ROLE=REQ-PARTICIPANT;PARTSTAT=TENTATIVE;RSVP=TRUE;CN=Amy:http
 ://njyp.org/profile/Amy455
ATTENDEE;ROLE=REQ-PARTICIPANT;PARTSTAT=TENTATIVE;RSVP=TRUE;CN=Alessand
 ra:http://njyp.org/profile/AlessandraDeCicco
ATTENDEE;ROLE=REQ-PARTICIPANT;PARTSTAT=TENTATIVE;RSVP=TRUE;CN=Kathy:ht
 tp://njyp.org/profile/Kathy
ATTENDEE;ROLE=REQ-PARTICIPANT;PARTSTAT=TENTATIVE;RSVP=TRUE;CN=Heather:
 http://njyp.org/profile/HeatherJCS
ATTENDEE;ROLE=REQ-PARTICIPANT;PARTSTAT=TENTATIVE;RSVP=TRUE;CN="Kimberl
 y Bogden":http://njyp.org/profile/KimberlyBogden
ATTENDEE;ROLE=REQ-PARTICIPANT;PARTSTAT=TENTATIVE;RSVP=TRUE;CN="Nick Wo
 ng":http://njyp.org/profile/NickWong
END:VEVENT
END:VCALENDAR
