BEGIN:VCALENDAR
PRODID:NingEventWidget-v1
VERSION:2.0
METHOD:PUBLISH
BEGIN:VTIMEZONE
TZID:America/New_York
X-LIC-LOCATION:America/New_York
BEGIN:DAYLIGHT
TZOFFSETFROM:-0500
TZOFFSETTO:-0400
TZNAME:EDT
DTSTART:19700308T020000
RRULE:FREQ=YEARLY;BYMONTH=3;BYDAY=2SU
END:DAYLIGHT
BEGIN:STANDARD
TZOFFSETFROM:-0400
TZOFFSETTO:-0500
TZNAME:EST
DTSTART:19701101T020000
RRULE:FREQ=YEARLY;BYMONTH=11;BYDAY=1SU
END:STANDARD
END:VTIMEZONE
BEGIN:VEVENT
UID:2938326:Event:131975
DTSTAMP:20260420T093220Z
SUMMARY:Somerville Happy Hour
DESCRIPTION:This month we are back at Tapastre in Somerville. You will
  be amazed by their beer selection and delighted by the $4 glasses of 
 wine. Expect to meet and greet several NJYP members who are there to l
 augh, converse, and make new friends. Time to mix and mingle, mingle a
 nd mix with NJ Young Professionals at this Somerville Happy Hour!  Who
  can attend: MEMBERS ONLY. Please pay your dues and RSVP to attend. 1 
 item minimum per person.  What to expect: Our Happy Hours are very cas
 ual. There are no sign-in tables, no name tags, and no ice breakers. E
 xpect people to walk up to you to introduce themselves and feel free t
 o walk up to others who you do not know. Newbies are at EVERY NJYP eve
 nt so if this is your first, you won't be alone.  Specials until 7pm O
 NLY: Beer Bottles $2 (amazing selection!) Martini Specials $6 Wines fo
 r $4 $10 min credit card charge so bring cash  NJYP Host: TBD will be 
 hosting.  Directions/Parking: There is a big lot behind Tapastre, foll
 ow the Public Parking Signs.  How to Find the Group: Meet us at the ba
 r, look for signs and ask staff. We will pretty much be the only ones 
 at the bar. \n\nTapastre is attached to Il Pomodoro. When driving arou
 nd look for this “House” which is really a restaurant. The entranc
 e is on the side.\n\nFor more information visit http://njyp.org/events
 /somerville-happy-hour-9
DTSTART;TZID=America/New_York:20110209T180000
DTEND;TZID=America/New_York:20110209T200000
CATEGORIES:"somerset county", social, members
LOCATION:Tapastre
WEBSITE:http://www.tapastre.com/
URL:http://www.tapastre.com/
CONTACT:
ORGANIZER;CN="Brian and Mike":http://njyp.org/profile/BrianMike
ATTACH;FMTTYPE="image/jpeg":http://storage.ning.com/topology/rest/1.0/
 file/get/1088675835?profile=original
ATTENDEE;ROLE=REQ-PARTICIPANT;PARTSTAT=ACCEPTED;RSVP=TRUE;CN=Carey:htt
 p://njyp.org/profile/CareyF
ATTENDEE;ROLE=REQ-PARTICIPANT;PARTSTAT=ACCEPTED;RSVP=TRUE;CN=Steve:htt
 p://njyp.org/profile/Steve104
ATTENDEE;ROLE=REQ-PARTICIPANT;PARTSTAT=ACCEPTED;RSVP=TRUE;CN=Michelle:
 http://njyp.org/profile/Michelle802
ATTENDEE;ROLE=REQ-PARTICIPANT;PARTSTAT=ACCEPTED;RSVP=TRUE;CN=Courtney:
 http://njyp.org/profile/Courtney78
ATTENDEE;ROLE=REQ-PARTICIPANT;PARTSTAT=ACCEPTED;RSVP=TRUE;CN="Mark Oli
 ver":http://njyp.org/profile/MarkOliver
ATTENDEE;ROLE=REQ-PARTICIPANT;PARTSTAT=ACCEPTED;RSVP=TRUE;CN="Julianne
  E.":http://njyp.org/profile/Ellie
ATTENDEE;ROLE=REQ-PARTICIPANT;PARTSTAT=ACCEPTED;RSVP=TRUE;CN="Brian Ri
 beiro":http://njyp.org/profile/BrianRibeiro
ATTENDEE;ROLE=REQ-PARTICIPANT;PARTSTAT=ACCEPTED;RSVP=TRUE;CN=Melissa:h
 ttp://njyp.org/profile/Melissa0106
ATTENDEE;ROLE=REQ-PARTICIPANT;PARTSTAT=ACCEPTED;RSVP=TRUE;CN=Jacquelyn
 :http://njyp.org/profile/Jacquelyn
ATTENDEE;ROLE=REQ-PARTICIPANT;PARTSTAT=ACCEPTED;RSVP=TRUE;CN=Carla:htt
 p://njyp.org/profile/Carla
ATTENDEE;ROLE=REQ-PARTICIPANT;PARTSTAT=ACCEPTED;RSVP=TRUE;CN=Heather:h
 ttp://njyp.org/profile/HeatherJCS
ATTENDEE;ROLE=REQ-PARTICIPANT;PARTSTAT=ACCEPTED;RSVP=TRUE;CN="Jon Berr
 ian":http://njyp.org/profile/JonBerrian
ATTENDEE;ROLE=REQ-PARTICIPANT;PARTSTAT=ACCEPTED;RSVP=TRUE;CN=Kayda:htt
 p://njyp.org/profile/Kayda
ATTENDEE;ROLE=REQ-PARTICIPANT;PARTSTAT=ACCEPTED;RSVP=TRUE;CN=Laura:htt
 p://njyp.org/profile/Laura668
ATTENDEE;ROLE=REQ-PARTICIPANT;PARTSTAT=ACCEPTED;RSVP=TRUE;CN=Judy:http
 ://njyp.org/profile/Judy612
ATTENDEE;ROLE=REQ-PARTICIPANT;PARTSTAT=ACCEPTED;RSVP=TRUE;CN=Keira:htt
 p://njyp.org/profile/Keira
ATTENDEE;ROLE=REQ-PARTICIPANT;PARTSTAT=ACCEPTED;RSVP=TRUE;CN=Dennis:ht
 tp://njyp.org/profile/Dennis711
ATTENDEE;ROLE=REQ-PARTICIPANT;PARTSTAT=ACCEPTED;RSVP=TRUE;CN="JW Scher
 m":http://njyp.org/profile/JWScherm
ATTENDEE;ROLE=REQ-PARTICIPANT;PARTSTAT=ACCEPTED;RSVP=TRUE;CN="Tom E. N
 owell IV":http://njyp.org/profile/TomENowellIV
ATTENDEE;ROLE=REQ-PARTICIPANT;PARTSTAT=ACCEPTED;RSVP=TRUE;CN=Kelly:htt
 p://njyp.org/profile/Kelly728
ATTENDEE;ROLE=REQ-PARTICIPANT;PARTSTAT=ACCEPTED;RSVP=TRUE;CN=Kelley:ht
 tp://njyp.org/profile/KelleyBoyle
ATTENDEE;ROLE=REQ-PARTICIPANT;PARTSTAT=ACCEPTED;RSVP=TRUE;CN=David:htt
 p://njyp.org/profile/David
ATTENDEE;ROLE=REQ-PARTICIPANT;PARTSTAT=ACCEPTED;RSVP=TRUE;CN=d:http://
 njyp.org/profile/d
ATTENDEE;ROLE=REQ-PARTICIPANT;PARTSTAT=ACCEPTED;RSVP=TRUE;CN="Brian Ph
 illips":http://njyp.org/profile/BrianPhillips
ATTENDEE;ROLE=REQ-PARTICIPANT;PARTSTAT=ACCEPTED;RSVP=TRUE;CN="Jeffrey 
 Rieske":http://njyp.org/profile/jwr
ATTENDEE;ROLE=REQ-PARTICIPANT;PARTSTAT=ACCEPTED;RSVP=TRUE;CN="Tony Pan
 ariello":http://njyp.org/profile/TonyPanariello
ATTENDEE;ROLE=REQ-PARTICIPANT;PARTSTAT=ACCEPTED;RSVP=TRUE;CN=sarah:htt
 p://njyp.org/profile/sarah84
ATTENDEE;ROLE=REQ-PARTICIPANT;PARTSTAT=ACCEPTED;RSVP=TRUE;CN="Brian an
 d Mike":http://njyp.org/profile/BrianMike
ATTENDEE;ROLE=REQ-PARTICIPANT;PARTSTAT=TENTATIVE;RSVP=TRUE;CN="Lori Bu
 rr":http://njyp.org/profile/LoriBurr
ATTENDEE;ROLE=REQ-PARTICIPANT;PARTSTAT=TENTATIVE;RSVP=TRUE;CN="Justin 
 Gross":http://njyp.org/profile/JustinGross
ATTENDEE;ROLE=REQ-PARTICIPANT;PARTSTAT=TENTATIVE;RSVP=TRUE;CN="Lorrain
 e Malonza":http://njyp.org/profile/LorraineMalonza
ATTENDEE;ROLE=REQ-PARTICIPANT;PARTSTAT=TENTATIVE;RSVP=TRUE;CN=Susan:ht
 tp://njyp.org/profile/SusanChrusciel
ATTENDEE;ROLE=REQ-PARTICIPANT;PARTSTAT=TENTATIVE;RSVP=TRUE;CN=Ardavan:
 http://njyp.org/profile/Ardavan
ATTENDEE;ROLE=REQ-PARTICIPANT;PARTSTAT=TENTATIVE;RSVP=TRUE;CN="Nick Ol
 son":http://njyp.org/profile/NickOlson
ATTENDEE;ROLE=REQ-PARTICIPANT;PARTSTAT=TENTATIVE;RSVP=TRUE;CN="Janine 
 Salerno":http://njyp.org/profile/JanineSalerno
ATTENDEE;ROLE=REQ-PARTICIPANT;PARTSTAT=TENTATIVE;RSVP=TRUE;CN="JENNIFE
 R tURKISH":http://njyp.org/profile/JENNIFERtURKISH
ATTENDEE;ROLE=REQ-PARTICIPANT;PARTSTAT=TENTATIVE;RSVP=TRUE;CN="Nick Wo
 ng":http://njyp.org/profile/NickWong
ATTENDEE;ROLE=REQ-PARTICIPANT;PARTSTAT=TENTATIVE;RSVP=TRUE;CN=matt:htt
 p://njyp.org/profile/mattp
ATTENDEE;ROLE=REQ-PARTICIPANT;PARTSTAT=TENTATIVE;RSVP=TRUE;CN=Lena:htt
 p://njyp.org/profile/Lena
ATTENDEE;ROLE=REQ-PARTICIPANT;PARTSTAT=TENTATIVE;RSVP=TRUE;CN=Alessand
 ra:http://njyp.org/profile/AlessandraDeCicco
ATTENDEE;ROLE=REQ-PARTICIPANT;PARTSTAT=TENTATIVE;RSVP=TRUE;CN=Colleen:
 http://njyp.org/profile/Colleen
ATTENDEE;ROLE=REQ-PARTICIPANT;PARTSTAT=TENTATIVE;RSVP=TRUE;CN="Julie H
 e":http://njyp.org/profile/JulieHe
ATTENDEE;ROLE=REQ-PARTICIPANT;PARTSTAT=TENTATIVE;RSVP=TRUE;CN="Lauren 
 Swern":http://njyp.org/profile/LaurenSwern
ATTENDEE;ROLE=REQ-PARTICIPANT;PARTSTAT=TENTATIVE;RSVP=TRUE;CN=Jenn:htt
 p://njyp.org/profile/Jenn583
ATTENDEE;ROLE=REQ-PARTICIPANT;PARTSTAT=TENTATIVE;RSVP=TRUE;CN=Amy:http
 ://njyp.org/profile/Amy455
ATTENDEE;ROLE=REQ-PARTICIPANT;PARTSTAT=TENTATIVE;RSVP=TRUE;CN=Robert:h
 ttp://njyp.org/profile/Robert882
ATTENDEE;ROLE=REQ-PARTICIPANT;PARTSTAT=TENTATIVE;RSVP=TRUE;CN=Doug:htt
 p://njyp.org/profile/Doug
ATTENDEE;ROLE=REQ-PARTICIPANT;PARTSTAT=TENTATIVE;RSVP=TRUE;CN=Tiffany:
 http://njyp.org/profile/TLM
ATTENDEE;ROLE=REQ-PARTICIPANT;PARTSTAT=TENTATIVE;RSVP=TRUE;CN="Jose G.
 ":http://njyp.org/profile/MrG
ATTENDEE;ROLE=REQ-PARTICIPANT;PARTSTAT=TENTATIVE;RSVP=TRUE;CN="Cindy L
 in":http://njyp.org/profile/CindyLin
ATTENDEE;ROLE=REQ-PARTICIPANT;PARTSTAT=TENTATIVE;RSVP=TRUE;CN="Kristen
  Ann":http://njyp.org/profile/KristenAnn
ATTENDEE;ROLE=REQ-PARTICIPANT;PARTSTAT=TENTATIVE;RSVP=TRUE;CN="Robin W
 eaver":http://njyp.org/profile/RobinWeaver
END:VEVENT
END:VCALENDAR
