BEGIN:VCALENDAR
PRODID:NingEventWidget-v1
VERSION:2.0
METHOD:PUBLISH
BEGIN:VTIMEZONE
TZID:America/New_York
X-LIC-LOCATION:America/New_York
BEGIN:DAYLIGHT
TZOFFSETFROM:-0500
TZOFFSETTO:-0400
TZNAME:EDT
DTSTART:19700308T020000
RRULE:FREQ=YEARLY;BYMONTH=3;BYDAY=2SU
END:DAYLIGHT
BEGIN:STANDARD
TZOFFSETFROM:-0400
TZOFFSETTO:-0500
TZNAME:EST
DTSTART:19701101T020000
RRULE:FREQ=YEARLY;BYMONTH=11;BYDAY=1SU
END:STANDARD
END:VTIMEZONE
BEGIN:VEVENT
UID:2938326:Event:7447
DTSTAMP:20260420T180451Z
SUMMARY:Somerville Happy Hour
DESCRIPTION:This month we are moving the Happy Hour over to the Tapast
 re in Somerville. You will be amazed by their beer selection and delig
 hted by the free “bar bites” they will have out. Expect to meet an
 d greet several NJYP members who are there to laugh, converse, and mak
 e new friends. Time to mix and mingle, mingle and mix with NJ Young Pr
 ofessionals at this Somerville Happy Hour!\n\nWho should attend:\nAnyo
 ne who is 21-39 years old.\n\nCost:\nThis event is free but please RSV
 P so we know you are coming.\n\nWhat to expect:\nOur Happy Hours are v
 ery casual. There are no sign-in tables, no name tags, and no ice brea
 kers. Expect people to walk up to you to introduce themselves and feel
  free to walk up to others who you do not know. Newbies are at EVERY N
 JYP event so if this is your first, you won't be alone.\n\nSpecials un
 til 7pm ONLY:\nBeer Bottles $2 (amazing selection!)\nMartini Specials 
 $6\nComplimentary \"Chef Choice\" Bar Bites\n\nDirections/Parking:\nTh
 ere is a big lot behind Tapastre, follow the Public Parking Signs.\n\n
 How to Find the Group:\nMeet us at the bar, look for signs and ask sta
 ff.\nWe will pretty much be the only ones at the bar.\n\n\nTapastre is
  attached to Il Pomodoro. When driving around look for this “House
  which is really a restaurant. The entrance is on the side.\n\nFor mo
 re information visit http://njyp.org/events/somerville-happy-hour
DTSTART;TZID=America/New_York:20090722T180000
DTEND;TZID=America/New_York:20090722T200000
CATEGORIES:"somerset county", social
LOCATION:Tapastre
WEBSITE:http://www.tapastre.com/
URL:http://www.tapastre.com/
CONTACT:
ORGANIZER;CN="Brian and Mike":http://njyp.org/profile/BrianMike
ATTACH;FMTTYPE="image/jpeg":http://storage.ning.com/topology/rest/1.0/
 file/get/1088540089?profile=original
ATTENDEE;ROLE=REQ-PARTICIPANT;PARTSTAT=ACCEPTED;RSVP=TRUE;CN=Jen:http:
 //njyp.org/profile/JenM
ATTENDEE;ROLE=REQ-PARTICIPANT;PARTSTAT=ACCEPTED;RSVP=TRUE;CN="Nick Won
 g":http://njyp.org/profile/NickWong
ATTENDEE;ROLE=REQ-PARTICIPANT;PARTSTAT=ACCEPTED;RSVP=TRUE;CN="George M
 orcos":http://njyp.org/profile/GeorgeMorcos
ATTENDEE;ROLE=REQ-PARTICIPANT;PARTSTAT=ACCEPTED;RSVP=TRUE;CN="Patricia
  Brennan":http://njyp.org/profile/PatriciaBrennan
ATTENDEE;ROLE=REQ-PARTICIPANT;PARTSTAT=ACCEPTED;RSVP=TRUE;CN="Gay Gonz
 ales":http://njyp.org/profile/GayGonzales
ATTENDEE;ROLE=REQ-PARTICIPANT;PARTSTAT=ACCEPTED;RSVP=TRUE;CN="Christin
 e Berry":http://njyp.org/profile/ChristineBerry
ATTENDEE;ROLE=REQ-PARTICIPANT;PARTSTAT=ACCEPTED;RSVP=TRUE;CN=Charity:h
 ttp://njyp.org/profile/CharityLynnFues
ATTENDEE;ROLE=REQ-PARTICIPANT;PARTSTAT=ACCEPTED;RSVP=TRUE;CN="Christin
 a Seigel":http://njyp.org/profile/ChristinaSeigel
ATTENDEE;ROLE=REQ-PARTICIPANT;PARTSTAT=ACCEPTED;RSVP=TRUE;CN="Olga Ch"
 :http://njyp.org/profile/OlgaChaban
ATTENDEE;ROLE=REQ-PARTICIPANT;PARTSTAT=ACCEPTED;RSVP=TRUE;CN="Karen S.
 ":http://njyp.org/profile/KarenS
ATTENDEE;ROLE=REQ-PARTICIPANT;PARTSTAT=ACCEPTED;RSVP=TRUE;CN=Kathleen:
 http://njyp.org/profile/Kathleen463
ATTENDEE;ROLE=REQ-PARTICIPANT;PARTSTAT=ACCEPTED;RSVP=TRUE;CN=JR:http:/
 /njyp.org/profile/JerilynHansen
ATTENDEE;ROLE=REQ-PARTICIPANT;PARTSTAT=ACCEPTED;RSVP=TRUE;CN=Aqeela:ht
 tp://njyp.org/profile/AqeelaJabar
ATTENDEE;ROLE=REQ-PARTICIPANT;PARTSTAT=ACCEPTED;RSVP=TRUE;CN=Serkan:ht
 tp://njyp.org/profile/ST
ATTENDEE;ROLE=REQ-PARTICIPANT;PARTSTAT=ACCEPTED;RSVP=TRUE;CN=Chris:htt
 p://njyp.org/profile/Chris
ATTENDEE;ROLE=REQ-PARTICIPANT;PARTSTAT=ACCEPTED;RSVP=TRUE;CN="Carrie N
 .":http://njyp.org/profile/CarrieNeigel
ATTENDEE;ROLE=REQ-PARTICIPANT;PARTSTAT=ACCEPTED;RSVP=TRUE;CN="Kate Swe
 eney":http://njyp.org/profile/KateSweeney
ATTENDEE;ROLE=REQ-PARTICIPANT;PARTSTAT=ACCEPTED;RSVP=TRUE;CN="Kendall 
 R.":http://njyp.org/profile/KR
ATTENDEE;ROLE=REQ-PARTICIPANT;PARTSTAT=ACCEPTED;RSVP=TRUE;CN="Neel Aro
 on":http://njyp.org/profile/NeelAroon
ATTENDEE;ROLE=REQ-PARTICIPANT;PARTSTAT=ACCEPTED;RSVP=TRUE;CN="Serena V
 aldes":http://njyp.org/profile/SerenaValdes
ATTENDEE;ROLE=REQ-PARTICIPANT;PARTSTAT=ACCEPTED;RSVP=TRUE;CN="Fatima L
 atif":http://njyp.org/profile/FatimaLatif
ATTENDEE;ROLE=REQ-PARTICIPANT;PARTSTAT=ACCEPTED;RSVP=TRUE;CN="Kevin J.
  Plunkett":http://njyp.org/profile/KevinJPlunkett
ATTENDEE;ROLE=REQ-PARTICIPANT;PARTSTAT=ACCEPTED;RSVP=TRUE;CN="Kelly Jo
 nes":http://njyp.org/profile/KellyJones
ATTENDEE;ROLE=REQ-PARTICIPANT;PARTSTAT=ACCEPTED;RSVP=TRUE;CN="Joshua C
 hermak":http://njyp.org/profile/JoshuaChermak
ATTENDEE;ROLE=REQ-PARTICIPANT;PARTSTAT=ACCEPTED;RSVP=TRUE;CN="Jill Che
 n":http://njyp.org/profile/JillChen
ATTENDEE;ROLE=REQ-PARTICIPANT;PARTSTAT=ACCEPTED;RSVP=TRUE;CN=Susan:htt
 p://njyp.org/profile/Susan
ATTENDEE;ROLE=REQ-PARTICIPANT;PARTSTAT=ACCEPTED;RSVP=TRUE;CN="JW Scher
 m":http://njyp.org/profile/JWScherm
ATTENDEE;ROLE=REQ-PARTICIPANT;PARTSTAT=ACCEPTED;RSVP=TRUE;CN=Jennie:ht
 tp://njyp.org/profile/junglebunnie
ATTENDEE;ROLE=REQ-PARTICIPANT;PARTSTAT=ACCEPTED;RSVP=TRUE;CN=Sara:http
 ://njyp.org/profile/SaraLevenstein
ATTENDEE;ROLE=REQ-PARTICIPANT;PARTSTAT=ACCEPTED;RSVP=TRUE;CN="Kokil Ch
 achra":http://njyp.org/profile/KokilChachra
ATTENDEE;ROLE=REQ-PARTICIPANT;PARTSTAT=ACCEPTED;RSVP=TRUE;CN=Lizzie:ht
 tp://njyp.org/profile/ElizabethKuhns
ATTENDEE;ROLE=REQ-PARTICIPANT;PARTSTAT=ACCEPTED;RSVP=TRUE;CN="Brian an
 d Mike":http://njyp.org/profile/BrianMike
ATTENDEE;ROLE=REQ-PARTICIPANT;PARTSTAT=TENTATIVE;RSVP=TRUE;CN=Jennifer
 :http://njyp.org/profile/Jennifer673
ATTENDEE;ROLE=REQ-PARTICIPANT;PARTSTAT=TENTATIVE;RSVP=TRUE;CN=d:http:/
 /njyp.org/profile/d
ATTENDEE;ROLE=REQ-PARTICIPANT;PARTSTAT=TENTATIVE;RSVP=TRUE;CN=Jason:ht
 tp://njyp.org/profile/Jasonnn
ATTENDEE;ROLE=REQ-PARTICIPANT;PARTSTAT=TENTATIVE;RSVP=TRUE;CN="Joshua 
 Langweil":http://njyp.org/profile/JoshuaLangweil
ATTENDEE;ROLE=REQ-PARTICIPANT;PARTSTAT=TENTATIVE;RSVP=TRUE;CN=Doug:htt
 p://njyp.org/profile/Doug
ATTENDEE;ROLE=REQ-PARTICIPANT;PARTSTAT=TENTATIVE;RSVP=TRUE;CN="Dennis 
 Lee":http://njyp.org/profile/leeden
ATTENDEE;ROLE=REQ-PARTICIPANT;PARTSTAT=TENTATIVE;RSVP=TRUE;CN="Gina Ca
 ngialosi":http://njyp.org/profile/GinaCangialosi
ATTENDEE;ROLE=REQ-PARTICIPANT;PARTSTAT=TENTATIVE;RSVP=TRUE;CN="Allison
  Williams":http://njyp.org/profile/AllisonWilliams
ATTENDEE;ROLE=REQ-PARTICIPANT;PARTSTAT=TENTATIVE;RSVP=TRUE;CN=Kevin:ht
 tp://njyp.org/profile/Kevin
ATTENDEE;ROLE=REQ-PARTICIPANT;PARTSTAT=TENTATIVE;RSVP=TRUE;CN=nicole:h
 ttp://njyp.org/profile/nicole
ATTENDEE;ROLE=REQ-PARTICIPANT;PARTSTAT=TENTATIVE;RSVP=TRUE;CN="Sarah M
 unch":http://njyp.org/profile/SarahMunch
ATTENDEE;ROLE=REQ-PARTICIPANT;PARTSTAT=TENTATIVE;RSVP=TRUE;CN=Elizabet
 h:http://njyp.org/profile/ElizabethWilliams
ATTENDEE;ROLE=REQ-PARTICIPANT;PARTSTAT=TENTATIVE;RSVP=TRUE;CN="A D Y":
 http://njyp.org/profile/ADY
ATTENDEE;ROLE=REQ-PARTICIPANT;PARTSTAT=TENTATIVE;RSVP=TRUE;CN="Marc Se
 menta":http://njyp.org/profile/MarcSementa
ATTENDEE;ROLE=REQ-PARTICIPANT;PARTSTAT=TENTATIVE;RSVP=TRUE;CN="Mike Ma
 s":http://njyp.org/profile/MikeMas
ATTENDEE;ROLE=REQ-PARTICIPANT;PARTSTAT=TENTATIVE;RSVP=TRUE;CN=Kirsten:
 http://njyp.org/profile/KirstenSwanson
ATTENDEE;ROLE=REQ-PARTICIPANT;PARTSTAT=TENTATIVE;RSVP=TRUE;CN="Heather
   Kuhn":http://njyp.org/profile/HeatherKuhn
END:VEVENT
END:VCALENDAR
