BEGIN:VCALENDAR
PRODID:NingEventWidget-v1
VERSION:2.0
METHOD:PUBLISH
BEGIN:VTIMEZONE
TZID:America/New_York
X-LIC-LOCATION:America/New_York
BEGIN:DAYLIGHT
TZOFFSETFROM:-0500
TZOFFSETTO:-0400
TZNAME:EDT
DTSTART:19700308T020000
RRULE:FREQ=YEARLY;BYMONTH=3;BYDAY=2SU
END:DAYLIGHT
BEGIN:STANDARD
TZOFFSETFROM:-0400
TZOFFSETTO:-0500
TZNAME:EST
DTSTART:19701101T020000
RRULE:FREQ=YEARLY;BYMONTH=11;BYDAY=1SU
END:STANDARD
END:VTIMEZONE
BEGIN:VEVENT
UID:2938326:Event:40239
DTSTAMP:20260420T192156Z
SUMMARY:Spanish Speakers: Beginners Dinner
DESCRIPTION:OLD DATE: 2.16.10\nNEW DATE: 2.23.10\n\nThis month we are 
 going back to the basics! Did you take Spanish in HS or College? Can y
 ou have a simple conversation with locals in a Spanish speaking countr
 y? As long as you have a basic grasp of the language you will fit righ
 t in! Join us for drinks and dinner at the brand new Sliders resturant
 .\n\nNot sure you can speak Basic Spanish? Check out this video, http:
 //www.youtube.com/watch?v=KZzPFakwNEY and for a good laugh go here, ht
 tp://www.youtube.com/watch?v=ngRq82c8Baw\n\nWho Can Attend:\nThis will
  be a Members only event, aka you paid your Membership Dues.\nTickets 
 are NOT required but you MUST print out a copy of your NJYP profile pa
 ge as proof that you paid your dues. In lieu of printing you can also 
 pull up your profile on your smart phone (bookmark your URL).\n\nCost:
 \nFREE, but please RSVP (to the right).\nYou will pay for what you ord
 er, bring cash.\n\nHost:\nGreg will be hosting this event.\n\nHow to F
 ind the Group:\nMeet us at Sliders and look for signs. We will grab so
 me tables right away.\n\nDirections:\nhttp://slidersongeorge.com/\n\nF
 or more information visit http://njyp.org/events/spanish-speakers-begi
 nners
DTSTART;TZID=America/New_York:20100223T183000
DTEND;TZID=America/New_York:20100223T200000
CATEGORIES:"middlesex county", social
LOCATION:Sliders
WEBSITE:http://slidersongeorge.com/
URL:http://slidersongeorge.com/
CONTACT:
ORGANIZER;CN="Brian and Mike":http://njyp.org/profile/BrianMike
ATTACH;FMTTYPE="image/jpeg":http://storage.ning.com/topology/rest/1.0/
 file/get/1088590595?profile=original
ATTENDEE;ROLE=REQ-PARTICIPANT;PARTSTAT=ACCEPTED;RSVP=TRUE;CN=Christine
 :http://njyp.org/profile/ChristinePflederer
ATTENDEE;ROLE=REQ-PARTICIPANT;PARTSTAT=ACCEPTED;RSVP=TRUE;CN="Michael 
 Roselle":http://njyp.org/profile/MichaelRoselle
ATTENDEE;ROLE=REQ-PARTICIPANT;PARTSTAT=ACCEPTED;RSVP=TRUE;CN=Solangee:
 http://njyp.org/profile/Solangee
ATTENDEE;ROLE=REQ-PARTICIPANT;PARTSTAT=ACCEPTED;RSVP=TRUE;CN=Marcelo:h
 ttp://njyp.org/profile/EzraS
ATTENDEE;ROLE=REQ-PARTICIPANT;PARTSTAT=ACCEPTED;RSVP=TRUE;CN="Joanna N
 . Garcia":http://njyp.org/profile/JoannaNGarcia
ATTENDEE;ROLE=REQ-PARTICIPANT;PARTSTAT=TENTATIVE;RSVP=TRUE;CN="Kristen
  Ann":http://njyp.org/profile/KristenAnn
ATTENDEE;ROLE=REQ-PARTICIPANT;PARTSTAT=TENTATIVE;RSVP=TRUE;CN="Olga Ch
 ":http://njyp.org/profile/OlgaChaban
ATTENDEE;ROLE=REQ-PARTICIPANT;PARTSTAT=TENTATIVE;RSVP=TRUE;CN="William
  Sandoval":http://njyp.org/profile/WilliamSandoval
END:VEVENT
END:VCALENDAR
