BEGIN:VCALENDAR
PRODID:NingEventWidget-v1
VERSION:2.0
METHOD:PUBLISH
BEGIN:VTIMEZONE
TZID:America/New_York
X-LIC-LOCATION:America/New_York
BEGIN:DAYLIGHT
TZOFFSETFROM:-0500
TZOFFSETTO:-0400
TZNAME:EDT
DTSTART:19700308T020000
RRULE:FREQ=YEARLY;BYMONTH=3;BYDAY=2SU
END:DAYLIGHT
BEGIN:STANDARD
TZOFFSETFROM:-0400
TZOFFSETTO:-0500
TZNAME:EST
DTSTART:19701101T020000
RRULE:FREQ=YEARLY;BYMONTH=11;BYDAY=1SU
END:STANDARD
END:VTIMEZONE
BEGIN:VEVENT
UID:2938326:Event:11285
DTSTAMP:20260421T120638Z
SUMMARY:Spanish Speakers Dinner
DESCRIPTION:Hablas espanol? Then join us for this Spanish Speakers Din
 ner. We will try to speak ONLY Spanish the entire night. But do not be
  afraid! All skill levels are invited to attend and the more advanced 
 speakers will be there to help the beginners. The night is guaranteed 
 to be filled with buena comida, personas fantasticas, y mucha diversio
 n!\n\nWho should attend:\nAnyone who is 21-39 years old.\nAll skill le
 vels, whether you've been speaking Spanish since you were 2 or since l
 ast semester. Please, serious RSVPs only though... you must have some 
 grasp of the language.\n\nSchedule:\n6:30 Meet and Greet at the Bar\n7
 :00 Group will be seated for dinner\n\nCost:\n$20 per person will incl
 ude a full meal, soda, tax, and tip!\nYou MUST RSVP (to the right) if 
 you wish to attend.\nYou must be a PAID ($9.99) Member to attend.\n\nH
 ost:\nGreg will be hosting this event.\n\nHow to find the group:\nAsk 
 staff or look for signs. We will meet at the bar first.\nPlease be on 
 time.\n\nFor more information visit http://njyp.org/events/spanish-spe
 akers-dinner-1
DTSTART;TZID=America/New_York:20090804T183000
DTEND;TZID=America/New_York:20090804T210000
CATEGORIES:"middlesex county", social
LOCATION:Harvest Moon
WEBSITE:http://www.harvestmoonbrewery.com/
URL:http://www.harvestmoonbrewery.com/
CONTACT:
ORGANIZER;CN="Brian and Mike":http://njyp.org/profile/BrianMike
ATTACH;FMTTYPE="image/jpeg":http://storage.ning.com/topology/rest/1.0/
 file/get/1088545704?profile=original
ATTENDEE;ROLE=REQ-PARTICIPANT;PARTSTAT=ACCEPTED;RSVP=TRUE;CN="Joanna N
 . Garcia":http://njyp.org/profile/JoannaNGarcia
ATTENDEE;ROLE=REQ-PARTICIPANT;PARTSTAT=ACCEPTED;RSVP=TRUE;CN=Anjali:ht
 tp://njyp.org/profile/Anjali
ATTENDEE;ROLE=REQ-PARTICIPANT;PARTSTAT=ACCEPTED;RSVP=TRUE;CN="Ed H":ht
 tp://njyp.org/profile/EdH
ATTENDEE;ROLE=REQ-PARTICIPANT;PARTSTAT=ACCEPTED;RSVP=TRUE;CN=Anita:htt
 p://njyp.org/profile/Anita
ATTENDEE;ROLE=REQ-PARTICIPANT;PARTSTAT=ACCEPTED;RSVP=TRUE;CN=Solangee:
 http://njyp.org/profile/Solangee
ATTENDEE;ROLE=REQ-PARTICIPANT;PARTSTAT=ACCEPTED;RSVP=TRUE;CN="ILIA ROM
 ERO":http://njyp.org/profile/ILIAROMERO
ATTENDEE;ROLE=REQ-PARTICIPANT;PARTSTAT=ACCEPTED;RSVP=TRUE;CN="james mi
 kusi":http://njyp.org/profile/jimbox
ATTENDEE;ROLE=REQ-PARTICIPANT;PARTSTAT=ACCEPTED;RSVP=TRUE;CN="Chip Rob
 inson":http://njyp.org/profile/ChipRobinson
ATTENDEE;ROLE=REQ-PARTICIPANT;PARTSTAT=TENTATIVE;RSVP=TRUE;CN="Fan Fan
 ":http://njyp.org/profile/FanFan
END:VEVENT
END:VCALENDAR
