BEGIN:VCALENDAR
PRODID:NingEventWidget-v1
VERSION:2.0
METHOD:PUBLISH
BEGIN:VTIMEZONE
TZID:America/New_York
X-LIC-LOCATION:America/New_York
BEGIN:DAYLIGHT
TZOFFSETFROM:-0500
TZOFFSETTO:-0400
TZNAME:EDT
DTSTART:19700308T020000
RRULE:FREQ=YEARLY;BYMONTH=3;BYDAY=2SU
END:DAYLIGHT
BEGIN:STANDARD
TZOFFSETFROM:-0400
TZOFFSETTO:-0500
TZNAME:EST
DTSTART:19701101T020000
RRULE:FREQ=YEARLY;BYMONTH=11;BYDAY=1SU
END:STANDARD
END:VTIMEZONE
BEGIN:VEVENT
UID:2938326:Event:24189
DTSTAMP:20260420T073548Z
SUMMARY:Spanish Speakers Dinner *Beginners*
DESCRIPTION:This month we are going back to the basics! Did you take S
 panish in HS or College? Can you have a simple conversation with local
 s in a Spanish speaking country? As long as you have a basic grasp of 
 the language you will fit right in! Join us for dinner at Raul’s the
 n for some drinks at one of the local Morristown bars.\n\nNot sure you
  can speak Basic Spanish? Check out this video, http://www.youtube.com
 /watch?v=KZzPFakwNEY and for a good laugh go here, http://www.youtube.
 com/watch?v=ngRq82c8Baw\n\nWho Can Attend:\nThis is a “Members Only
  event.\nYou must be an NJYP Member (aka paid the Membership Dues).\
 n\nCost:\nFREE, but please RSVP (to the right).\nYou will pay for what
  you order at Raul’s, bring cash.\n\nHost:\nGreg will be hosting thi
 s event.\n\nHow to Find the Group:\nMeet us at Raul’s and look for s
 igns. We will grab some tables (it is counter service).\n\nDirections:
 \nThere is a public parking lot behind Raul’s.\nhttp://www.raulsempa
 nadas.com/\n\nFor more information visit http://njyp.org/events/spanis
 h-speakers-dinner-2
DTSTART;TZID=America/New_York:20091120T190000
DTEND;TZID=America/New_York:20091120T210000
CATEGORIES:"morris county", social
LOCATION:Raul's Empanadas
WEBSITE:http://www.raulsempanadas.com/
URL:http://www.raulsempanadas.com/
CONTACT:
ORGANIZER;CN="Brian and Mike":http://njyp.org/profile/BrianMike
ATTACH;FMTTYPE="image/jpeg":http://storage.ning.com/topology/rest/1.0/
 file/get/1088566776?profile=original
ATTENDEE;ROLE=REQ-PARTICIPANT;PARTSTAT=ACCEPTED;RSVP=TRUE;CN="Leo Bust
 os":http://njyp.org/profile/LeoBustos
ATTENDEE;ROLE=REQ-PARTICIPANT;PARTSTAT=ACCEPTED;RSVP=TRUE;CN="Chip Rob
 inson":http://njyp.org/profile/ChipRobinson
ATTENDEE;ROLE=REQ-PARTICIPANT;PARTSTAT=ACCEPTED;RSVP=TRUE;CN=Monica:ht
 tp://njyp.org/profile/Monica
ATTENDEE;ROLE=REQ-PARTICIPANT;PARTSTAT=ACCEPTED;RSVP=TRUE;CN="Katherin
 e Cuartas":http://njyp.org/profile/KatherineCuartas
ATTENDEE;ROLE=REQ-PARTICIPANT;PARTSTAT=ACCEPTED;RSVP=TRUE;CN="Joanna N
 . Garcia":http://njyp.org/profile/JoannaNGarcia
ATTENDEE;ROLE=REQ-PARTICIPANT;PARTSTAT=ACCEPTED;RSVP=TRUE;CN=Kathleen:
 http://njyp.org/profile/Kathleen463
ATTENDEE;ROLE=REQ-PARTICIPANT;PARTSTAT=ACCEPTED;RSVP=TRUE;CN="Julia Ru
 nte":http://njyp.org/profile/JuliaRunte
ATTENDEE;ROLE=REQ-PARTICIPANT;PARTSTAT=ACCEPTED;RSVP=TRUE;CN=Anita:htt
 p://njyp.org/profile/Anita
ATTENDEE;ROLE=REQ-PARTICIPANT;PARTSTAT=TENTATIVE;RSVP=TRUE;CN="Kristen
  Ann":http://njyp.org/profile/KristenAnn
ATTENDEE;ROLE=REQ-PARTICIPANT;PARTSTAT=TENTATIVE;RSVP=TRUE;CN="Stras G
 ofton":http://njyp.org/profile/StrasGofton
ATTENDEE;ROLE=REQ-PARTICIPANT;PARTSTAT=TENTATIVE;RSVP=TRUE;CN="Hassan 
 B Halak":http://njyp.org/profile/HassanBHalak
ATTENDEE;ROLE=REQ-PARTICIPANT;PARTSTAT=TENTATIVE;RSVP=TRUE;CN=akhtar:h
 ttp://njyp.org/profile/nasser
ATTENDEE;ROLE=REQ-PARTICIPANT;PARTSTAT=TENTATIVE;RSVP=TRUE;CN="Michael
  Roselle":http://njyp.org/profile/MichaelRoselle
ATTENDEE;ROLE=REQ-PARTICIPANT;PARTSTAT=TENTATIVE;RSVP=TRUE;CN="Dominic
 k Velardo":http://njyp.org/profile/DominickVelardo
ATTENDEE;ROLE=REQ-PARTICIPANT;PARTSTAT=TENTATIVE;RSVP=TRUE;CN=Rebecca:
 http://njyp.org/profile/Rebecca
ATTENDEE;ROLE=REQ-PARTICIPANT;PARTSTAT=TENTATIVE;RSVP=TRUE;CN="Kevin H
 aughwout":http://njyp.org/profile/KevinHaughwout
END:VEVENT
END:VCALENDAR
