BEGIN:VCALENDAR
PRODID:NingEventWidget-v1
VERSION:2.0
METHOD:PUBLISH
BEGIN:VTIMEZONE
TZID:America/New_York
X-LIC-LOCATION:America/New_York
BEGIN:DAYLIGHT
TZOFFSETFROM:-0500
TZOFFSETTO:-0400
TZNAME:EDT
DTSTART:19700308T020000
RRULE:FREQ=YEARLY;BYMONTH=3;BYDAY=2SU
END:DAYLIGHT
BEGIN:STANDARD
TZOFFSETFROM:-0400
TZOFFSETTO:-0500
TZNAME:EST
DTSTART:19701101T020000
RRULE:FREQ=YEARLY;BYMONTH=11;BYDAY=1SU
END:STANDARD
END:VTIMEZONE
BEGIN:VEVENT
UID:2938326:Event:576870
DTSTAMP:20260420T040917Z
SUMMARY:Spanish Speakers Dinner
DESCRIPTION:Hablen español con NJYP and break pan con us in downtown 
 New Brunswick as we chat over a tasty 2-course dinner. Not fluent? No 
 worries! All levels are welcome, from members learning to hold a basic
  conversation in Spanish to hablantes nativos. So don’t be shy and s
 trike up conversations with a small group of other YPs looking to have
  a good time in another language.  Who Can Attend: This event is for d
 ues paying Members only, http://www.njyp.org/page/pay-dues. Please do 
 not bring non-member friends or co-workers to this event.  Cost: $25 p
 er person, paid at the door. Cost includes 2 course dinner, tax, and t
 ip. Pay for drinks separately Menu, http://www.njyp.org/page/spanish-s
 peakers-dinner  Schedule: 7pm Meet at the bar, meet and greet 7:30 Sit
  for dinner  How to Find the Group: We will hang signs but also ask st
 aff for the NJYP reservation. Ed will be hosting.  Directions: http://
 www.oldmanraffertys.com/directions.htm Street or parking deck parking.
  Bring coins if you plan to try to find a street spot.\n\nFor more inf
 ormation visit http://njyp.org/events/spanish-speakers-dinner-3
DTSTART;TZID=America/New_York:20140722T190000
DTEND;TZID=America/New_York:20140722T220000
CATEGORIES:"middlesex county", social
LOCATION:Old Man Rafferty's
WEBSITE:http://www.oldmanraffertys.com/directions.htm
URL:http://www.oldmanraffertys.com/directions.htm
CONTACT:
ORGANIZER;CN="Brian and Mike":http://njyp.org/profile/BrianMike
ATTACH;FMTTYPE="image/jpeg":http://storage.ning.com/topology/rest/1.0/
 file/get/1088988189?profile=original
ATTENDEE;ROLE=REQ-PARTICIPANT;PARTSTAT=ACCEPTED;RSVP=TRUE;CN=Juli:http
 ://njyp.org/profile/Juli
ATTENDEE;ROLE=REQ-PARTICIPANT;PARTSTAT=ACCEPTED;RSVP=TRUE;CN=Jennifer:
 http://njyp.org/profile/Jennifer468
ATTENDEE;ROLE=REQ-PARTICIPANT;PARTSTAT=ACCEPTED;RSVP=TRUE;CN=Uri:http:
 //njyp.org/profile/Uri
ATTENDEE;ROLE=REQ-PARTICIPANT;PARTSTAT=ACCEPTED;RSVP=TRUE;CN=Arvin:htt
 p://njyp.org/profile/Arvin
ATTENDEE;ROLE=REQ-PARTICIPANT;PARTSTAT=ACCEPTED;RSVP=TRUE;CN="Ed H":ht
 tp://njyp.org/profile/EdH
ATTENDEE;ROLE=REQ-PARTICIPANT;PARTSTAT=TENTATIVE;RSVP=TRUE;CN=Javier:h
 ttp://njyp.org/profile/Javier
ATTENDEE;ROLE=REQ-PARTICIPANT;PARTSTAT=TENTATIVE;RSVP=TRUE;CN=Ivan:htt
 p://njyp.org/profile/Ivan236
END:VEVENT
END:VCALENDAR
