BEGIN:VCALENDAR
PRODID:NingEventWidget-v1
VERSION:2.0
METHOD:PUBLISH
BEGIN:VTIMEZONE
TZID:America/New_York
X-LIC-LOCATION:America/New_York
BEGIN:DAYLIGHT
TZOFFSETFROM:-0500
TZOFFSETTO:-0400
TZNAME:EDT
DTSTART:19700308T020000
RRULE:FREQ=YEARLY;BYMONTH=3;BYDAY=2SU
END:DAYLIGHT
BEGIN:STANDARD
TZOFFSETFROM:-0400
TZOFFSETTO:-0500
TZNAME:EST
DTSTART:19701101T020000
RRULE:FREQ=YEARLY;BYMONTH=11;BYDAY=1SU
END:STANDARD
END:VTIMEZONE
BEGIN:VEVENT
UID:2938326:Event:4196
DTSTAMP:20260420T042621Z
SUMMARY:Spanish Speakers Dinner
DESCRIPTION:Se hablas espanol? Then join us for this Spanish Speakers 
 Dinner. We will try to speak ONLY Spanish the entire night. But do not
  be afraid! All skill levels are invited to attend and the more advanc
 ed speakers will be there to help the beginners. The night is guarante
 ed to be filled with buena comida, personas fantasticas, y mucha diver
 sion!\n\nWho should attend:\nAnyone who is 21-39 years old.\nAll skill
  levels, whether you've been speaking Spanish since you were 2 or sinc
 e last semester. Please, serious RSVPs only though... you must have so
 me grasp of the language.\n\nSchedule:\n6:30 Meet and Greet at the Bar
 \n7:00 Group will be seated for dinner\n\nCost:\n$20 per person will i
 nclude a full meal, soda, tax, and tip!\nYou MUST RSVP (to the right) 
 if you wish to attend.\n\nHost:\nEd will be hosting this event.\n\nHow
  to find the group:\nAsk staff or look for signs.\nPlease be on time.\
 n\nFor more information visit http://njyp.org/events/spanish-speakers-
 dinner
DTSTART;TZID=America/New_York:20090623T183000
DTEND;TZID=America/New_York:20090623T203000
CATEGORIES:"middlesex county", social
LOCATION:Harvest Moon
WEBSITE:http://www.harvestmoonbrewery.com/
URL:http://www.harvestmoonbrewery.com/
CONTACT:
ORGANIZER;CN="Brian and Mike":http://njyp.org/profile/BrianMike
ATTACH;FMTTYPE="image/jpeg":http://storage.ning.com/topology/rest/1.0/
 file/get/1088532414?profile=original
ATTENDEE;ROLE=REQ-PARTICIPANT;PARTSTAT=ACCEPTED;RSVP=TRUE;CN="Chip Rob
 inson":http://njyp.org/profile/ChipRobinson
ATTENDEE;ROLE=REQ-PARTICIPANT;PARTSTAT=ACCEPTED;RSVP=TRUE;CN="james mi
 kusi":http://njyp.org/profile/jimbox
ATTENDEE;ROLE=REQ-PARTICIPANT;PARTSTAT=ACCEPTED;RSVP=TRUE;CN=Kathleen:
 http://njyp.org/profile/Kathleen463
ATTENDEE;ROLE=REQ-PARTICIPANT;PARTSTAT=ACCEPTED;RSVP=TRUE;CN="Fan Fan"
 :http://njyp.org/profile/FanFan
ATTENDEE;ROLE=REQ-PARTICIPANT;PARTSTAT=ACCEPTED;RSVP=TRUE;CN="Ed H":ht
 tp://njyp.org/profile/EdH
ATTENDEE;ROLE=REQ-PARTICIPANT;PARTSTAT=ACCEPTED;RSVP=TRUE;CN="ILIA ROM
 ERO":http://njyp.org/profile/ILIAROMERO
END:VEVENT
END:VCALENDAR
