BEGIN:VCALENDAR
PRODID:NingEventWidget-v1
VERSION:2.0
METHOD:PUBLISH
BEGIN:VTIMEZONE
TZID:America/New_York
X-LIC-LOCATION:America/New_York
BEGIN:DAYLIGHT
TZOFFSETFROM:-0500
TZOFFSETTO:-0400
TZNAME:EDT
DTSTART:19700308T020000
RRULE:FREQ=YEARLY;BYMONTH=3;BYDAY=2SU
END:DAYLIGHT
BEGIN:STANDARD
TZOFFSETFROM:-0400
TZOFFSETTO:-0500
TZNAME:EST
DTSTART:19701101T020000
RRULE:FREQ=YEARLY;BYMONTH=11;BYDAY=1SU
END:STANDARD
END:VTIMEZONE
BEGIN:VEVENT
UID:2938326:Event:327762
DTSTAMP:20260420T073826Z
SUMMARY:Spanish Speakers Happy Hour
DESCRIPTION:Come speak Spanish with us! All levels are encouraged to j
 oin us for a Thursday night Happy Hour. There will be drink and cheese
  plate specials that end at 7pm.  Who Can Attend: This will be a MEMBE
 RS ONLY event, aka you paid your Membership Dues. Please do not bring 
 non-member friends or co-worker to this event.  Host: Greg will be hos
 ting this event.  How to Find the Group: We will hang signs or you can
  ask staff but in general, meet us in the bar area.\n Directions: http
 ://www.tulalounge.com/\n\nFor more information visit http://njyp.org/e
 vents/spanish-speakers-happy-hour-12
DTSTART;TZID=America/New_York:20120322T180000
DTEND;TZID=America/New_York:20120322T200000
CATEGORIES:"middlesex county", social, members
LOCATION:Tula Lounge
WEBSITE:http://www.tulalounge.com/
URL:http://www.tulalounge.com/
CONTACT:
ORGANIZER;CN="Brian and Mike":http://njyp.org/profile/BrianMike
ATTACH;FMTTYPE="image/jpeg":http://storage.ning.com/topology/rest/1.0/
 file/get/1088681789?profile=original
ATTENDEE;ROLE=REQ-PARTICIPANT;PARTSTAT=ACCEPTED;RSVP=TRUE;CN=Oscar:htt
 p://njyp.org/profile/Oscar267
ATTENDEE;ROLE=REQ-PARTICIPANT;PARTSTAT=ACCEPTED;RSVP=TRUE;CN=Abraham:h
 ttp://njyp.org/profile/AbrahamAlvarez
ATTENDEE;ROLE=REQ-PARTICIPANT;PARTSTAT=ACCEPTED;RSVP=TRUE;CN="james mi
 kusi":http://njyp.org/profile/jimbox
ATTENDEE;ROLE=REQ-PARTICIPANT;PARTSTAT=ACCEPTED;RSVP=TRUE;CN="Lauren L
 audino":http://njyp.org/profile/LaurenLaudino
ATTENDEE;ROLE=REQ-PARTICIPANT;PARTSTAT=ACCEPTED;RSVP=TRUE;CN=Shashi:ht
 tp://njyp.org/profile/Shashi
ATTENDEE;ROLE=REQ-PARTICIPANT;PARTSTAT=TENTATIVE;RSVP=TRUE;CN=Rebecca:
 http://njyp.org/profile/Rebecca403
END:VEVENT
END:VCALENDAR
